BEGIN:VCALENDAR
VERSION:2.0
PRODID:-//Hobby Horsing Germany - ECPv6.15.20//NONSGML v1.0//EN
CALSCALE:GREGORIAN
METHOD:PUBLISH
X-ORIGINAL-URL:https://hobby-horsing-germany.de
X-WR-CALDESC:Veranstaltungen für Hobby Horsing Germany
REFRESH-INTERVAL;VALUE=DURATION:PT1H
X-Robots-Tag:noindex
X-PUBLISHED-TTL:PT1H
BEGIN:VTIMEZONE
TZID:Europe/Berlin
BEGIN:DAYLIGHT
TZOFFSETFROM:+0100
TZOFFSETTO:+0200
TZNAME:CEST
DTSTART:20250330T010000
END:DAYLIGHT
BEGIN:STANDARD
TZOFFSETFROM:+0200
TZOFFSETTO:+0100
TZNAME:CET
DTSTART:20251026T010000
END:STANDARD
BEGIN:DAYLIGHT
TZOFFSETFROM:+0100
TZOFFSETTO:+0200
TZNAME:CEST
DTSTART:20260329T010000
END:DAYLIGHT
BEGIN:STANDARD
TZOFFSETFROM:+0200
TZOFFSETTO:+0100
TZNAME:CET
DTSTART:20261025T010000
END:STANDARD
BEGIN:DAYLIGHT
TZOFFSETFROM:+0100
TZOFFSETTO:+0200
TZNAME:CEST
DTSTART:20270328T010000
END:DAYLIGHT
BEGIN:STANDARD
TZOFFSETFROM:+0200
TZOFFSETTO:+0100
TZNAME:CET
DTSTART:20271031T010000
END:STANDARD
END:VTIMEZONE
BEGIN:VEVENT
DTSTART;TZID=Europe/Berlin:20260913T080000
DTEND;TZID=Europe/Berlin:20260913T180000
DTSTAMP:20260420T093633
CREATED:20251105T170627Z
LAST-MODIFIED:20251105T170934Z
UID:5813-1789286400-1789322400@hobby-horsing-germany.de
SUMMARY:Hobby Horsing Landesmeisterschaft 2026 NRW
DESCRIPTION:Hobby Horsing Landesmeisterschaft Nordrhein-Westfalen 2026 \n\n\n\nVeranstalter:  Hobby Horsing Landesverband NRW e.V.. | E-Mail: hhlvnrw@e-mail.deAnsprechpartner: Gabriele MüllerNennschluss: 01. September 2026 \n\n\n\nTerminankündigung – Ausschreibung folgt später. \n\n\n\nHobby Horsing Germany sendet dir gerne eine Benachrichtigung\, sobald die Ausschreibung online ist. Klicke einfach auf den folgenden Button\, um dich anzumelden: \n\n\n\n\nBenachrichtigungsservice\n\n\n\n\n\n\n\n\nVoraussichtliche Wettbewerbe \n\n\n\n\nSpringen\n\n\n\nGelände\n\n\n\nDressur\n\n\n\nRahmenprogramm
URL:https://hobby-horsing-germany.de/event/hh-landesmeisterschaft-nrw/
LOCATION:Jabachhalle\, Jabachhalle\, Lohmar\, Nordrhein-Westfalen\, 53797\, Germany
CATEGORIES:Events & Turniere,Hobby Horse Veranstaltung,Nordrhein-Westfalen,Öffentliches Hobby Horse Turnier
END:VEVENT
BEGIN:VEVENT
DTSTART;TZID=Europe/Berlin:20260919T130000
DTEND;TZID=Europe/Berlin:20260920T180000
DTSTAMP:20260420T093633
CREATED:20260211T082811Z
LAST-MODIFIED:20260211T082814Z
UID:7889-1789822800-1789927200@hobby-horsing-germany.de
SUMMARY:Hobbyhorse Turnier "just fun" 2026 (SH)
DESCRIPTION:Öffentliches Hobby Horsing Turnier von Landesturnier Bad Segeberg – BesucherprogrammFür Kinder und Jugendliche ab 5 Jahren und nur mit Begleitung Erziehungsberechtigter. \n\n\n\nVeranstalter:  Landesturnier Bad Segeberg – BesucherprogrammE-Mail: tihoho@web.deAnsprechpartner: Charlotte HauptNennschluss: 15. September 2026 \n\n\n\nNennung: Info folgt \n\n\n\n\nAusschreibung folgt ab Juli 2026\n\n\n\n\n\n\n\n\nWettbewerbe: \n\n\n\n\nDressurkür\n\n\n\nKostümkür leicht / schwer mit Musik\n\n\n\nWestern-Freestyle\n\n\n\nSpielelandschaft\n\n\n\nInklusion\n\n\n\nSpringen \n\n\n\ndiv.\, Schnupperkurse\n\n\n\n\n\n\n\n\nWeitere Informationen: \n\n\n\nWettbewerbe teilweise ohne Wertung. Jeder Teilnehmer erhält einen Preis. Spaß und Mut haben steht im Vordergrund. Zusätzliches Gewinnspiel für alle Teilnehmer. Jeder Teilnehmer erhält eine Turnierschleife. Ein Wochenende für die ganze Familie. Viele Stände rund herum im Rahmen des Landesturniers Dressur und Springen Pferdeverband Schleswig-Holstein.
URL:https://hobby-horsing-germany.de/event/hobbyhorse-turnier-just-fun-2026-sh/
LOCATION:Landesturnierplatz\, Marienstraße 1\, Bad Segeberg\, Schleswig-Holstein\, 23795\, Germany
CATEGORIES:Events & Turniere,Hobby Horse Veranstaltung,Öffentliches Hobby Horse Turnier,Schleswig-Holstein
END:VEVENT
END:VCALENDAR