BEGIN:VCALENDAR
VERSION:2.0
PRODID:-//Hobby Horsing Germany - ECPv6.15.20//NONSGML v1.0//EN
CALSCALE:GREGORIAN
METHOD:PUBLISH
X-ORIGINAL-URL:https://hobby-horsing-germany.de
X-WR-CALDESC:Veranstaltungen für Hobby Horsing Germany
REFRESH-INTERVAL;VALUE=DURATION:PT1H
X-Robots-Tag:noindex
X-PUBLISHED-TTL:PT1H
BEGIN:VTIMEZONE
TZID:Europe/Berlin
BEGIN:DAYLIGHT
TZOFFSETFROM:+0100
TZOFFSETTO:+0200
TZNAME:CEST
DTSTART:20250330T010000
END:DAYLIGHT
BEGIN:STANDARD
TZOFFSETFROM:+0200
TZOFFSETTO:+0100
TZNAME:CET
DTSTART:20251026T010000
END:STANDARD
BEGIN:DAYLIGHT
TZOFFSETFROM:+0100
TZOFFSETTO:+0200
TZNAME:CEST
DTSTART:20260329T010000
END:DAYLIGHT
BEGIN:STANDARD
TZOFFSETFROM:+0200
TZOFFSETTO:+0100
TZNAME:CET
DTSTART:20261025T010000
END:STANDARD
BEGIN:DAYLIGHT
TZOFFSETFROM:+0100
TZOFFSETTO:+0200
TZNAME:CEST
DTSTART:20270328T010000
END:DAYLIGHT
BEGIN:STANDARD
TZOFFSETFROM:+0200
TZOFFSETTO:+0100
TZNAME:CET
DTSTART:20271031T010000
END:STANDARD
END:VTIMEZONE
BEGIN:VEVENT
DTSTART;TZID=Europe/Berlin:20260802T120000
DTEND;TZID=Europe/Berlin:20260808T120000
DTSTAMP:20260420T073832
CREATED:20260123T220448Z
LAST-MODIFIED:20260206T194853Z
UID:7262-1785672000-1786190400@hobby-horsing-germany.de
SUMMARY:DtHHV Hobby Horsing Trainingscamp (RLP)
DESCRIPTION:Hobby Horsing Trainingscamp 2026 des Deutschen Hobby Horsing Verband e. V. für bis zu 60 Kinder und Jugendliche  \n\n\n\nVeranstalter: Deutscher Hobby Horsing Verband e. V. Ansprechpartner: Tina Gardt | t.gardt@dthhv.deNennschluss: 20. Juni 2026 \n\n\n\nIm Camp erwartet die Teilnehmenden eine ausgewogene Mischung aus strukturiertem Training\, freier Bewegung\, Naturerlebnissen und echter Camp-Atmosphäre.Trainiert wird altersgerecht\, leistungsangepasst und mit viel Raum für persönliche Entwicklung. \n\n\n\nDas Trainingscamp richtet sich an Kinder und Jugendliche von 8 bis 18 Jahren –✔ Einsteigerinnen & Einsteiger✔ Fortgeschrittene Hobby Horser✔ Turnierinteressierte✔ Kinder\, die Sport\, Bewegung & Gemeinschaft lieben \n\n\n\n\n\n\n\n\n\n\n  😢\n  Leider ausgebucht
URL:https://hobby-horsing-germany.de/event/dthhv-hobby-horsing-trainingscamp-2026/
LOCATION:Westerwald-Jugendherberge Bad Marienberg\, Erlenweg 4\, Bad Marienberg\, Rheinland-Pfalz\, 56470\, Germany
CATEGORIES:Hobby Horse Veranstaltung,Hobby Horsing Event DtHHV,Rheinland-Pfalz
ATTACH;FMTTYPE=image/jpeg:https://hobby-horsing-germany.de/wp-content/uploads/2026/01/DtHHv-Trainingscamp-2026.jpeg
END:VEVENT
BEGIN:VEVENT
DTSTART;TZID=Europe/Berlin:20260809T170000
DTEND;TZID=Europe/Berlin:20260814T170000
DTSTAMP:20260420T073832
CREATED:20260106T112027Z
LAST-MODIFIED:20260121T215655Z
UID:6823-1786294800-1786726800@hobby-horsing-germany.de
SUMMARY:Hobby Horsing Ferien im Schwarzwald (BW)
DESCRIPTION:Öffentliches Hobby Horsing Ferienangebot in der DJH Fleinerhaus Todnauberg \n\n\n\nVeranstalter:  Tanja Kwiatkista | E-Mail: tanjakwiatkista@yahoo.comAnsprechpartner: Tanja Kwiatkista | 0157/32006007Nennschluss: 07. August 2026Altersbeschränkung: 9-15 Jahren \n\n\n\nNennung per E-Mail an tanjakwiatkista@yahoo.com \n\n\n\nBeschreibung \n\n\n\nHobby Horsing Ferien für Mädchen im Alter von mindestens 9 – 15 Jahren. \n\n\n\nErlebe eine spannende Woche mit vielen tollen Mädchen und Hobby Horses im wunderschönen Schwarzwald! \n\n\n\nUntergebracht sind wir in einer Traumhaften Lage im Fleinerhaus Todnauberg! \n\n\n\nWir werden viel Zeit in der Natur verbringen und gemeinsam spannende Dinge erleben:Ausflüge zu einer riesigen Hängebrücke und zu Wasserfällen\, „Geländeritte“ im Wald\, Bastel und mal-Projekte \, Nachtwanderungen\, Lagerfeuer\, Gemeinsames Picknick und witzige „Team Building“ spiele und natürlich jeden Tag Hobby Horsing Training mit Abschliessendem Turnier! \n\n\n\nBitte nach Möglichkeit eigenes Hobby Horse mit bringen\, sowie Bequeme Kleidung für drinnen und draußen\, Hausschuhe/dicke Socken\, Fesper Box\, Trinkflasche und einen Rucksack.Einige wunderschöne Pferde stellen wir zur Verfügung. \n\n\n\nDie Freizeit wird von Pädagogischem Fachpersonal im „1 zu 8 Betreungsschlüssel“ betreut:Wir haben über 30 Jahre Erfahrung in der Arbeit mit Kindern und Jugendlichen und zahlreiche Weiterbildungen im Bereich:Gesunde Bewegung\, Sport\, Tanz\, Entspannung\, Achtsame Kommunikation\, Teambuilding\, Entspannung und Erlebnispädagogik. \n\n\n\nBei Fragen gerne melden:0157-3200 600 7Tanja Kwiatkista
URL:https://hobby-horsing-germany.de/event/hh-ferien-bw/
LOCATION:DJH Fleinerhaus Todnauberg\, Radschertstrasse 12\, Todnauberg\, Baden-Württemberg\, 79674\, Germany
CATEGORIES:Baden-Württemberg,Hobby Horse Veranstaltung
ORGANIZER;CN="Tanja Kwiatkista":MAILTO:tanjakwiatkista@yahoo.com
END:VEVENT
BEGIN:VEVENT
DTSTART;TZID=Europe/Berlin:20260829T080000
DTEND;TZID=Europe/Berlin:20260830T180000
DTSTAMP:20260420T073832
CREATED:20260123T162004Z
LAST-MODIFIED:20260417T130315Z
UID:7232-1787990400-1788112800@hobby-horsing-germany.de
SUMMARY:Norddeutsche Meisterschaft (NI)
DESCRIPTION:Norddeutsche Hobby Horsing Meisterschaft des Hobby Horsing Landesverband Nord e. V. (HHLVN). \n\n\n\nVeranstalter: Hobby Horsing Landesverband (HHLVN) | E-Mail: s.wulf@hhlv-nord.deAnsprechpartner: Sabine Wulf | 0176/766 26 015Nennschluss: 08.08.2026 \n\n\n\n\nAusschreibung\n\n\n\n\n\n\n\n\nDie Nennung kann ausschließlich per Mail oder Postweg abgegeben werden. \n\n\n\n\nE-Mail Adresse: s.wulf@hhlv-nord.de \n\n\n\nPostanschrift: Hobby Horsing Landesverband Nord e. V.Pölitzer Weg 2623843 Bad Oldesloe
URL:https://hobby-horsing-germany.de/event/1-norddeutsche-meisterschaft/
LOCATION:WinArena\, Bürgerweide 7\, Winsen/Luhe\, Niedersachsen\, 21423\, Germany
CATEGORIES:Deutschland,Events & Turniere,Hobby Horse Veranstaltung,Niedersachsen,Öffentliches Hobby Horse Turnier
ATTACH;FMTTYPE=image/jpeg:https://hobby-horsing-germany.de/wp-content/uploads/2026/01/Flyer_Norddeutsche_Meisterschaft_HH-1.jpg
END:VEVENT
END:VCALENDAR