BEGIN:VCALENDAR
VERSION:2.0
PRODID:-//Hobby Horsing Germany - ECPv6.15.20//NONSGML v1.0//EN
CALSCALE:GREGORIAN
METHOD:PUBLISH
X-ORIGINAL-URL:https://hobby-horsing-germany.de
X-WR-CALDESC:Veranstaltungen für Hobby Horsing Germany
REFRESH-INTERVAL;VALUE=DURATION:PT1H
X-Robots-Tag:noindex
X-PUBLISHED-TTL:PT1H
BEGIN:VTIMEZONE
TZID:Europe/Berlin
BEGIN:DAYLIGHT
TZOFFSETFROM:+0100
TZOFFSETTO:+0200
TZNAME:CEST
DTSTART:20250330T010000
END:DAYLIGHT
BEGIN:STANDARD
TZOFFSETFROM:+0200
TZOFFSETTO:+0100
TZNAME:CET
DTSTART:20251026T010000
END:STANDARD
BEGIN:DAYLIGHT
TZOFFSETFROM:+0100
TZOFFSETTO:+0200
TZNAME:CEST
DTSTART:20260329T010000
END:DAYLIGHT
BEGIN:STANDARD
TZOFFSETFROM:+0200
TZOFFSETTO:+0100
TZNAME:CET
DTSTART:20261025T010000
END:STANDARD
BEGIN:DAYLIGHT
TZOFFSETFROM:+0100
TZOFFSETTO:+0200
TZNAME:CEST
DTSTART:20270328T010000
END:DAYLIGHT
BEGIN:STANDARD
TZOFFSETFROM:+0200
TZOFFSETTO:+0100
TZNAME:CET
DTSTART:20271031T010000
END:STANDARD
END:VTIMEZONE
BEGIN:VEVENT
DTSTART;TZID=Europe/Berlin:20260704T080000
DTEND;TZID=Europe/Berlin:20260704T180000
DTSTAMP:20260420T054155
CREATED:20260118T191531Z
LAST-MODIFIED:20260118T191544Z
UID:6967-1783152000-1783188000@hobby-horsing-germany.de
SUMMARY:Firecup 6.0 (BW)
DESCRIPTION:Öffentliches Hobby Horsing Turnier des SV Walddorf \n\n\n\nVeranstalter:  SV Walddorf | E-Mail: kerstin.fischer@svwalddorf.deAnsprechpartner: Kerstin Fischer Webseite: www.hobbyhorsing.appNennschluss: 04. Juni 2026 \n\n\n\nNennung ausschließlich online unter www.hobbyhorsing.app \n\n\n\n\nAusschreibung\n\n\n\n\n\n\n\n\nWettbewerbe: \n\n\n\n\nPunktespringen\n\n\n\nDressur Leicht\n\n\n\nDressur Schwer\n\n\n\nDressur U99 (ab 30 Jahre)\n\n\n\nZeitspringen – leicht (40 cm)\n\n\n\nZeitspringen – mittel (60 cm)\n\n\n\nStilspringen – leicht (40 cm)\n\n\n\nStilspringen – mittel (60 cm)\n\n\n\nMächtigkeitsspringen
URL:https://hobby-horsing-germany.de/event/firecup-6-0-bw/
LOCATION:Ballspielhalle Walddorfhäslach\, Weiherwiesen 2/2\, Walddorfhäslach\, Baden-Württemberg\, 72141\, Germany
CATEGORIES:Baden-Württemberg,Events & Turniere,Hobby Horse Veranstaltung,Öffentliches Hobby Horse Turnier
END:VEVENT
BEGIN:VEVENT
DTSTART;TZID=Europe/Berlin:20260705T100000
DTEND;TZID=Europe/Berlin:20260705T140000
DTSTAMP:20260420T054155
CREATED:20260329T154826Z
LAST-MODIFIED:20260329T155043Z
UID:8352-1783245600-1783260000@hobby-horsing-germany.de
SUMMARY:Hobby Horsing Trainingslager - Wettstetten (BY)
DESCRIPTION:Hobby Horsing Trainingslager des SV Wettstetten \n\n\n\nVeranstalter: SV Wettstetten | E-Mail: donauhobbyhorseturnier@gmail.comAnsprechpartner: Kristina Krutina | Tel.: 0176/63764326Nennschluss: 21. Juni 2026 \n\n\n\nAnmeldung: per Nennformular per E-Mail an donauhobbyhorseturnier@gmail.com \n\n\n\n\nInfo-Flyer\n\n\n\n\n\n\n\n\nProgramm: \n\n\n\nGrundlagen & Haltung\, Kraft- und Koordinationsübungen\, Springen\, Dressur\, Ausritt\, gemeinsames Pizza-Essen und Übernachtung in der Turnhalle\, professionelles Training.
URL:https://hobby-horsing-germany.de/event/hobby-horsing-trainingslager/
LOCATION:SV Wettstetten e.V.\, Am Sportplatz 1\, Wettstetten\, Bayern\, 85319\, Germany
CATEGORIES:Bayern,Events & Turniere,Hobby Horse Veranstaltung,Öffentliches Hobby Horse Turnier
END:VEVENT
END:VCALENDAR