BEGIN:VCALENDAR
VERSION:2.0
PRODID:-//Hobby Horsing Germany - ECPv6.15.20//NONSGML v1.0//EN
CALSCALE:GREGORIAN
METHOD:PUBLISH
X-ORIGINAL-URL:https://hobby-horsing-germany.de
X-WR-CALDESC:Veranstaltungen für Hobby Horsing Germany
REFRESH-INTERVAL;VALUE=DURATION:PT1H
X-Robots-Tag:noindex
X-PUBLISHED-TTL:PT1H
BEGIN:VTIMEZONE
TZID:Europe/Berlin
BEGIN:DAYLIGHT
TZOFFSETFROM:+0100
TZOFFSETTO:+0200
TZNAME:CEST
DTSTART:20250330T010000
END:DAYLIGHT
BEGIN:STANDARD
TZOFFSETFROM:+0200
TZOFFSETTO:+0100
TZNAME:CET
DTSTART:20251026T010000
END:STANDARD
BEGIN:DAYLIGHT
TZOFFSETFROM:+0100
TZOFFSETTO:+0200
TZNAME:CEST
DTSTART:20260329T010000
END:DAYLIGHT
BEGIN:STANDARD
TZOFFSETFROM:+0200
TZOFFSETTO:+0100
TZNAME:CET
DTSTART:20261025T010000
END:STANDARD
BEGIN:DAYLIGHT
TZOFFSETFROM:+0100
TZOFFSETTO:+0200
TZNAME:CEST
DTSTART:20270328T010000
END:DAYLIGHT
BEGIN:STANDARD
TZOFFSETFROM:+0200
TZOFFSETTO:+0100
TZNAME:CET
DTSTART:20271031T010000
END:STANDARD
END:VTIMEZONE
BEGIN:VEVENT
DTSTART;TZID=Europe/Berlin:20260606T080000
DTEND;TZID=Europe/Berlin:20260606T200000
DTSTAMP:20260420T035354
CREATED:20251212T101842Z
LAST-MODIFIED:20251212T101845Z
UID:6568-1780732800-1780776000@hobby-horsing-germany.de
SUMMARY:Europameisterschaft im Hobby Horsing (International)
DESCRIPTION:First European Hobby Horse Championship – 06.06.2026 in Prag \n\n\n\nVeranstalter: IHHF (International Hobbyhorse Federation Ansprechpartner in DE: DtHHV & GHHA-LVMD \n\n\n\nAm 06.06.2026 findet in Prag findet erstmals die European Hobby Horse Championship statt. Damit bekommt unser noch junger\, aber rasant wachsende Sport eine offizielle europäische Meisterschaft mit internationaler Beteiligung. \n\n\n\nInformationen\, Wettbewerbe & Ausschreibungen findest du in unserem Online-Blog. Wir aktualisieren die Seite umgehend\, sobald neue Infos bekannt werden. -> EM Newsticker
URL:https://hobby-horsing-germany.de/event/event-europameisterschaft-im-hobby-horsing/
LOCATION:European Hobby Horse Championship\, Prag\, 10100\, Czech Republic
CATEGORIES:Events & Turniere,Hobby Horse Veranstaltung,Öffentliches Hobby Horse Turnier
ATTACH;FMTTYPE=image/jpeg:https://hobby-horsing-germany.de/wp-content/uploads/2025/12/EM-in-Prag_2026-1-scaled.jpeg
END:VEVENT
BEGIN:VEVENT
DTSTART;TZID=Europe/Berlin:20260606T090000
DTEND;TZID=Europe/Berlin:20260606T170000
DTSTAMP:20260420T035354
CREATED:20260320T134422Z
LAST-MODIFIED:20260320T134425Z
UID:8216-1780736400-1780765200@hobby-horsing-germany.de
SUMMARY:Kinderfahrturnier mit Qualifikation Hobby Horsing-Cup
DESCRIPTION:Öffentliches Hobby Horsing Turnier des Kutscherclub e.V. & Märkischer Reit- und Fahrverein Nunsdorf e.V. \n\n\n\nVeranstalter:  Kutscherclub e.V. & Märkischer Reit- und Fahrverein Nunsdorf e.V.Ansprechpartner: Ronny Trepnau | info@kutscherclub.deTelefon: 0173 6196 720Nennschluss: 05. Juni 2026 \n\n\n\n\n\n\n\n\n\n\n\n\nAusschreibung PDF\n\n\n\nAusschreibung ScoreFlow\n\n\n\n\n\n\n\n\nWettbewerbe: \n\n\n\n\nHobby Horsing Dressur (DHH1 – WB910)-> Aufgabe\n\n\n\nZeitspringen (WB915) \n\n\n\nHobby Horsing Cup – Jump an Drive\n\n\n\n\nWBO Turnier: Informationen und die Dressur-Aufgabe findest du im Hobby Horsing Magazin
URL:https://hobby-horsing-germany.de/event/kinderfahrturnier/
LOCATION:Kutscherclub e.V.\, Kreuzweg 1\, Nunsdorf\, Brandenburg\, 15806\, Germany
CATEGORIES:Brandenburg,Events & Turniere,Hobby Horse Veranstaltung,Öffentliches Hobby Horse Turnier
ATTACH;FMTTYPE=image/jpeg:https://hobby-horsing-germany.de/wp-content/uploads/2026/03/Nunsdorf.jpg
END:VEVENT
BEGIN:VEVENT
DTSTART;TZID=Europe/Berlin:20260606T120000
DTEND;TZID=Europe/Berlin:20260606T160000
DTSTAMP:20260420T035354
CREATED:20260114T130202Z
LAST-MODIFIED:20260114T130206Z
UID:6892-1780747200-1780761600@hobby-horsing-germany.de
SUMMARY:Erzgebirgsspiele im Hobby Horse 2026 (SN)
DESCRIPTION:Öffentliche Hobby Horsing Veranstaltung des Reit- & Fahrverein Eibenstock 1930 e.V. \n\n\n\nVeranstalter:  Reit- & Fahrverein Eibenstock 1930 e.V. | E-Mail: qni@freenet.deAnsprechpartner: Sven Kunath | 0172/4095752Nennschluss: 30. Mai 2026 \n\n\n\nNennung per E-Mail oder Nennformular von unserer Webseite \n\n\n\nWebseite: https://rfv-eibenstock1930.wixsite.com/eibenstockInstagram: https://www.instagram.com/reitverein.eibenstock/ \n\n\n\nTerminankündigung:Die Ausschreibung folgt zu einem späteren Zeitpunkt. Gerne informieren wir dich\, sobald sie veröffentlicht wurde. \n\n\n\n\nFür den kostenlosen Benachrichtigungsservice eintragen \n\n\n\n\n\n\n\n\nWettbewerbe: \n\n\n\n\nZeitspringen\n\n\n\nGeschicklichkeit\n\n\n\nDressur
URL:https://hobby-horsing-germany.de/event/erzgebirgsspiele-hobby-horse-2026/
LOCATION:Reit- & Sporthotel Eibenstock\, Gerstenbergweg\, 5\, Eibenstock\, Sachsen\, 08309\, Germany
CATEGORIES:Events & Turniere,Hobby Horse Veranstaltung,Öffentliches Hobby Horse Turnier,Sachsen
ORGANIZER;CN="Reit- und Fahrverein Eibenstock 1930 e. V.":MAILTO:rfv-eibenstock1930@freenet.de
END:VEVENT
BEGIN:VEVENT
DTSTART;TZID=Europe/Berlin:20260613T083000
DTEND;TZID=Europe/Berlin:20260613T160000
DTSTAMP:20260420T035354
CREATED:20260211T073410Z
LAST-MODIFIED:20260211T123921Z
UID:7868-1781339400-1781366400@hobby-horsing-germany.de
SUMMARY:MM-Cup 4.0 (BW)
DESCRIPTION:Öffentliches Hobby Horsing Turnier des SKV Eningen \n\n\n\nVeranstalter:  SKV Eningen | E-Mail: starymiriam@gmail.comAnsprechpartner: Miriam Stary | 01590/1813901Nennschluss: 01. Mai 2026 \n\n\n\nNennung mit dem Nennformular per E-Mail an starymiriam@gmail.com \n\n\n\n\nAusschreibung\n\n\n\nNennformular\n\n\n\n\n\n\n\n\nWettbewerbe \n\n\n\n\nStilspringen A U12\n\n\n\nZeitspringen A U12\n\n\n\nStilspringen M\n\n\n\nZeitspringen M\n\n\n\nAktionsparcours U12\n\n\n\nAktionsparcours\n\n\n\nMächtigkeitsspringen\n\n\n\nDressur S\n\n\n\n\n\n\n\n\n\nFlyer herunterladen
URL:https://hobby-horsing-germany.de/event/mm-cup-4-0-bw/
LOCATION:SKV Halle\, Eningen\, Geißbergstraße 36\, Eningen unter Achalm\, Baden-Württemberg\, 72800\, Germany
CATEGORIES:Baden-Württemberg,Events & Turniere,Hobby Horse Veranstaltung,Öffentliches Hobby Horse Turnier
ATTACH;FMTTYPE=image/jpeg:https://hobby-horsing-germany.de/wp-content/uploads/2026/02/Flyer_MM-Cup-4.0.jpg
END:VEVENT
BEGIN:VEVENT
DTSTART;TZID=Europe/Berlin:20260613T090000
DTEND;TZID=Europe/Berlin:20260613T170000
DTSTAMP:20260420T035354
CREATED:20260211T075042Z
LAST-MODIFIED:20260312T193848Z
UID:7877-1781341200-1781370000@hobby-horsing-germany.de
SUMMARY:Hobby Horse Turnier preußisch Oldendorf (NRW)
DESCRIPTION:Öffentliches Hobby Horsing Turnier preußisch Oldendorf \n\n\n\nVeranstalter:  Katrin Zeh | E-Mail: zehkatrin28@gmail.comAnsprechpartner: Katrin Zeh | Nennschluss: 10. Juni 2026 \n\n\n\nNennung per QR-Code \n\n\n\n\nAusschreibung und weitere Infos folgen\n\n\n\n\n\n\n\n\nWettbewerbe: \n\n\n\n\nPass de deux\, S-Dressur\n\n\n\nMächtigkeitsspringen\n\n\n\nBarrel Racing\n\n\n\nSpringreiter 20-30cm\n\n\n\nE-Zeit-Springen 40cm\n\n\n\nA-Stil-Springen 50cm\n\n\n\nA-Zeit-Springen 50cm\n\n\n\nL-Zeit-Springen 60cm\n\n\n\nS-Stil-Springen 80-90cm\n\n\n\nGelandespringen.
URL:https://hobby-horsing-germany.de/event/hobby-horse-turnier-preussisch-oldendorf-nrw/
LOCATION:Privatgelände\, Im Holz 9\, preußisch Oldendorf\, Nordrhein-Westfalen\, 32361\, Germany
CATEGORIES:Events & Turniere,Hobby Horse Veranstaltung,Nordrhein-Westfalen,Öffentliches Hobby Horse Turnier
END:VEVENT
BEGIN:VEVENT
DTSTART;TZID=Europe/Berlin:20260614T090000
DTEND;TZID=Europe/Berlin:20260614T160000
DTSTAMP:20260420T035354
CREATED:20260324T213409Z
LAST-MODIFIED:20260326T184834Z
UID:8280-1781427600-1781452800@hobby-horsing-germany.de
SUMMARY:2. Donau Hobby Horse Tag (BY)
DESCRIPTION:2. Donau Hobby Horse Tag beim SV Wettstetten e.V. ab 6 Jahren.  \n\n\n\nVeranstalter:  Kristina Krutina | E-Mail: donauhobbyhorseturnier@gmail.comAnsprechpartner: Kristina Krutina | 017663764326 \n\n\n\nNennung per E-Mail an donauhobbyhorseturnier@gmail.com oder WhatsApp Tel.: 017663764326 \n\n\n\n\nFlyer\n\n\n\n\n\n\n\n\nProgramm: \n\n\n\n\nSchnupperkurs & Turniervorbereitung\n\n\n\nGrundlagen\, Bahnlektionen\n\n\n\nDressur\, Zeit- und Stilspringen\n\n\n\nAusritt\n\n\n\nAbschlussturnier – von Anfänger bis Profi alle herzlich willkommen
URL:https://hobby-horsing-germany.de/event/2-donau-hobby-horse-tag-beim-sv-wettstetten/
LOCATION:SV Wettstetten e.V.\, Am Sportplatz 1\, Wettstetten\, Bayern\, 85319\, Germany
CATEGORIES:Bayern,Events & Turniere,Hobby Horse Veranstaltung
END:VEVENT
BEGIN:VEVENT
DTSTART;TZID=Europe/Berlin:20260620T080000
DTEND;TZID=Europe/Berlin:20260620T170000
DTSTAMP:20260420T035354
CREATED:20260114T141732Z
LAST-MODIFIED:20260409T162516Z
UID:6900-1781942400-1781974800@hobby-horsing-germany.de
SUMMARY:6. FABLEHORSE-Cup (BY)
DESCRIPTION:Öffentliches Hobby Horsing Turnier von FABLEHORSE München \n\n\n\nVeranstalter: FABLEHORSE München | E-Mail: info@fablehorse.comAnsprechpartner: Ria Koch | Tel.: 0160/5414415Webseite: www.fablehorse.comInstagram: @fablehorse \n\n\n\nNennschluss: 17. Mai 2026 \n\n\n\n\nAusschreibung & Nennformular\n\n\n\n\n\n\n\n\n\n\n\n\nVoraussichtliche Wettbewerbe: \n\n\n\n\n1. Reiterwettbewerb\n\n\n\n2. Zeitspringen E (20–30 cm)\n\n\n\n3. Dressur Leicht\n\n\n\n4. Dressur Mittel\n\n\n\n5. Dressur Schwer\n\n\n\n6. Zeitspringen Leicht (40–50 cm)\n\n\n\n7. Zeitspringen Mittel (60 cm)\n\n\n\n8. Zeitspringen Schwer (70–80 cm)\n\n\n\n9. Stilspringen Mittel (max. 60 cm)\n\n\n\n10. Stilspringen Schwer (max. 80 cm)\n\n\n\n11. Glücksspringen (50 cm)\n\n\n\n12. Hobby Horse Hochsprung (ab 80 cm)\n\n\n\n13. Synchronspringen (2 Reiter / max. 40 cm)
URL:https://hobby-horsing-germany.de/event/fablehorse-cup-2026/
LOCATION:MTV München von 1879 e.V\, Häberlstraße 11b /Nähe Goetheplatz\, München\, Bayern\, 80337\, Germany
CATEGORIES:Bayern,Events & Turniere,Hobby Horse Veranstaltung,Öffentliches Hobby Horse Turnier
ATTACH;FMTTYPE=image/jpeg:https://hobby-horsing-germany.de/wp-content/uploads/2026/01/Fablehorse_Logo.jpg
END:VEVENT
BEGIN:VEVENT
DTSTART;TZID=Europe/Berlin:20260620T080000
DTEND;TZID=Europe/Berlin:20260620T180000
DTSTAMP:20260420T035354
CREATED:20251105T165206Z
LAST-MODIFIED:20251105T165212Z
UID:5806-1781942400-1781978400@hobby-horsing-germany.de
SUMMARY:HH-Qualifikationsturnier für die Landesmeisterschaft NRW
DESCRIPTION:Hobby Horsing Qualifikationsturnier für die Landesmeisterschaft Nordrhein-Westfalen 2026 \n\n\n\nVeranstalter:  Hobby Horsing Landesverband NRW e.V.. | E-Mail: hhlvnrw@e-mail.deAnsprechpartner: Gabriele MüllerNennschluss: 10. Juni 2026 \n\n\n\nTerminankündigung – Ausschreibung folgt später. \n\n\n\nHobby Horsing Germany sendet dir gerne eine Benachrichtigung\, sobald die Ausschreibung online ist. Klicke einfach auf den folgenden Button\, um dich anzumelden: \n\n\n\n\nBenachrichtigungsservice\n\n\n\n\n\n\n\n\nVoraussichtliche Wettbewerbe \n\n\n\n\nSpringen\n\n\n\nGelände\n\n\n\nDressur\n\n\n\nRahmenprogramm
URL:https://hobby-horsing-germany.de/event/quali-landesmeisterschaft-nrw/
LOCATION:Hobby Horsing Landesverband NRW e.V.\, Im Forum 1\, Lohmar OT Wahlscheid\, Nordrhein-Westfalen\, 53797\, Germany
CATEGORIES:Events & Turniere,Hobby Horse Veranstaltung,Nordrhein-Westfalen,Öffentliches Hobby Horse Turnier
END:VEVENT
BEGIN:VEVENT
DTSTART;TZID=Europe/Berlin:20260620T090000
DTEND;TZID=Europe/Berlin:20260621T180000
DTSTAMP:20260420T035354
CREATED:20260106T120924Z
LAST-MODIFIED:20260329T133904Z
UID:6835-1781946000-1782064800@hobby-horsing-germany.de
SUMMARY:Mittsommer Cup (SH)
DESCRIPTION:Öffentliches Hobby Horsing Turnier in Tornesch des TuS Esingen e.V. \n\n\n\nVeranstalter: TuS Esingen e.V. | E-Mail: hobbyhorsing@tus-esingen.deWebseite: www.tus-esingen.de/abteilungen/hobby-horse.htmlInstagram: @tusesingen_hobbyhorseAnsprechpartner: Melanie Range\, Ann Christin Jensen | hobbyhorsing@tus-esingen.deNennschluss: 09. Mai 2026 \n\n\n\nWettbewerbe: \n\n\n\n\nStilspringen\n\n\n\nFehler/Zeitspringen\n\n\n\nIdeal- und Punktespringen\n\n\n\nJuniorwettbewerbe\n\n\n\nDressur L-S\n\n\n\nDressurküren L-S\n\n\n\nBarrierespringen & Jump&Run bei der „Night of the Jumps“\n\n\n\n\nWeitere Hinweise:  \n\n\n\nCafeteria und Verkaufsstände vor Ort\, am Abend alkoholfreie Cocktailbar von unserer Jugend. \n\n\n\n\nAusschreibung\n\n\n\nNennformular\n\n\n\n\n\n\n\n\n\nFlyer herunterladen und teilen
URL:https://hobby-horsing-germany.de/event/mittsommer-cup-sh/
LOCATION:3-Felder Sporthalle\, Neue KGST-Halle\, KLaus-Groth-Str. 11\, Tornesch\, Schleswig-Holstein\, 25436\, Germany
CATEGORIES:Events & Turniere,Hobby Horse Veranstaltung,Öffentliches Hobby Horse Turnier,Schleswig-Holstein
ATTACH;FMTTYPE=image/png:https://hobby-horsing-germany.de/wp-content/uploads/2026/01/Flyer-Mittsommer.png
ORGANIZER;CN="TuS Esingen e. V.":MAILTO:hobbyhorsing@tus-esingen.de
END:VEVENT
BEGIN:VEVENT
DTSTART;TZID=Europe/Berlin:20260627T090000
DTEND;TZID=Europe/Berlin:20260627T130000
DTSTAMP:20260420T035354
CREATED:20260312T192929Z
LAST-MODIFIED:20260312T192935Z
UID:8150-1782550800-1782565200@hobby-horsing-germany.de
SUMMARY:Western Workshop mit Abschluss-Wettbewerb (BW)
DESCRIPTION:Hobby Horsing Western-Workshop  \n\n\n\nVeranstalter: Freiburger Turnerschaft (ft1844) | E-Mail: tanjakwiatkista@yahoo.comAnsprechpartner: Tanja Kwiatkista | 0173/8201360Nennschluss: 19. Juni 2026Anmeldung über die FT1844; bei Fragen zur Online Anmeldung: 0157 3200 600 7 \n\n\n\nAltersbegrenzung: ab 8 Jahren bis 21 Jahren. \n\n\n\n\n\n\n\nProgramm:Working Equitation und weitere\, die am Samstags Workshop – je nach eurem Interesse ausgewählt werden.Anmerkungen: Bitte Trinkflasche mit bringen\, sowie Vesper für die Pausen und bequeme Bekleidung für drinnen und draussen\, auch Hallenschuhe/Schläppchen und gerne eine leckerei zum teilen für das gemeinsame Picknik!
URL:https://hobby-horsing-germany.de/event/western-workshop-freiburg/
LOCATION:Sportpark Ft1844\, Act now Halle\, Raum: Neuer Fitnessraum\, Schwarzwaldstrasse 181\, Freiburg-Littenweiler\, Baden-Württemberg\, 79117\, Germany
CATEGORIES:Baden-Württemberg,Events & Turniere,Hobby Horse Veranstaltung,Workshops und Seminare
END:VEVENT
BEGIN:VEVENT
DTSTART;TZID=Europe/Berlin:20260627T090000
DTEND;TZID=Europe/Berlin:20260627T160000
DTSTAMP:20260420T035354
CREATED:20260325T105606Z
LAST-MODIFIED:20260329T140301Z
UID:8293-1782550800-1782576000@hobby-horsing-germany.de
SUMMARY:5. Fountain Cup (BW)
DESCRIPTION:Öffentliches Hobby Horsing Turnier des RFV Pfullendorf Brunnhausen \n\n\n\nVeranstalter:  RFV Pfullendorf Brunnhausen | E-Mail: dreamcatcher301@gmx.deAnsprechpartner: Lenya Mülherr | 01623326469Nennschluss: 06. Juni 2026 \n\n\n\nNennung per E-Mail an dreamcatcher301@gmx.de \n\n\n\n\nAusschreibung\n\n\n\n\n\n\n\n\nWettbewerbe: \n\n\n\n\nDressur\n\n\n\nZeitspringen\n\n\n\nStilspringen\n\n\n\nTonnenrennen
URL:https://hobby-horsing-germany.de/event/5-fountain-cup/
LOCATION:Reit und Fahrverein Pfullendorf Brunnhausen\, Brunnhausen 15\, Pfullendorf Brunnhausen\, Baden-Württemberg\, 88630\, Germany
CATEGORIES:Baden-Württemberg,Events & Turniere,Hobby Horse Veranstaltung,Öffentliches Hobby Horse Turnier
END:VEVENT
BEGIN:VEVENT
DTSTART;TZID=Europe/Berlin:20260627T100000
DTEND;TZID=Europe/Berlin:20260627T153000
DTSTAMP:20260420T035354
CREATED:20260417T125636Z
LAST-MODIFIED:20260417T130143Z
UID:8414-1782554400-1782574200@hobby-horsing-germany.de
SUMMARY:Hobby Horse Tag 2026 (SH)
DESCRIPTION:Öffentliches Hobby Horsing Turnier in Niebüll \n\n\n\nVeranstalter:  TSV RW Niebüll e.V. | E-Mail: hobby-horsing-niebuell@web.deAnsprechpartner: Sabine Wulf | 0176/76626015Webseite: www.tsv-rw-niebuell.deInstagram: @HobbyHorsingNiebüllNennschluss: 06. Juni 2026 \n\n\n\nNennung über das Nennformular per Post\, Mail\, Whats App (bitte keine Fotos) \n\n\n\n\nAusschreibung\n\n\n\nNennformular\n\n\n\n\n\n\n\n\nWettbewerbe: \n\n\n\n\nZeitspringen\n\n\n\nMannschafts Springen\n\n\n\nSynchron Zeitspringen\n\n\n\nClear Round Springen
URL:https://hobby-horsing-germany.de/event/hobby-horse-tag-2026/
LOCATION:TSV Niebüll – Sportplatz ggf. Turnhalle\, Gotteskoogstraße 50\, Niebüll\, Schleswig-Holstein\, 25899\, Germany
END:VEVENT
BEGIN:VEVENT
DTSTART;TZID=Europe/Berlin:20260627T100000
DTEND;TZID=Europe/Berlin:20260627T170000
DTSTAMP:20260420T035354
CREATED:20260329T145409Z
LAST-MODIFIED:20260329T150853Z
UID:8336-1782554400-1782579600@hobby-horsing-germany.de
SUMMARY:Kinder- und Jugendsportspiele 2026 (BB)
DESCRIPTION:Hobby Horsing Ausschreibung – Kinder- und Jugendsportspiele 2026 \n\n\n\nVeranstalter: Märkischer Turnerbund Brandenburg (MTB)Ansprechpartner: Martina Schünemann | Tel.: 0331 866 3689Nennschluss: 15. Juni 2026 \n\n\n\n\nAusschreibung\n\n\n\n\n\n\n\n\n\n\n\n\n\n\n\n\nWettbewerbe: \n\n\n\n\nGrundschul-Cup\, Springen max. 60 cm\n\n\n\nKita-Cup Springen\, max. 30 cm\n\n\n\nVereins-Cup Springen\, max. 40 cm\n\n\n\nKita Einzelwettbewerb\, max. 30 cm\n\n\n\nSpringen für Einsteiger\, max. 50 cm\n\n\n\nSpringen für Fortgeschrittene\, max. 70 cm\n\n\n\nSynchronspringen\, max. 40 cm\n\n\n\nMächtigkeitsspringen\, Einstiegshöhe 50 cm
URL:https://hobby-horsing-germany.de/event/kinder-und-jugendsportspiele-mtb/
LOCATION:Märkischer Turnerbund Brandenburg (MTB)\, Sportplatz des von-Saldern-Gymnasiums\, Wiesenweg 6\, Brandenburg an der Havel\, Brandenburg\, 14776\, Germany
CATEGORIES:Brandenburg,Events & Turniere,Hobby Horse Veranstaltung,Öffentliches Hobby Horse Turnier
ATTACH;FMTTYPE=image/png:https://hobby-horsing-germany.de/wp-content/uploads/2026/03/MTB-Logo_4mm-Rand-scaled.png
END:VEVENT
END:VCALENDAR