BEGIN:VCALENDAR
VERSION:2.0
PRODID:-//Hobby Horsing Germany - ECPv6.15.20//NONSGML v1.0//EN
CALSCALE:GREGORIAN
METHOD:PUBLISH
X-WR-CALNAME:Hobby Horsing Germany
X-ORIGINAL-URL:https://hobby-horsing-germany.de
X-WR-CALDESC:Veranstaltungen für Hobby Horsing Germany
REFRESH-INTERVAL;VALUE=DURATION:PT1H
X-Robots-Tag:noindex
X-PUBLISHED-TTL:PT1H
BEGIN:VTIMEZONE
TZID:Europe/Berlin
BEGIN:DAYLIGHT
TZOFFSETFROM:+0100
TZOFFSETTO:+0200
TZNAME:CEST
DTSTART:20250330T010000
END:DAYLIGHT
BEGIN:STANDARD
TZOFFSETFROM:+0200
TZOFFSETTO:+0100
TZNAME:CET
DTSTART:20251026T010000
END:STANDARD
BEGIN:DAYLIGHT
TZOFFSETFROM:+0100
TZOFFSETTO:+0200
TZNAME:CEST
DTSTART:20260329T010000
END:DAYLIGHT
BEGIN:STANDARD
TZOFFSETFROM:+0200
TZOFFSETTO:+0100
TZNAME:CET
DTSTART:20261025T010000
END:STANDARD
BEGIN:DAYLIGHT
TZOFFSETFROM:+0100
TZOFFSETTO:+0200
TZNAME:CEST
DTSTART:20270328T010000
END:DAYLIGHT
BEGIN:STANDARD
TZOFFSETFROM:+0200
TZOFFSETTO:+0100
TZNAME:CET
DTSTART:20271031T010000
END:STANDARD
END:VTIMEZONE
BEGIN:VEVENT
DTSTART;TZID=Europe/Berlin:20260315T080000
DTEND;TZID=Europe/Berlin:20260315T173000
DTSTAMP:20260419T230806
CREATED:20260118T194805Z
LAST-MODIFIED:20260118T194808Z
UID:6982-1773561600-1773595800@hobby-horsing-germany.de
SUMMARY:5. Poxis Cup (BY)
DESCRIPTION:Öffentliches Hobby Horsing Turnier des VuPSG Poxdorf e.V. \n\n\n\nVeranstalter:  VuPSG Poxdorf e.V. | E-Mail: hobbyhorse_poxdorf@gmx.deAnsprechpartner: Jana DörrWebseite: www.voltigieren-poxdorf.deInstagram: instagram.com/vupsg_poxdorf_evNennschluss: 28. Februar 2026 \n\n\n\nNennung ausschließlich online  \n\n\n\n\nAusschreibung n. V.\n\n\n\nOnline Nennung\n\n\n\n\n\n\n\n\nWettbewerbe: \n\n\n\n\nZeitspringen\n\n\n\nStilspringen\n\n\n\nDressur\n\n\n\nWestern\n\n\n\nund weitere Sonderprüfungen
URL:https://hobby-horsing-germany.de/event/5-poxis-cup/
LOCATION:Turnhalle\, Bodenschatzstr. 9\, Baiersdorf\, Bayern\, 91083\, Germany
CATEGORIES:Bayern,Events & Turniere,Hobby Horse Veranstaltung,Öffentliches Hobby Horse Turnier
ATTACH;FMTTYPE=image/jpeg:https://hobby-horsing-germany.de/wp-content/uploads/2026/01/Flyer-5.-Poxis-Cup.jpg
END:VEVENT
BEGIN:VEVENT
DTSTART;TZID=Europe/Berlin:20260315T093000
DTEND;TZID=Europe/Berlin:20260315T170000
DTSTAMP:20260419T230806
CREATED:20260118T201144Z
LAST-MODIFIED:20260120T173948Z
UID:6992-1773567000-1773594000@hobby-horsing-germany.de
SUMMARY:Magni-Cup 5.0 (NI)
DESCRIPTION:Öffentliches Hobby Horsing Turnier von Constanze Richter \n\n\n\nVeranstalter:  Constanze Richter | E-Mail: schatzkaestchen_hobbyhorsing@web.deAnsprechpartner: Constanze Richter | 0173/8201360Instagram: kht_hh_skNennschluss: 22. Februar 2026 \n\n\n\nNennung mit dem Nennformular per E-Mail an schatzkaestchen_hobbyhorsing@web.de \n\n\n\n\nAusschreibung\n\n\n\nNennformular\n\n\n\n\n\n\n\n\nWettbewerbe: \n\n\n\n\nHamsterspringen\n\n\n\nJump and Run\n\n\n\nKnock Out\n\n\n\nBarrel Racing
URL:https://hobby-horsing-germany.de/event/magni-cup-5-0/
LOCATION:Ottmerhalle Braunschweig\, Kurt-Schumacher-Str. 28\, Braunschweig\, Niedersachsen\, 38102\, Germany
CATEGORIES:Events & Turniere,Hobby Horse Veranstaltung,Niedersachsen,Öffentliches Hobby Horse Turnier
ORGANIZER;CN="Constanze Richter":MAILTO:schatzkaestchen_hobbyhorsing@web.de
END:VEVENT
BEGIN:VEVENT
DTSTART;TZID=Europe/Berlin:20260315T093000
DTEND;TZID=Europe/Berlin:20260315T180000
DTSTAMP:20260419T230806
CREATED:20260118T193420Z
LAST-MODIFIED:20260118T193423Z
UID:6972-1773567000-1773597600@hobby-horsing-germany.de
SUMMARY:1. Quellenhof Hobby Horsing Cup (BW)
DESCRIPTION:Öffentliches Hobby Horsing Turnier des RSV Quellenhof e.V. \n\n\n\nVeranstalter:  RSV Quellenhof e.V. | E-Mail: quellenhof@simonawinter.deAnsprechpartner: Simona Winter | 0177/2726921Webseite: www.simonawinter.de/quellenhof-hobby-horsing/Nennschluss: 01. März 2026 \n\n\n\nNennung mit dem Nennformular per E-Mail an quellenhof@simonawinter.de \n\n\n\n\nAusschreibung\n\n\n\nNennformular\n\n\n\n\n\n\n\n\nWettbewerbe: \n\n\n\n\nReiterwettbewerb\n\n\n\nDressur leicht\n\n\n\nDressur mittel\n\n\n\nSpringeiterwettbewerb\n\n\n\nSpringen leicht\n\n\n\nSpringen mittel\n\n\n\nIndoor Geländeprüfung\n\n\n\nevtl. Mächtigkeitsspringen\n\n\n\n\nEs wird nach Altersklassen unterteilt. min. 6 Anmeldungen pro Prüfung sonst kann außer Konkurrenz gestartet werden.
URL:https://hobby-horsing-germany.de/event/1-quellenhof-hobby-horsing-cup-2/
LOCATION:Jahnhalle Stockach\, Jahnweg 1\, Stockach\, Baden-Württemberg\, 78333\, Germany
CATEGORIES:Baden-Württemberg,Events & Turniere,Hobby Horse Veranstaltung,Öffentliches Hobby Horse Turnier
ATTACH;FMTTYPE=image/png:https://hobby-horsing-germany.de/wp-content/uploads/2026/01/Flyer-Quellenhof-Turnier-in-Stockach.web_.png
END:VEVENT
BEGIN:VEVENT
DTSTART;TZID=Europe/Berlin:20260321T090000
DTEND;TZID=Europe/Berlin:20260321T150000
DTSTAMP:20260419T230806
CREATED:20260305T202651Z
LAST-MODIFIED:20260315T204314Z
UID:8133-1774083600-1774105200@hobby-horsing-germany.de
SUMMARY:C-Horse Cup (MV)
DESCRIPTION:Öffentliches Hobby Horsing Turnier von Gundolf Geske \n\n\n\nVeranstalter:  Gundolf Geske | E-Mail: c.horse@gmx.netAnsprechpartner: Carolin GeskeInstagram: @c_horse_24Nennschluss: 19. März 2026 \n\n\n\nNennung mit dem Nennformular per E-Mail an c.horse@gmx.net \n\n\n\n\nNennformular\n\n\n\n\n\n\n\n\nWettbewerbe \n\n\n\nE Zeitspringen 30-40cmA Zeitspringen 40-50cmA Stilspringen 40-50cmL Stilspringen 50-70cmM Stilspringen 80-90cmS Stilspringen 90-100cmS Dressur KürKostüm S Dressur KürGalopprennenBarrel RacingGeländespringenMächtigkeitsspringen \n\n\n\n \n\n\n\nAnmerkungen: \n\n\n\nJeder haftet für sich selbst. Das Turnier ist einer Halle also bitte Hallenschuhen mitbringen. Zuschauer können auf Socken laufen oder Hausschuhe mitbringen.
URL:https://hobby-horsing-germany.de/event/c-horse-cup/
LOCATION:Straßensport Rostock – Trainingsplatz\, Mendelejewstraße 12c\, Rostock\, Mecklenburg-Vorpommern\, 18059\, Germany
CATEGORIES:Events & Turniere,Hobby Horse Veranstaltung,Mecklenburg-Vorpommern,Öffentliches Hobby Horse Turnier
END:VEVENT
BEGIN:VEVENT
DTSTART;TZID=Europe/Berlin:20260321T140000
DTEND;TZID=Europe/Berlin:20260321T183000
DTSTAMP:20260419T230806
CREATED:20260212T094831Z
LAST-MODIFIED:20260212T094907Z
UID:7915-1774101600-1774117800@hobby-horsing-germany.de
SUMMARY:Hobby Horsing im RFV Heuchlingen (BW)
DESCRIPTION:Öffentlicher Hobby Horsing Workshop beim RFV Heuchlingen für Teilnehmer ab 4 Jahren (4 bis 7 jähr. mit Eltern). \n\n\n\nVeranstalter:  Angelika Hirsch und RFV Heuchlingen E-Mail: hirsch.geli@googlemail.comAnsprechpartner: Angelika Hirsch | 0172-6324160Maximale Teilnehmerzahl: 30 Teilnehmer  \n\n\n\nAnmeldung bis zum 14. März 2026 per E-Mail an hirsch.geli@googlemail.com \n\n\n\n\nInformationen zum Workshop\n\n\n\n\nZusammenfassung der Lerninhalte:  \n\n\n\n\nHobby Horsing zum Schnuppern – Grundlagen für interessierte Pferdefans.\n\n\n\nSynchronspringen – mehr Punkte durch abgestimmte Synchronität im Team.
URL:https://hobby-horsing-germany.de/event/hobby-horsing-im-rfv-heuchlingen-bw/
LOCATION:RFV Heuchlingen\, Galgenberg 1\, Heuchlingen\, Baden-Württemberg\, 73572\, Germany
CATEGORIES:Baden-Württemberg,Events & Turniere,Infoveranstaltungen,Workshops und Seminare
ATTACH;FMTTYPE=image/png:https://hobby-horsing-germany.de/wp-content/uploads/2026/02/HH-Workshop-Heuchlingen.png
END:VEVENT
BEGIN:VEVENT
DTSTART;TZID=Europe/Berlin:20260325T150000
DTEND;TZID=Europe/Berlin:20260409T170000
DTSTAMP:20260419T230806
CREATED:20260324T211422Z
LAST-MODIFIED:20260324T211937Z
UID:8272-1774450800-1775754000@hobby-horsing-germany.de
SUMMARY:Osterferienprogramm bei COCU (SH)
DESCRIPTION:Osterferienprogramm bei COCU vom 25. März bis 09. April 2026 \n\n\n\nVeranstalter:  Corinna Cuvalo | E-Mail: kontakt@cocu-der-kinderpferdeladen.deAnsprechpartner: Corinna Cuvalo | 01793903122Instagram: kontakt@cocu-der-kinderpferdeladen.deWebseite: www.cocu-der-kinderpferdeladen.deInstagram: @cocuderkinderpferdeladen \n\n\n\nNennung mit einem Nennformular per E-Mail an hobbyhorsing@tus-uentrop.de. \n\n\n\nProgramm:Sehr abwechslungsreiches Programm\, wie DIY\, Hobby Horse Training und vieles mehr!Alle Infos im Detail auf dem Flyer: \n\n\n\n\nOsterferienprogramm bei COCU
URL:https://hobby-horsing-germany.de/event/osterferienprogramm-bei-cocu/
LOCATION:cocu-der-kinderpferdeladen.de\, Hermann-Löns-Weg 3\, Rellingen\, Schleswig-Holstein\, 25462\, Germany
CATEGORIES:Events & Turniere,Hobby Horse Veranstaltung,Schleswig-Holstein
END:VEVENT
BEGIN:VEVENT
DTSTART;TZID=Europe/Berlin:20260328T130000
DTEND;TZID=Europe/Berlin:20260328T170000
DTSTAMP:20260419T230806
CREATED:20260312T200627Z
LAST-MODIFIED:20260312T200631Z
UID:8162-1774702800-1774717200@hobby-horsing-germany.de
SUMMARY:Hobby Horsing Workshop im RFV Giengen/Brenz (BW)
DESCRIPTION:Öffentlicher Hobby Horsing Workshop in Giengen an der Brenz \n\n\n\nVeranstalter: RFV Giengen/Brenz | E-Mail: hirsch.geli@googlemail.comAnsprechpartner: Angelika Hirsch | 0172-6324160 \n\n\n\nNennschluss: 22. März 2026 \n\n\n\nAnmeldung per WhatsApp und Telefonisch: 0172/632 41 60 \n\n\n\n\nFlyer mit Details\n\n\n\n\n\n\n\n\nProgramm: \n\n\n\nGruppe 1: Hobby Horsing zum Schnuppern – Grundlagen für interessierte Pferdefans.Gruppe 2: Synchronspringen – mehr Punkte durch abgestimmte Synchronität im Team.
URL:https://hobby-horsing-germany.de/event/hobby-horsing-workshop-im-rfv-giengen/
LOCATION:RFV Giengen/Brenz\, Brunnenfeld 2\, Giengen an der Brenz\, Baden-Württemberg\, 89537\, Germany
CATEGORIES:Baden-Württemberg,Events & Turniere,Hobby Horse Veranstaltung,Workshops und Seminare
END:VEVENT
BEGIN:VEVENT
DTSTART;TZID=Europe/Berlin:20260329T100000
DTEND;TZID=Europe/Berlin:20260329T180000
DTSTAMP:20260419T230806
CREATED:20260211T081410Z
LAST-MODIFIED:20260212T203408Z
UID:7883-1774778400-1774807200@hobby-horsing-germany.de
SUMMARY:2. Hammer Hobby Horsing Cup (NRW)
DESCRIPTION:Öffentliches Hobby Horsing Turnier des TuS 46/68 Uentrop e.V. \n\n\n\nVeranstalter:  TuS 46/68 Uentrop e.V. | E-Mail: hobbyhorsing@tus-uentrop.deAnsprechpartner: Sandra Wieting Instagram: @teamhobbyhorsinguentropWebseite: www.tus-uentrop.deNennschluss: 01. März 2026 \n\n\n\nNennung mit einem Nennformular per E-Mail an hobbyhorsing@tus-uentrop.de. \n\n\n\n\nAusschreibung\n\n\n\nOnline Nennung\n\n\n\n\n\n\n\n\nWettbewerbe: \n\n\n\n\nReiterwettbewerb\n\n\n\nDressur mittel\n\n\n\nDressurkür\, Pas de Deux\n\n\n\nSynchron-Springen\n\n\n\nPunkte-Jagd\n\n\n\nZeitspringen\n\n\n\nStafetten-Springen\n\n\n\nGelände-Prüfung\n\n\n\nMächtigkeitsspringen\n\n\n\nFamily&friends
URL:https://hobby-horsing-germany.de/event/2-hammer-hobby-horsing-cup-nrw/
LOCATION:Giesendahlhalle Uentrop\, Im Giesendahl 4\, Hamm\, Nordrhein-Westfalen\, 59071\, Germany
CATEGORIES:Events & Turniere,Hobby Horse Veranstaltung,Nordrhein-Westfalen,Öffentliches Hobby Horse Turnier
ATTACH;FMTTYPE=image/jpeg:https://hobby-horsing-germany.de/wp-content/uploads/2026/02/Flyer-TuS-4668-Uentrop-e.V.jpg
ORGANIZER;CN="TuS 46/68 Uentrop e.V.":MAILTO:hobbyhorsing@tus-uentrop.de
END:VEVENT
BEGIN:VEVENT
DTSTART;TZID=Europe/Berlin:20260329T110000
DTEND;TZID=Europe/Berlin:20260329T150000
DTSTAMP:20260419T230806
CREATED:20260312T203525Z
LAST-MODIFIED:20260312T203528Z
UID:8176-1774782000-1774796400@hobby-horsing-germany.de
SUMMARY:Hobby Horsing Trainings-Treffen (BW)
DESCRIPTION:Hobby Horsing Trainings-Treffen \n\n\n\nVeranstalter: Freiburger Turnerschaft (ft1844) | E-Mail: tanjakwiatkista@yahoo.comAnsprechpartner: Tanja Kwiatkista | 0173/8201360Nennschluss: 27. März 2026Anmeldung per E-Mail: tanjakwiatkista@yahoo.com \n\n\n\nAltersbegrenzung: ab 9 Jahren \n\n\n\nProgramm: Bei „Hobby Horsing Trainings-Treffen“ geht es darum\, eine schöne Zeit mit gleichgesinnten zu verbringen:– Gemeinsame „Reitausflüge“ an der Dreisam– „Trail-Reiten“ im Wald– Wir trainieren miteinander verschiedene Disziplinen in einer Wunderschönen Halle– Jede die möchte\, kann etwas anleiten (Warm up\, Spiele\, Disziplinen)– Ab und an gibt es Bastelprojekte (z.B Halfter anfertigen)– Wir trainieren auf Wunsch bestimmte Aufgaben für Turniere– Ihr dürft euch als „anleitende Trainerin“ oder auch „Jury“ ausprobieren– Natürlich lernt ihr auch Techniken kennen\, die euch bei „Turnier-Prüfungs situationen“\, sowie in stressigen Schul und Alltags Situationen helfen „entspannt“ und positv zu bleiben.– Ein vielseitiges „Sport\, Spiel\, Spaß Wochenende“ nach dem Motto:„Komm vorbei\, sei dabei\, fühl dich frei!“ \n\n\n\nHinweise:Zu Hobby Horsing Treffen können Mädchen im alter ab 9 Jahren kommen\, egal ob Einsteigerinnen oder Fortgeschrittene. Bitte bei mir melden\, falls ihr ein Hobby Horse benötigt\, wir haben wunderschöne Leih-Pferde!Bitte mitbringen: \n\n\n\nBequeme Sportkleidung für drinnen und draussen\,Turnschuhe und / oder Schläppchen\,Trinkflasche und Vesper für die Mittagspause und gerne eine leckere Kleinigkeit „zum teilen“ für die Gruppe.Bei Fragen gerne melden:Tel.: 0157 3200 600 7
URL:https://hobby-horsing-germany.de/event/hobby-horsing-trainings-treffen-2/
LOCATION:FT1844 (Freiburger Turnerschaft)\, Schwarzwaldstraße 181\, Freiburg im Breisgau\, Baden-Württemberg\, 79117\, Germany
CATEGORIES:Baden-Württemberg,Deutschland,Events & Turniere,Hobby Horse Veranstaltung,Workshops und Seminare
ATTACH;FMTTYPE=image/jpeg:https://hobby-horsing-germany.de/wp-content/uploads/2026/03/Foto-Hobby-Horse-Treffen-scaled.jpeg
END:VEVENT
END:VCALENDAR