BEGIN:VCALENDAR
VERSION:2.0
PRODID:-//Hobby Horsing Germany - ECPv6.15.20//NONSGML v1.0//EN
CALSCALE:GREGORIAN
METHOD:PUBLISH
X-WR-CALNAME:Hobby Horsing Germany
X-ORIGINAL-URL:https://hobby-horsing-germany.de
X-WR-CALDESC:Veranstaltungen für Hobby Horsing Germany
REFRESH-INTERVAL;VALUE=DURATION:PT1H
X-Robots-Tag:noindex
X-PUBLISHED-TTL:PT1H
BEGIN:VTIMEZONE
TZID:Europe/Berlin
BEGIN:DAYLIGHT
TZOFFSETFROM:+0100
TZOFFSETTO:+0200
TZNAME:CEST
DTSTART:20250330T010000
END:DAYLIGHT
BEGIN:STANDARD
TZOFFSETFROM:+0200
TZOFFSETTO:+0100
TZNAME:CET
DTSTART:20251026T010000
END:STANDARD
BEGIN:DAYLIGHT
TZOFFSETFROM:+0100
TZOFFSETTO:+0200
TZNAME:CEST
DTSTART:20260329T010000
END:DAYLIGHT
BEGIN:STANDARD
TZOFFSETFROM:+0200
TZOFFSETTO:+0100
TZNAME:CET
DTSTART:20261025T010000
END:STANDARD
BEGIN:DAYLIGHT
TZOFFSETFROM:+0100
TZOFFSETTO:+0200
TZNAME:CEST
DTSTART:20270328T010000
END:DAYLIGHT
BEGIN:STANDARD
TZOFFSETFROM:+0200
TZOFFSETTO:+0100
TZNAME:CET
DTSTART:20271031T010000
END:STANDARD
END:VTIMEZONE
BEGIN:VEVENT
DTSTART;TZID=Europe/Berlin:20260104T080000
DTEND;TZID=Europe/Berlin:20260104T200000
DTSTAMP:20260419T195452
CREATED:20250514T104249Z
LAST-MODIFIED:20251208T064146Z
UID:2783-1767513600-1767556800@hobby-horsing-germany.de
SUMMARY:Qualifikationsturnier für die 2. Deutsche Meisterschaft in München (Bayern)
DESCRIPTION:Dir finale Zeiteinteilung findest du eine vor vor dem Turnier in Equi-Score. Der Link ist dann DtHHV Infopoint zu finden.Hier: INFOPINT. \n\n\n\nHobby Horsing Turnier – Fablehorse in München \n\n\n\nVeranstalter: Fablehorse München – Ria KochAnsprechpartner: Tina Gardt | meisterschaft@dthhv.de Nennschluss: 07. Dezember 2025 \n\n\n\nNennschluss \n\n\n\n\n\n\n\n\n\n\n\n>>> Ausschreibung <<< \n\n\n\n\n\n\n\nWettbewerbe:  \n\n\n\n\nDressur schwer (U12\, U15\, U21\, U31\, U99)\n\n\n\nStilspringen mittel – 50cm (U12\, U99)\n\n\n\nStilspringen schwer – 60/70cm (U15\, U21\, U31)Zeitspringen mittel – 50cm (U12\, U99)\n\n\n\nZeitspringen schwer -60/70cm (U15\, U21\, U31)\n\n\n\n\n\n\n\n\nGrundsätzliche Regelungen:\n\n\n\nIn allen Prüfungen gilt das Regelwerk des DtHHV. \n\n\n\nEinteilung in Altersklassen:Um die Teilnehmer fair miteinander vergleichen zu können\, gibt es in allen Prüfungen eine Einteilung in die folgenden Altersklassen: \n\n\n\nAltersklassen für die Qualifikation:U12 Jahrgang 2017-2015U15 Jahrgang 2014-2012U21 Jahrgang 2011-2006U31 Jahrgang 2005-1996U99 Jahrgang 1995 und älter
URL:https://hobby-horsing-germany.de/event/qualifikationsturnier-in-muenchen/
LOCATION:MTV München von 1879 e.V\, Häberlstraße 11b /Nähe Goetheplatz\, München\, Bayern\, 80337\, Germany
CATEGORIES:Bayern,Deutschland,Events & Turniere,Hobby Horsing Event DtHHV,Öffentliches Hobby Horse Turnier
ATTACH;FMTTYPE=image/jpeg:https://hobby-horsing-germany.de/wp-content/uploads/2025/05/Qualifiktionsturnier-2025-2026.jpeg
END:VEVENT
BEGIN:VEVENT
DTSTART;TZID=Europe/Berlin:20260117T080000
DTEND;TZID=Europe/Berlin:20260117T170000
DTSTAMP:20260419T195452
CREATED:20250514T103314Z
LAST-MODIFIED:20251229T101526Z
UID:2776-1768636800-1768669200@hobby-horsing-germany.de
SUMMARY:Qualifikationsturnier für die 2. Deutsche Meisterschaft in Niebüll (Schleswig-Holstein)
DESCRIPTION:Die Zeiteinteilung ist noch nicht abgeschlossen. \n\n\n\nHobby Horsing Turnier – TSV-Rot-Weiß Niebüll e.V. \n\n\n\nVeranstalter: TSV-Rot-Weiß Niebüll e.V.Ansprechpartner: Tina Gardt | meisterschaft@dthhv.de Nennschluss: 20. Dezember 2025 \n\n\n\nNennschluss \n\n\n\n\n\n\n\n>>> Ausschreibung <<< \n\n\n\n\n\n\n\nHinweis: Es gibt auch offene Wettbewerbe für alle Altersklassen und Hobby Horser\, die nicht an den Qualifikationsprüfungen teilnehmen wollen. Hier geht es zur Ausschreibung:Neujahrsturnier 2026 – TSV RW Niebüll \n\n\n\n\n\n\n\nWettbewerbe:  \n\n\n\n\nDressur schwer (U12\, U15\, U21\, U31\, U99)\n\n\n\nStilspringen mittel – 50cm (U12\, U99)\n\n\n\nStilspringen schwer – 60/70cm (U15\, U21\, U31)Zeitspringen mittel – 50cm (U12\, U99)\n\n\n\nZeitspringen schwer -60/70cm (U15\, U21\, U31)\n\n\n\n\n\n\n\n\nGrundsätzliche Regelungen:\n\n\n\nIn allen Prüfungen gilt das Regelwerk des DtHHV. \n\n\n\nEinteilung in Altersklassen:Um die Teilnehmer fair miteinander vergleichen zu können\, gibt es in allen Prüfungen eine Einteilung in die folgenden Altersklassen: \n\n\n\nAltersklassen für die Qualifikation:U12 Jahrgang 2017-2015U15 Jahrgang 2014-2012U21 Jahrgang 2011-2006U31 Jahrgang 2005-1996U99 Jahrgang 1995 und älter
URL:https://hobby-horsing-germany.de/event/qualifikationsturnier-in-niebuell/
LOCATION:TSV Rot-Weiß Niebüll e. V.\, Halle 1 und Halle 2 im Schulzentrum\, Gotteskoogstraße 50 (Schülerparkplatz)\, Niebüll\, Schleswig-Holstein\, 25899\, Germany
CATEGORIES:Deutschland,Events & Turniere,Hobby Horsing Event DtHHV,Öffentliches Hobby Horse Turnier,Schleswig-Holstein
ATTACH;FMTTYPE=image/jpeg:https://hobby-horsing-germany.de/wp-content/uploads/2025/05/Qualifiktionsturnier-2025-2026.jpeg
END:VEVENT
BEGIN:VEVENT
DTSTART;TZID=Europe/Berlin:20260117T080000
DTEND;TZID=Europe/Berlin:20260117T170000
DTSTAMP:20260419T195452
CREATED:20251215T201208Z
LAST-MODIFIED:20251215T201211Z
UID:6653-1768636800-1768669200@hobby-horsing-germany.de
SUMMARY:Hobby Horsing Turnier - Bad Schwalbach (HE)
DESCRIPTION:Öffentliches Hobby Horsing Turnier des TV 1861 Bad Schwalbach mit 11 Wettbewerben \n\n\n\nVeranstalter:  TV 1861 Bad Schwalbach | E-Mail: Hobby-Horsing@tv-badschwalbach.deAnsprechpartner: Britta Skott | 01575/7892070Nennschluss: 20. Dezember 2025 \n\n\n\nNennung per E-Mail an Hobby-Horsing@tv-badschwalbach.de \n\n\n\n\nAusschreibung\n\n\n\n\n\n\n\n\nWettbewerbe \n\n\n\n\nDressur leicht\, mittel & schwer\n\n\n\nStilspringen leicht\, mittel & schwer\n\n\n\nZeitspringen leicht\, mittel & schwer\n\n\n\nGlücksspringen
URL:https://hobby-horsing-germany.de/event/hobby-horsing-turnier-bad-schwalbach/
LOCATION:Sporthalle an der Nikolaus-August-Otto Schule\, Bad Schwalbach\, Emser Str. 100\, Bad Schwalbach\, Hessen\, 65307\, Germany
CATEGORIES:Events & Turniere,Hessen,Hobby Horse Veranstaltung,Öffentliches Hobby Horse Turnier
ATTACH;FMTTYPE=image/jpeg:https://hobby-horsing-germany.de/wp-content/uploads/2025/12/Hobby-Horsing-Turnier-17.01.2026.jpg
END:VEVENT
BEGIN:VEVENT
DTSTART;TZID=Europe/Berlin:20260117T090000
DTEND;TZID=Europe/Berlin:20260117T180000
DTSTAMP:20260419T195452
CREATED:20251017T111808Z
LAST-MODIFIED:20251229T101721Z
UID:5591-1768640400-1768672800@hobby-horsing-germany.de
SUMMARY:Neujahrsturnier 2026 - TSV RW Niebüll (Schleswig-Holstein)
DESCRIPTION:Hobby Horsing Turnier des TSV RW Niebüll  \n\n\n\nÖffentliches Hobby Horsing- Turnier mit 10 offenen Wettbewerben ab 4 Jahren & Qualifikationsprüfungen für die 2. Deutsche Meisterschaft. \n\n\n\nVeranstalter:  TSV RW Niebüll | E-Mail: hhturniereventgermany@gmail.comAnsprechpartner: Sabine Wulf | 0176/766 260 151 \n\n\n\nNennschluss \n\n\n\nHinweis: Diese Ausschreibung betrifft offene Wettbewerbe.Um für die Qualifikationsprüfungen zu nennen\, bitte hier klicken. \n\n\n\n\n\n\n\n\n\n\n\n\nTurnier-Ausschreibung\n\n\n\n\n\n\n\n\nRückfragen per E-Mail an: hhturniereventgermany@gmail.com \n\n\n\n\n\n\n\nWettbewerbe: \n\n\n\n\nSpringreiter WB – 20cm Höhe\, 5 Sprünge – U6 und U9\n\n\n\nDressur Leicht – Aufgabe in der Ausschreibung – U9\, U12 und U15\n\n\n\nStilspringen Leicht – 40cm Höhe\, 8 Sprünge – U9\, U12 und U15\n\n\n\nStilspringen Mittel – 60cm\, 10 Sprünge – ab U12\n\n\n\nZeitspringen Leicht – 40cm Höhe\, 8 Sprünge – U9\, U12 und U15\n\n\n\nZeitspringen Mittel – 50cm\, 10 Sprünge – ab U12\n\n\n\nGlückspringprüfung Mittel – 50cm Höhe\, 10 Sprünge – ab U12\n\n\n\nClear Round Springen Leicht – 40cm\, 8 Sprünge – alle\n\n\n\nClear Round Springen Mittel – 50cm\, 10 Sprünge – alle\n\n\n\nJagt um Punkte Mittel – 50cm Höhe\, 10 Sprünge – ab U12\n\n\n\n\nZusätzlich finden Wettbewerbe zur Qualifikation für die Deutsche Meisterschaft 2026 statt.
URL:https://hobby-horsing-germany.de/event/neujahrsturnier-niebuell/
LOCATION:TSV Rot-Weiß Niebüll e. V.\, Halle 1 und Halle 2 im Schulzentrum\, Gotteskoogstraße 50 (Schülerparkplatz)\, Niebüll\, Schleswig-Holstein\, 25899\, Germany
CATEGORIES:Events & Turniere,Hobby Horse Veranstaltung,Öffentliches Hobby Horse Turnier,Schleswig-Holstein
END:VEVENT
BEGIN:VEVENT
DTSTART;TZID=Europe/Berlin:20260117T100000
DTEND;TZID=Europe/Berlin:20260118T160000
DTSTAMP:20260419T195452
CREATED:20251204T193110Z
LAST-MODIFIED:20251204T193113Z
UID:6467-1768644000-1768752000@hobby-horsing-germany.de
SUMMARY:Dressur & Spring-Workshop mit Abschluss- Wettbewerb (BW)
DESCRIPTION:Dressur und Spring Workshop mit Nele Nöhrbass und Leonie Gaugltz mit Abschluss- Wettbewerb ab 9 Jahren \n\n\n\nVeranstalter:  FT1844 | E-Mail: tanjakwiatkista@yahoo.comAnsprechpartner: Tanja Kwiatkista | 0157/32006007Nennschluss: 15. Januar 2025Anmeldung: https://ft1844-freiburg.de/ \n\n\n\nWeitere Infos:Du hast noch keinen „besonderen“ Weihnachtswunsch ?Dann könnte der Workshop mit Nele und Leonie genau das richtige für dich sein!Die beiden „Meisterinnen“ bieten einen vielseitigen intensiv-Workshop an\,- mit abschließenden Wettbewerb am Sonntag! \n\n\n\nNatürlich können die Tage einzeln gebucht werden. \n\n\n\nWenn ihr von weiter weg kommt und eine Übernachtungsmöglichkeit sucht\,Könnt ihr euch direkt auf dem Sport Campus im Hokk- Hotel einmieten oder in der Jugendherberge gegenüber.
URL:https://hobby-horsing-germany.de/event/workshop-mit-nele-noehrbass/
LOCATION:Act Now Halle\, Schwarzwaldstrasse 181\, Freiburg\, Baden-Württemberg\, 79117\, Germany
CATEGORIES:Baden-Württemberg,Hobby Horse Veranstaltung
END:VEVENT
BEGIN:VEVENT
DTSTART;TZID=Europe/Berlin:20260117T120000
DTEND;TZID=Europe/Berlin:20260117T170000
DTSTAMP:20260419T195452
CREATED:20251203T164916Z
LAST-MODIFIED:20260114T123517Z
UID:6272-1768651200-1768669200@hobby-horsing-germany.de
SUMMARY:Hobby-Horsing Leistungstraining RLP
DESCRIPTION:Hobby Horsing Leistungstraining für Teilnehmer zwischen 10-16 Jahren. \n\n\n\nVeranstalter:  Sara Pezer Nennschluss \n\n\n\nAlle Plätze sind belegt! \n\n\n\nInfos:Wir werden zusammen versuchen\, alle Disziplinen auf Leistungsniveau durchzunehmen. Vom Zeitspringen\, über den Hochsprung bis zur Dressur.  \n\n\n\nDas Leistungstraining ist für diejenigen\, die im Training weiter kommen und neues dazu lernen möchten. Hierbei handelt es sich nicht um ein Turnier oder MeetUp\, sondern um ein Leistungstraining. Dieses findet Einmalig statt.
URL:https://hobby-horsing-germany.de/event/hobbyhorse-leistungstraining/
LOCATION:Sporthalle Grundschule Friedrichssegen\, Erzbachstraße 42\, Lahnstein-Friedrichssegen\, Rheinland-Pfalz\, 56112\, Germany
CATEGORIES:Events & Turniere,Rheinland-Pfalz
END:VEVENT
BEGIN:VEVENT
DTSTART;TZID=Europe/Berlin:20260125T083000
DTEND;TZID=Europe/Berlin:20260125T163000
DTSTAMP:20260419T195452
CREATED:20251221T102301Z
LAST-MODIFIED:20260120T070110Z
UID:6746-1769329800-1769358600@hobby-horsing-germany.de
SUMMARY:Schuster-Cup mit EM Qualifikation (SN)
DESCRIPTION:Öffentliches Hobby Horsing Turnier mit Sichtungsprüfungen für die Europameisterschaft 2026 \n\n\n\nVeranstalter:  SV Einheit Groitzsch e.V. in Kooperation mit dem GHHA-LVMD  E-Mail: turnieranmeldung.ghha@gmail.comAnsprechpartner: Brit Richter | 01742465252Nennschluss: 03. Januar 2026 \n\n\n\nNennung ausschließlich online \n\n\n\n\nAusschreibung\n\n\n\n\n\n\n\n\n\nOnline Nennung\n\n\n\n\n\n\n\n\nWettbewerbe \n\n\n\nFür alle Alters- und Leistungsklassen.  \n\n\n\n\nDiverse Wettbewerb aus Springen M\n\n\n\nDressur und Western\n\n\n\nSichtungsprüfungen für die Europameisterschaft 2026\n\n\n\n\nStarterzahl ist begrenzt\, Startplatzvergabe nach Geldeingang.
URL:https://hobby-horsing-germany.de/event/schuster-cup-mit-em-qualifikation/
LOCATION:Mehrzweck-Sporthalle Groitzsch\, Schletterstraße 21\, Groitzsch\, Sachsen\, 04539\, Germany
CATEGORIES:Events & Turniere,Hobby Horse Veranstaltung,Öffentliches Hobby Horse Turnier,Sachsen
ORGANIZER;CN="SV Einheit Groitzsch e.V. in Kooperation mit dem GHHA-LVMD":MAILTO:turnieranmeldung.ghha@gmail.com
END:VEVENT
END:VCALENDAR