BEGIN:VCALENDAR
VERSION:2.0
PRODID:-//Hobby Horsing Germany - ECPv6.15.20//NONSGML v1.0//EN
CALSCALE:GREGORIAN
METHOD:PUBLISH
X-ORIGINAL-URL:https://hobby-horsing-germany.de
X-WR-CALDESC:Veranstaltungen für Hobby Horsing Germany
REFRESH-INTERVAL;VALUE=DURATION:PT1H
X-Robots-Tag:noindex
X-PUBLISHED-TTL:PT1H
BEGIN:VTIMEZONE
TZID:Europe/Berlin
BEGIN:DAYLIGHT
TZOFFSETFROM:+0100
TZOFFSETTO:+0200
TZNAME:CEST
DTSTART:20240331T010000
END:DAYLIGHT
BEGIN:STANDARD
TZOFFSETFROM:+0200
TZOFFSETTO:+0100
TZNAME:CET
DTSTART:20241027T010000
END:STANDARD
BEGIN:DAYLIGHT
TZOFFSETFROM:+0100
TZOFFSETTO:+0200
TZNAME:CEST
DTSTART:20250330T010000
END:DAYLIGHT
BEGIN:STANDARD
TZOFFSETFROM:+0200
TZOFFSETTO:+0100
TZNAME:CET
DTSTART:20251026T010000
END:STANDARD
BEGIN:DAYLIGHT
TZOFFSETFROM:+0100
TZOFFSETTO:+0200
TZNAME:CEST
DTSTART:20260329T010000
END:DAYLIGHT
BEGIN:STANDARD
TZOFFSETFROM:+0200
TZOFFSETTO:+0100
TZNAME:CET
DTSTART:20261025T010000
END:STANDARD
END:VTIMEZONE
BEGIN:VTIMEZONE
TZID:America/Los_Angeles
BEGIN:DAYLIGHT
TZOFFSETFROM:-0800
TZOFFSETTO:-0700
TZNAME:PDT
DTSTART:20240310T100000
END:DAYLIGHT
BEGIN:STANDARD
TZOFFSETFROM:-0700
TZOFFSETTO:-0800
TZNAME:PST
DTSTART:20241103T090000
END:STANDARD
BEGIN:DAYLIGHT
TZOFFSETFROM:-0800
TZOFFSETTO:-0700
TZNAME:PDT
DTSTART:20250309T100000
END:DAYLIGHT
BEGIN:STANDARD
TZOFFSETFROM:-0700
TZOFFSETTO:-0800
TZNAME:PST
DTSTART:20251102T090000
END:STANDARD
BEGIN:DAYLIGHT
TZOFFSETFROM:-0800
TZOFFSETTO:-0700
TZNAME:PDT
DTSTART:20260308T100000
END:DAYLIGHT
BEGIN:STANDARD
TZOFFSETFROM:-0700
TZOFFSETTO:-0800
TZNAME:PST
DTSTART:20261101T090000
END:STANDARD
END:VTIMEZONE
BEGIN:VEVENT
DTSTART;TZID=Europe/Berlin:20251031T100000
DTEND;TZID=Europe/Berlin:20251101T150000
DTSTAMP:20260419T165714
CREATED:20251017T200807Z
LAST-MODIFIED:20251029T212505Z
UID:5598-1761904800-1762009200@hobby-horsing-germany.de
SUMMARY:Happy Halloween-Distanzritt auf dem Darß (Mecklenburg-Vorpommern)
DESCRIPTION:Hobby Horsing Distanzritt am Strand \n\n\n\nÖffentliches Hobby Horsing-Event des Veranstalter: PSZV Gut Darß e-V.  | E-Mail: paulacetto@web.deAnsprechpartner: Paula M. Cetto |  \n\n\n\nNennschluss 20.10.2025 \n\n\n\n\n\n\n\n\n\n\n\n\nAusschreibung \n\n\n\nNennformular\n\n\n\n\n\n\n\n\nHinweise: Halloween-Pferde-Distanzritt: \n\n\n\nKinder\, Jugendliche und Erwachsene sind herzlich willkommen\, sowie Pferde ab 5 J. unabhängig von Rasse und Reitweise.2 (Startzeit: 10 Uhr) und 3\,5 km (Startzeit 10:30 Uhr) sind die Hobby Horsing-Strecken und alle Strecken ab 15 bis 65 km sind mit Strandritt. Kostüme erwünscht\, aber nicht verpflichtend. \n\n\n\n\n\n\n\n\n\n\n\n\n\n\n\n\n\n\n\n\n\n\n\n\n\n  \n    \n    \n    NEU!\n\n    \n    \n      ❄\n      ❅\n      ✼\n      ❄\n      ❅\n      ✼\n      ❄\n      ❅\n      ✼\n      ❄\n      ❅\n      ✼\n    \n  \n\n  \n    NEU in unserem Shop: Hobby Horse Adventskalender\n    24 sportliche Überraschungen für Hobby Horser – perfekt zum Verschenken oder selbst genießen. \n    Nur 90 €\n    \n      Jetzt sichern
URL:https://hobby-horsing-germany.de/event/happy-halloween-distanzritt/
LOCATION:PSZV Gut Darß e-V.\, Am Wald 26\, Born\, Mecklenburg-Vorpommern\, 18375\, Germany
CATEGORIES:Events & Turniere,Hobby Horse Veranstaltung,Mecklenburg-Vorpommern
ATTACH;FMTTYPE=image/png:https://hobby-horsing-germany.de/wp-content/uploads/2025/10/Happy-Halloween-Distanzritt.png
END:VEVENT
BEGIN:VEVENT
DTSTART;TZID=Europe/Berlin:20251101T080000
DTEND;TZID=Europe/Berlin:20251101T170000
DTSTAMP:20260419T165714
CREATED:20250514T120602Z
LAST-MODIFIED:20251029T212536Z
UID:2812-1761984000-1762016400@hobby-horsing-germany.de
SUMMARY:Qualifikationsturnier für die 2. Deutsche Meisterschaft in Gifhorn (Niedersachsen)
DESCRIPTION:Die Zeiteinteilung ist noch nicht abgeschlossen. \n\n\n\nHobby Horsing Turnier – SV Ribbesbüttel e.V. von 1946 \n\n\n\nVeranstalter: SV Ribbesbüttel e.V. von 1946 | Marion GohdeAnsprechpartner: Tina Gardt | meisterschaft@dthhv.de Nennschluss: 04. Oktober 2025 \n\n\n\nNennschluss. \n\n\n\n\n\n\n\n>>> Ausschreibung <<< \n\n\n\n\n\n\n\nWettbewerbe:  \n\n\n\n\nDressur schwer (U12\, U15\, U21\, U31\, U99)\n\n\n\nStilspringen mittel – 50cm (U12\, U99)\n\n\n\nStilspringen schwer – 60/70cm (U15\, U21\, U31)Zeitspringen mittel – 50cm (U12\, U99)\n\n\n\nZeitspringen schwer -60/70cm (U15\, U21\, U31)\n\n\n\n\n\n\n\n\nGrundsätzliche Regelungen:\n\n\n\nIn allen Prüfungen gilt das Regelwerk des DtHHV. \n\n\n\nEinteilung in Altersklassen:Um die Teilnehmer fair miteinander vergleichen zu können\, gibt es in allen Prüfungen eine Einteilung in die folgenden Altersklassen: \n\n\n\nAltersklassen für die Qualifikation:U12 Jahrgang 2017-2015U15 Jahrgang 2014-2012U21 Jahrgang 2011-2006U31 Jahrgang 2005-1996U99 Jahrgang 1995 und älter \n\n\n\n\n\n\n\n \n\n\n\n\n\n\n\n\n\n\n\n\n\n\n\n\n\n\n\n\n\n  \n    \n    \n    NEU!\n\n    \n    \n      ❄\n      ❅\n      ✼\n      ❄\n      ❅\n      ✼\n      ❄\n      ❅\n      ✼\n      ❄\n      ❅\n      ✼\n    \n  \n\n  \n    NEU in unserem Shop: Hobby Horse Adventskalender\n    24 sportliche Überraschungen für Hobby Horser – perfekt zum Verschenken oder selbst genießen. \n    Nur 90 €\n    \n      Jetzt sichern
URL:https://hobby-horsing-germany.de/event/qualifikationsturnier-in-gifhorn/
LOCATION:SV Ribbesbüttel e. V. von 1946\, Winkeler Straße 2\, Gifhorn\, Niedersachsen\, 38518\, Germany
CATEGORIES:Deutschland,Events & Turniere,Hobby Horsing Event DtHHV,Niedersachsen,Öffentliches Hobby Horse Turnier
ATTACH;FMTTYPE=image/jpeg:https://hobby-horsing-germany.de/wp-content/uploads/2025/05/Qualifiktionsturnier-2025-2026.jpeg
END:VEVENT
BEGIN:VEVENT
DTSTART;TZID=America/Los_Angeles:20251101T080000
DTEND;TZID=America/Los_Angeles:20251101T190000
DTSTAMP:20260419T165714
CREATED:20250215T155451Z
LAST-MODIFIED:20251029T212614Z
UID:966-1761984000-1762023600@hobby-horsing-germany.de
SUMMARY:ERZ Horse Cup Eibenstock (Sachsen)
DESCRIPTION:ERZ Horse Cup Eibenstock\, Schulstr. 1\, 08309 Eibenstock. \n\n\n\n\n\n\n\nÖffentliches Hobby Horsing- Turnier mit verschiedenen Wettbewerben.Veranstalter: Reit- und Fahrverein Eibenstock 1930 e. V. | E-Mail: rfv-eibenstock1930@freenet.de.Ansprechpartner: Sven Kunath | Tel.: 0172/4095752.Nennschluss: 18.10.2025. \n\n\n\nNennungen an: E-Mail: rfv-eibenstock1930@freenet.de. \n\n\n\n\n\n\n\nWettbewerbe \n\n\n\n\nStil- Zeit- & Mächtigkeitsspringen mit vers. Hindernishöhen und ver. Altersklassen\n\n\n\nversch. Dressur- Einsteiger- Western & Schaubildwettbewerbe mit vers. Alters- & Leistungsklassen\n\n\n\n(Detailierte Wettbewerbsangaben werden in der Ausschreibung bekannt gegeben)\n\n\n\n\n\n\n\n\nHinweis: Der Veranstalter hat im Eintragungsformular keine weiteren Informationen zur Dressur-Aufgabe und zu den Sprunghöhen übermittelt. Möglicherweise stehen die Infos in der Ausschreibung. \n\n\n\nBitte wende dich für Rückfragen an den Veranstalter: Sven Kunath\, Tel.: 0172/4095752 oder E-Mail: rfv-eibenstock1930@freenet.de. \n\n\n\n\n\n\n\n>>Ausschreibung folgt<< \n\n\n\n\n\n\n\n\n\n\n\n\n\n\n\n\n\n\n\n\n\n  \n    \n    \n    NEU!\n\n    \n    \n      ❄\n      ❅\n      ✼\n      ❄\n      ❅\n      ✼\n      ❄\n      ❅\n      ✼\n      ❄\n      ❅\n      ✼\n    \n  \n\n  \n    NEU in unserem Shop: Hobby Horse Adventskalender\n    24 sportliche Überraschungen für Hobby Horser – perfekt zum Verschenken oder selbst genießen. \n    Nur 90 €\n    \n      Jetzt sichern
URL:https://hobby-horsing-germany.de/event/erz-horse-cup-eibenstock-sachsen/
LOCATION:Reit- und Fahrverein Eibenstock 1930 e. V.\, Schulstr. 1\, Eibenstock\, Sachsen\, 08309\, Germany
CATEGORIES:Deutschland,Öffentliches Hobby Horse Turnier,Sachsen
ORGANIZER;CN="Reit- und Fahrverein Eibenstock 1930 e. V.":MAILTO:rfv-eibenstock1930@freenet.de
END:VEVENT
BEGIN:VEVENT
DTSTART;TZID=Europe/Berlin:20251108T073000
DTEND;TZID=Europe/Berlin:20251108T200000
DTSTAMP:20260419T165714
CREATED:20251009T104437Z
LAST-MODIFIED:20251029T212644Z
UID:5422-1762587000-1762632000@hobby-horsing-germany.de
SUMMARY:4. Hobby Horsing Turnier des TSV Tarp e.V. (Schleswig-Holstein)
DESCRIPTION:Hobby Horsing Turnier der Hobby Horse des TSV Tarp e.V. \n\n\n\nÖffentliches Hobby Horsing- Turnier mit 9 offenen Wettbewerben ab 4 Jahren & Qualifikationsprüfungen für die 2. Deutsche Meisterschaft.  \n\n\n\nVeranstalter:  TSV Tarp e.V. | E-Mail: Hobbyhorsing@tsvtarp.deAnsprechpartner: Carmen und Viviane ReschkeNennschluss: 25.10.2025 (Nachnennungen werden nur nach Absprache bis zum 01.11.2025 gegen eine zusätzliche Gebühr von 3€ angenommenen) \n\n\n\nHinweis: Diese Ausschreibung betrifft offene Wettbewerbe.Um für die Qualifikationsprüfungen zu nennen\, bitte hier klicken. \n\n\n\n\n\n\n\n\n\n\n\n\nTurnier Ausschreibung & Nennformular\n\n\n\n\n\n\n\n\nRückfragen & Nennung per E-Mail an: Hobbyhorsing@tsvtarp.de \n\n\n\n\n\n\n\nWettbewerbe: \n\n\n\n\n1. Reiterwettbewerb – U6 & U9\n\n\n\n2. Dressur – leicht – U9\, U12 und U15 8\n\n\n\n3. Dressur – mittel – U9 bis U99\n\n\n\n5. Stilspringen – leicht – 40cm – U9\, U12 und U15\n\n\n\n6. Stilspringen – mittel – 60cm – U12 bis U99\n\n\n\n8. Fehler/Zeit Springprüfung – leicht – 40cm – U9\, U12 und U15\n\n\n\n9. Fehler/Zeit Springprüfung – mittel – 60cm – U12 bis U99\n\n\n\n11. Glücksspringen – mittel – 50cm – U12 bis U99\n\n\n\n12. Mannschaftsspringen – mittel *- 50cm -U9 bis U99\n\n\n\n\n*Die Mannschaften werden vor Ort zugelost \n\n\n\n\n\n\n\n \n\n\n\n\n\n\n\n\n\n\n\n\n\n\n\n\n\n\n\n\n\n  \n    \n    \n    NEU!\n\n    \n    \n      ❄\n      ❅\n      ✼\n      ❄\n      ❅\n      ✼\n      ❄\n      ❅\n      ✼\n      ❄\n      ❅\n      ✼\n    \n  \n\n  \n    NEU in unserem Shop: Hobby Horse Adventskalender\n    24 sportliche Überraschungen für Hobby Horser – perfekt zum Verschenken oder selbst genießen. \n    Nur 90 €\n    \n      Jetzt sichern
URL:https://hobby-horsing-germany.de/event/4-hobby-horsing-turnier-des-tsv-tarp/
LOCATION:TSV Tarp e. V.\, Friedrich-Hebbel Straße 9/ Auf dem Campus 3a\, Tarp\, Schleswig-Holstein\, 24963\, Germany
CATEGORIES:Events & Turniere,Hobby Horsing Event DtHHV,Öffentliches Hobby Horse Turnier,Schleswig-Holstein
ATTACH;FMTTYPE=image/jpeg:https://hobby-horsing-germany.de/wp-content/uploads/2025/10/TSV-Tarp-4.-Hobby-Horse-Turnier.jpg
ORGANIZER;CN="TSV Tarp e.V.":MAILTO:hobbyhorsing@tsvtarp.de
END:VEVENT
BEGIN:VEVENT
DTSTART;TZID=Europe/Berlin:20251108T080000
DTEND;TZID=Europe/Berlin:20251108T170000
DTSTAMP:20260419T165714
CREATED:20250514T120225Z
LAST-MODIFIED:20251029T212712Z
UID:2810-1762588800-1762621200@hobby-horsing-germany.de
SUMMARY:Qualifikationsturnier für die 2. Deutsche Meisterschaft in Tarp (Schleswig-Holstein)
DESCRIPTION:Die Zeiteinteilung ist noch nicht abgeschlossen. \n\n\n\nHobby Horsing Turnier – TSV Tarp e.V. \n\n\n\nVeranstalter: TSV Tarp e.V. | Viviane ReschkeAnsprechpartner: Tina Gardt | meisterschaft@dthhv.de Nennschluss: 11. Oktober 2025 \n\n\n\nNennschluss \n\n\n\n\n\n\n\n>>> Ausschreibung <<< \n\n\n\n\n\n\n\nHinweis: Es gibt auch offene Wettbewerbe für alle Altersklassen und Hobby Horser\, die nicht an den Qualifikationsprüfungen teilnehmen wollen. Hier geht es zur Ausschreibung: 4. Hobby Horsing Turnier des TSV Tarp e. V. \n\n\n\n\n\n\n\nWettbewerbe:  \n\n\n\n\nDressur schwer (U12\, U15\, U21\, U31\, U99)\n\n\n\nStilspringen mittel – 50cm (U12\, U99)\n\n\n\nStilspringen schwer – 60/70cm (U15\, U21\, U31)Zeitspringen mittel – 50cm (U12\, U99)\n\n\n\nZeitspringen schwer -60/70cm (U15\, U21\, U31)\n\n\n\n\n\n\n\n\nGrundsätzliche Regelungen:\n\n\n\nIn allen Prüfungen gilt das Regelwerk des DtHHV. \n\n\n\nEinteilung in Altersklassen:Um die Teilnehmer fair miteinander vergleichen zu können\, gibt es in allen Prüfungen eine Einteilung in die folgenden Altersklassen: \n\n\n\nAltersklassen für die Qualifikation:U12 Jahrgang 2017-2015U15 Jahrgang 2014-2012U21 Jahrgang 2011-2006U31 Jahrgang 2005-1996U99 Jahrgang 1995 und älter \n\n\n\n\n\n\n\n \n\n\n\n\n\n\n\n\n\n\n\n\n\n\n\n\n\n\n\n\n\n  \n    \n    \n    NEU!\n\n    \n    \n      ❄\n      ❅\n      ✼\n      ❄\n      ❅\n      ✼\n      ❄\n      ❅\n      ✼\n      ❄\n      ❅\n      ✼\n    \n  \n\n  \n    NEU in unserem Shop: Hobby Horse Adventskalender\n    24 sportliche Überraschungen für Hobby Horser – perfekt zum Verschenken oder selbst genießen. \n    Nur 90 €\n    \n      Jetzt sichern
URL:https://hobby-horsing-germany.de/event/qualifikationsturnier-in-tarp/
LOCATION:TSV Tarp e. V.\, Friedrich-Hebbel Straße 9/ Auf dem Campus 3a\, Tarp\, Schleswig-Holstein\, 24963\, Germany
CATEGORIES:Deutschland,Events & Turniere,Hobby Horsing Event DtHHV,Öffentliches Hobby Horse Turnier,Schleswig-Holstein
ATTACH;FMTTYPE=image/jpeg:https://hobby-horsing-germany.de/wp-content/uploads/2025/05/Qualifiktionsturnier-2025-2026.jpeg
ORGANIZER;CN="TSV Tarp e.V.":MAILTO:hobbyhorsing@tsvtarp.de
END:VEVENT
BEGIN:VEVENT
DTSTART;TZID=Europe/Berlin:20251115T080000
DTEND;TZID=Europe/Berlin:20251115T170000
DTSTAMP:20260419T165714
CREATED:20250514T115908Z
LAST-MODIFIED:20251029T212744Z
UID:2806-1763193600-1763226000@hobby-horsing-germany.de
SUMMARY:Qualifikationsturnier für die 2. Deutsche Meisterschaft in Tornesch (Schleswig-Holstein)
DESCRIPTION:Die Zeiteinteilung ist noch nicht abgeschlossen. \n\n\n\nHobby Horsing Turnier in Tornesch – TuS Esingen e. V. \n\n\n\nVeranstalter: TuS Esingen e. V. | Melanie RangeAnsprechpartner: Tina Gardt | meisterschaft@dthhv.de Nennschluss: 18. Oktober 2025 \n\n\n\nNennschluss \n\n\n\n\n\n\n\n>>> Ausschreibung  <<< \n\n\n\n\n\n\n\nWettbewerbe:  \n\n\n\n\nDressur schwer (U12\, U15\, U21\, U31\, U99)\n\n\n\nStilspringen mittel – 50cm (U12\, U99)\n\n\n\nStilspringen schwer – 60/70cm (U15\, U21\, U31)Zeitspringen mittel – 50cm (U12\, U99)\n\n\n\nZeitspringen schwer -60/70cm (U15\, U21\, U31)\n\n\n\n\n\n\n\n\nGrundsätzliche Regelungen:\n\n\n\nIn allen Prüfungen gilt das Regelwerk des DtHHV. \n\n\n\nEinteilung in Altersklassen:Um die Teilnehmer fair miteinander vergleichen zu können\, gibt es in allen Prüfungen eine Einteilung in die folgenden Altersklassen: \n\n\n\nAltersklassen für die Qualifikation:U12 Jahrgang 2017-2015U15 Jahrgang 2014-2012U21 Jahrgang 2011-2006U31 Jahrgang 2005-1996U99 Jahrgang 1995 und älter \n\n\n\n\n\n\n\n \n\n\n\n\n\n\n\n\n\n\n\n\n\n\n\n\n\n\n\n\n\n  \n    \n    \n    NEU!\n\n    \n    \n      ❄\n      ❅\n      ✼\n      ❄\n      ❅\n      ✼\n      ❄\n      ❅\n      ✼\n      ❄\n      ❅\n      ✼\n    \n  \n\n  \n    NEU in unserem Shop: Hobby Horse Adventskalender\n    24 sportliche Überraschungen für Hobby Horser – perfekt zum Verschenken oder selbst genießen. \n    Nur 90 €\n    \n      Jetzt sichern
URL:https://hobby-horsing-germany.de/event/qualifikationsturnier-in-tornesch/
LOCATION:TuS Esingen e. V.\, Neue Sporthalle der Klaus-Groth-SchuleKlaus-Groth-Straße 11\, Tornesch\, Schleswig-Holstein\, 25436\, Germany
CATEGORIES:Deutschland,Events & Turniere,Hobby Horsing Event DtHHV,Öffentliches Hobby Horse Turnier,Schleswig-Holstein
ATTACH;FMTTYPE=image/jpeg:https://hobby-horsing-germany.de/wp-content/uploads/2025/05/Qualifiktionsturnier-2025-2026.jpeg
ORGANIZER;CN="TuS Esingen e. V.":MAILTO:hobbyhorsing@tus-esingen.de
END:VEVENT
BEGIN:VEVENT
DTSTART;TZID=Europe/Berlin:20251115T083000
DTEND;TZID=Europe/Berlin:20251115T200000
DTSTAMP:20260419T165714
CREATED:20251010T082843Z
LAST-MODIFIED:20251029T212808Z
UID:5468-1763195400-1763236800@hobby-horsing-germany.de
SUMMARY:Mitteldeutsche Meisterschaft (Thüringen)
DESCRIPTION:Hobby Horsing Turnier der Landesverbandes GHHA-LVMD e.V. \n\n\n\nÖffentliches Hobby Horsing- Turnier für Teilnehmer ab 7 Jahren. \n\n\n\nVeranstalter:  GHHA-LVMD e.V. | E-Mail: turnieranmeldung.ghha@gmail.comAnsprechpartner: Tel.: 01742465252Brit Richter (Sportler)\, Elisabeth Markloff (Aussteller)\, Margot Zwar (Presse) \n\n\n\n Nennschluss: 20.10.2025 \n\n\n\n\n\n\n\n\nAusschreibung\n\n\n\nZeitplan\n\n\n\n\n\n\n\n\nNENNFORMULAR \n\n\n\n\n\n\n\nWettbewerbe: \n\n\n\n\nGeschicklichkeitsspringen\n\n\n\nHamsterspringen\n\n\n\nIdealzeitspringen\n\n\n\nZeitspringen\n\n\n\nHochsprung\n\n\n\nStilspringen\n\n\n\nDressur Aufgabe\n\n\n\nDressur Freetstyle\n\n\n\nFassrennen\n\n\n\nCross\n\n\n\nWestern Reining\n\n\n\n\nOPEN: offen für alle (national/international)IOC: offen für alle mit S – Niveau (national/international)MDM: nur für vorab Qualifizierte (Mitteldeutschland)GHHA: nur für Einsteiger (Mitteldeutschland)PLUS: für Einsteiger aus anderen deutschen Bundesländern/internationale Starter \n\n\n\n\n\n\n\n\n\n\n\n\n\n\n\n\n\n\n\n\n\n  \n    \n    \n    NEU!\n\n    \n    \n      ❄\n      ❅\n      ✼\n      ❄\n      ❅\n      ✼\n      ❄\n      ❅\n      ✼\n      ❄\n      ❅\n      ✼\n    \n  \n\n  \n    NEU in unserem Shop: Hobby Horse Adventskalender\n    24 sportliche Überraschungen für Hobby Horser – perfekt zum Verschenken oder selbst genießen. \n    Nur 90 €\n    \n      Jetzt sichern
URL:https://hobby-horsing-germany.de/event/hobby-horse-turnier-thueringen/
LOCATION:Sporthalle Eisenberg\, Schillerstraße 1\, Eisenberg\, Thüringen\, 07607\, Germany
CATEGORIES:Events & Turniere,Hobby Horse Veranstaltung,Öffentliches Hobby Horse Turnier,Thüringen
END:VEVENT
BEGIN:VEVENT
DTSTART;TZID=Europe/Berlin:20251115T090000
DTEND;TZID=Europe/Berlin:20251115T170000
DTSTAMP:20260419T165714
CREATED:20251013T210347Z
LAST-MODIFIED:20251029T212836Z
UID:5520-1763197200-1763226000@hobby-horsing-germany.de
SUMMARY:1. Hobby Horsing Turnier des RV Rielasingen (Baden-Württemberg)
DESCRIPTION:Hobby Horsing Turnier im des RV Rielasingen \n\n\n\nÖffentliches Hobby Horsing- Turnier für Teilnehmer ab 6 Jahren.Veranstalter: RV Rielasingen | E-Mail: Pauline.kircher@web.deAnsprechpartner: Pauline Kircher | Tel.: 01575/0462980 \n\n\n\nNennschluss: 31.10.2025 \n\n\n\nNennungen per E-Mail an: Pauline.kircher@web.de \n\n\n\n\n\n\n\n\nAusschreibung \n\n\n\n\n\n\n\n\n\n\n\n\nWettbewerbe: \n\n\n\n\nA-Dressur\, vorgegeben\, (Feld: 7×14 m)\n\n\n\nS-Dressur-Kür\, (Feld: 7×21 m)\n\n\n\nA-Stilspringen (40-50 cm)\n\n\n\nA-Zeitspringen (40-50 cm)\n\n\n\nL-Stilspringen (60-70 cm)\n\n\n\nL-Zeitspringen (60-70cm)\n\n\n\nS-Stilspringen (80-100)\n\n\n\nS-Zeitspringen (80-100cm)\n\n\n\nMächtigkeitsspringen (ab 80 cm)\n\n\n\n\n\n\n\n\n\n\n\n\n\n\n\n\n\n\n\n\n\n\n  \n    \n    \n    NEU!\n\n    \n    \n      ❄\n      ❅\n      ✼\n      ❄\n      ❅\n      ✼\n      ❄\n      ❅\n      ✼\n      ❄\n      ❅\n      ✼\n    \n  \n\n  \n    NEU in unserem Shop: Hobby Horse Adventskalender\n    24 sportliche Überraschungen für Hobby Horser – perfekt zum Verschenken oder selbst genießen. \n    Nur 90 €\n    \n      Jetzt sichern
URL:https://hobby-horsing-germany.de/event/hobby-horsing-turnier-rielasingen/
LOCATION:Talwiesenhalle Rielasingen\, Doktor-Fritz-Guth-Straße 7\, Rielasingen-Worblingen\, Baden-Württemberg\, 78239\, Germany
CATEGORIES:Baden-Württemberg,Events & Turniere,Hobby Horse Veranstaltung,Öffentliches Hobby Horse Turnier
END:VEVENT
BEGIN:VEVENT
DTSTART;TZID=Europe/Berlin:20251116T093000
DTEND;TZID=Europe/Berlin:20251116T170000
DTSTAMP:20260419T165714
CREATED:20251105T124243Z
LAST-MODIFIED:20251105T124246Z
UID:5797-1763285400-1763312400@hobby-horsing-germany.de
SUMMARY:1. Quellenhof Hobby Horsing Cup (Baden-Württemberg)
DESCRIPTION:Hobby Horsing Turnier des RSV Quellenhof Bodensee e.V. \n\n\n\nÖffentliches Hobby Horsing- Turnier mit 12 Wettbewerben ab 4 Jahren. \n\n\n\nVeranstalter:  RSV Quellenhof Bodensee e.V. | E-Mail: quellenhof@simonawinter.deAnsprechpartner: Simona Winter | Tel.: 0177/2726921Nennschluss: 09.11.2025 \n\n\n\n\n\n\n\n\nAusschreibung\n\n\n\n\n\n\n\n\n\nNennformular\n\n\n\n\n\n\n\n\n\n\n\n\nWettbewerbe: \n\n\n\n\nReiterwettbewerb Abteilung\, U6\, U9\, U12 6\,00 €\n\n\n\nDressur leicht U6\, U9\, U12\, U15 7\,00 €\n\n\n\nDressur mittel U9\, U12\, U15\, U21 8\,00 €\n\n\n\nSpringreiterwettbewerb Abteilung\, U6\, U9\, U12\, bis 40 cm 6\,00 €\n\n\n\nStil-Springen leicht U6\, U9\, U12\, U15\n\n\n\nGruppe 1 40-50 cm\n\n\n\nGruppe 2 50-65 cm 7\,00 €\n\n\n\nStil-Springen mittel U9\, U12\, U15\, U21\, 70-85 cm 8\,00 €\n\n\n\nStil-Geländeprüfung leicht U6\, U9\, U12\, U15\, U21\n\n\n\nGruppe 1: 40-50 cm\n\n\n\nGruppe 2: 50-65 cm 7\,00 €\n\n\n\nHochsprung-Wettbewerb (Mächtigkeit) U6\, U9\, U12\, U15\, U21 7\,00 €\n\n\n\n\n\n\n\n\n \n\n\n\n\n\n\n\n\n\n\n\n\n\n\n\n\n\n\n\n\n\n  \n    \n    \n    NEU!\n\n    \n    \n      ❄\n      ❅\n      ✼\n      ❄\n      ❅\n      ✼\n      ❄\n      ❅\n      ✼\n      ❄\n      ❅\n      ✼\n    \n  \n\n  \n    NEU in unserem Shop: Hobby Horse Adventskalender\n    24 sportliche Überraschungen für Hobby Horser – perfekt zum Verschenken oder selbst genießen. \n    Nur 90 €\n    \n      Jetzt sichern
URL:https://hobby-horsing-germany.de/event/1-quellenhof-hobby-horsing-cup/
LOCATION:RSV Quellenhof Bodensee e.V.\, Jahnweg 1\, Stockach\, Baden-Württemberg\, 78333\, Germany
CATEGORIES:Baden-Württemberg,Events & Turniere,Hobby Horse Veranstaltung,Öffentliches Hobby Horse Turnier
END:VEVENT
BEGIN:VEVENT
DTSTART;TZID=Europe/Berlin:20251123T080000
DTEND;TZID=Europe/Berlin:20251123T170000
DTSTAMP:20260419T165714
CREATED:20250514T115500Z
LAST-MODIFIED:20251110T065130Z
UID:2804-1763884800-1763917200@hobby-horsing-germany.de
SUMMARY:Qualifikationsturnier für die 2. Deutsche Meisterschaft in Ditzingen (Baden-Württemberg)
DESCRIPTION:Hobby Horsing Turnier – TSF Ditzingen 1893 e.V \n\n\n\nVeranstalter: TSF Ditzingen 1893 e.V | Tanja TurnerAnsprechpartner: Tina Gardt | meisterschaft@dthhv.de Nennschluss: 09. November 2025 \n\n\n\nNennschluss \n\n\n\n\n\n\n\n>>> Ausschreibung <<< \n\n\n\n\n\n\n\nWettbewerbe:  \n\n\n\n\nDressur schwer (U12\, U15\, U21\, U31\, U99)\n\n\n\nStilspringen mittel – 50cm (U12\, U99)\n\n\n\nStilspringen schwer – 60/70cm (U15\, U21\, U31)Zeitspringen mittel – 50cm (U12\, U99)\n\n\n\nZeitspringen schwer -60/70cm (U15\, U21\, U31)\n\n\n\n\n\n\n\n\nGrundsätzliche Regelungen:\n\n\n\nIn allen Prüfungen gilt das Regelwerk des DtHHV. \n\n\n\nEinteilung in Altersklassen:Um die Teilnehmer fair miteinander vergleichen zu können\, gibt es in allen Prüfungen eine Einteilung in die folgenden Altersklassen: \n\n\n\nAltersklassen für die Qualifikation:U12 Jahrgang 2017-2015U15 Jahrgang 2014-2012U21 Jahrgang 2011-2006U31 Jahrgang 2005-1996U99 Jahrgang 1995 und älter \n\n\n\n\n\n\n\n \n\n\n\n\n\n\n\n\n\n\n\n\n\n\n\n\n\n\n\n\n\n  \n    \n    \n    NEU!\n\n    \n    \n      ❄\n      ❅\n      ✼\n      ❄\n      ❅\n      ✼\n      ❄\n      ❅\n      ✼\n      ❄\n      ❅\n      ✼\n    \n  \n\n  \n    NEU in unserem Shop: Hobby Horse Adventskalender\n    24 sportliche Überraschungen für Hobby Horser – perfekt zum Verschenken oder selbst genießen. \n    Nur 90 €\n    \n      Jetzt sichern
URL:https://hobby-horsing-germany.de/event/qualifikationsturnier-in-ditzingen/
LOCATION:TSF Ditzingen 1893 e.V.\, Weissacher Str. 44\, Ditzingen. Heimerdingen\, Baden-Württemberg\, 71254\, Germany
CATEGORIES:Baden-Württemberg,Deutschland,Events & Turniere,Hobby Horsing Event DtHHV,Öffentliches Hobby Horse Turnier
ATTACH;FMTTYPE=image/jpeg:https://hobby-horsing-germany.de/wp-content/uploads/2025/05/Qualifiktionsturnier-2025-2026.jpeg
ORGANIZER;CN="TSF Ditzingen 1893 e.V. Tanja Turner":MAILTO:tsf-horse-cup@web.de
END:VEVENT
BEGIN:VEVENT
DTSTART;TZID=Europe/Berlin:20251129T080000
DTEND;TZID=Europe/Berlin:20251129T170000
DTSTAMP:20260419T165714
CREATED:20250514T104622Z
LAST-MODIFIED:20251104T224715Z
UID:2790-1764403200-1764435600@hobby-horsing-germany.de
SUMMARY:Qualifikationsturnier für die 2. Deutsche Meisterschaft in Oberursel (Hessen)
DESCRIPTION:Die Zeiteinteilung ist noch nicht abgeschlossen. \n\n\n\nHobby Horsing Turnier – TV Oberstedten \n\n\n\nVeranstalter: TV Oberstedten | Silke EngelAnsprechpartner: Tina Gardt | meisterschaft@dthhv.de Nennschluss: 01. November 2025 \n\n\n\nNennschluss \n\n\n\n\n\n\n\n>>> Ausschreibung <<< \n\n\n\n\n\n\n\nWettbewerbe:  \n\n\n\n\nDressur schwer (U12\, U15\, U21\, U31\, U99)\n\n\n\nStilspringen mittel – 50cm (U12\, U99)\n\n\n\nStilspringen schwer – 60/70cm (U15\, U21\, U31)Zeitspringen mittel – 50cm (U12\, U99)\n\n\n\nZeitspringen schwer -60/70cm (U15\, U21\, U31)\n\n\n\n\n\n\n\n\nGrundsätzliche Regelungen:\n\n\n\nIn allen Prüfungen gilt das Regelwerk des DtHHV. \n\n\n\nEinteilung in Altersklassen:Um die Teilnehmer fair miteinander vergleichen zu können\, gibt es in allen Prüfungen eine Einteilung in die folgenden Altersklassen: \n\n\n\nAltersklassen für die Qualifikation:U12 Jahrgang 2017-2015U15 Jahrgang 2014-2012U21 Jahrgang 2011-2006U31 Jahrgang 2005-1996U99 Jahrgang 1995 und älter \n\n\n\n\n\n\n\n \n\n\n\n\n\n\n\n\n\n\n\n\n\n\n\n\n\n\n\n\n\n  \n    \n    \n    NEU!\n\n    \n    \n      ❄\n      ❅\n      ✼\n      ❄\n      ❅\n      ✼\n      ❄\n      ❅\n      ✼\n      ❄\n      ❅\n      ✼\n    \n  \n\n  \n    NEU in unserem Shop: Hobby Horse Adventskalender\n    24 sportliche Überraschungen für Hobby Horser – perfekt zum Verschenken oder selbst genießen. \n    Nur 90 €\n    \n      Jetzt sichern
URL:https://hobby-horsing-germany.de/event/qualifikationsturnier-in-oberursel/
LOCATION:TV Oberstedten 1887 e. V.\, Niederstedter Straße 12a\, Oberursel\, Hessen\, 61440\, Germany
CATEGORIES:Deutschland,Events & Turniere,Hessen,Hobby Horsing Event DtHHV,Öffentliches Hobby Horse Turnier
ATTACH;FMTTYPE=image/jpeg:https://hobby-horsing-germany.de/wp-content/uploads/2025/05/Qualifiktionsturnier-2025-2026.jpeg
END:VEVENT
BEGIN:VEVENT
DTSTART;TZID=Europe/Berlin:20251129T080000
DTEND;TZID=Europe/Berlin:20251129T180000
DTSTAMP:20260419T165714
CREATED:20250911T084421Z
LAST-MODIFIED:20250920T204132Z
UID:4590-1764403200-1764439200@hobby-horsing-germany.de
SUMMARY:1. Deutsch-polnischer Hobby Horse & Holzpferde-Voltigier- Trainingstag Guben (Brandenburg)
DESCRIPTION:Öffentliches Hobby Horsing-Turnier & Trainingstag für Teilnehmer aller Altersklassen. \n\n\n\nVeranstalter: RFV Lieberose e.V. | E-Mail: sportpferdedrabsch@gmail.comAnsprechpartner: Michael Drabsch | Tel.: 0173/6323281Nennschluss: 17. November 2025 \n\n\n\nNennungen per Nennformular an E-Mail an: sportpferdedrabsch@gmail.com \n\n\n\nAusschreibung ansehen \n\n\n\nNennformular \n\n\n\nFlyer  \n\n\n\n\n\n\n\nWettbewerbe: \n\n\n\n\nZeitspringen 20cm\,  ab JG 2019 und jünger\n\n\n\nZeitspringen 60cm\,  ab JG 2017 und jünger\n\n\n\nZeitspringen 90cm\,  alle Altersklassen\n\n\n\nBarrierenspringen – alle Altersklassen\n\n\n\nDrive Hobby Horsing „Kutsche fahren“\n\n\n\nDrive Hobby Horsing „Duett Eltern-Kind-Kutsche“\n\n\n\n\n\n\n\n\n\n\n\n\nPolski: \n\n\n\nPubliczny turniej Hobby Horsing & dzień treningowy dla uczestników wszystkich kategorii wiekowych. \n\n\n\nOrganizator: RFV Lieberose e.V. | E-Mail: sportpferdedrabsch@gmail.comOsoba kontaktowa: Michael Drabsch | Tel.: 0173/6323281Termin zgłoszeń: 17 listopada 2025 \n\n\n\nZgłoszenia za pomocą formularza zgłoszeniowego na adres e-mail: sportpferdedrabsch@gmail.com \n\n\n\nRegulamin zawodów \n\n\n\nFlyer  \n\n\n\nKonkurencje: \n\n\n\n\nSkoki na czas 20 cm\, rocznik 2019 i młodsi\n\n\n\nSkoki na czas 60 cm\, rocznik 2017 i młodsi\n\n\n\nSkoki na czas 90 cm\, wszystkie kategorie wiekowe\n\n\n\nSkoki przez przeszkody – wszystkie kategorie wiekowe\n\n\n\nJump & Dive (60 cm) – rocznik 2017 i młodsi\n\n\n\nJump & Dive (90 cm) – rocznik 2016 i młodsi
URL:https://hobby-horsing-germany.de/event/deutsch-polnischer-hobbyhorse/
LOCATION:RFV Lieberose e.V.\, Klaus-Herrmann-Str. 20A\, Guben\, Brandenburg\, 03172\, Germany
CATEGORIES:Brandenburg,Events & Turniere,Hobby Horse Veranstaltung,Öffentliches Hobby Horse Turnier
END:VEVENT
END:VCALENDAR