BEGIN:VCALENDAR
VERSION:2.0
PRODID:-//Hobby Horsing Germany - ECPv6.15.20//NONSGML v1.0//EN
CALSCALE:GREGORIAN
METHOD:PUBLISH
X-ORIGINAL-URL:https://hobby-horsing-germany.de
X-WR-CALDESC:Veranstaltungen für Hobby Horsing Germany
REFRESH-INTERVAL;VALUE=DURATION:PT1H
X-Robots-Tag:noindex
X-PUBLISHED-TTL:PT1H
BEGIN:VTIMEZONE
TZID:Europe/Berlin
BEGIN:DAYLIGHT
TZOFFSETFROM:+0100
TZOFFSETTO:+0200
TZNAME:CEST
DTSTART:20240331T010000
END:DAYLIGHT
BEGIN:STANDARD
TZOFFSETFROM:+0200
TZOFFSETTO:+0100
TZNAME:CET
DTSTART:20241027T010000
END:STANDARD
BEGIN:DAYLIGHT
TZOFFSETFROM:+0100
TZOFFSETTO:+0200
TZNAME:CEST
DTSTART:20250330T010000
END:DAYLIGHT
BEGIN:STANDARD
TZOFFSETFROM:+0200
TZOFFSETTO:+0100
TZNAME:CET
DTSTART:20251026T010000
END:STANDARD
BEGIN:DAYLIGHT
TZOFFSETFROM:+0100
TZOFFSETTO:+0200
TZNAME:CEST
DTSTART:20260329T010000
END:DAYLIGHT
BEGIN:STANDARD
TZOFFSETFROM:+0200
TZOFFSETTO:+0100
TZNAME:CET
DTSTART:20261025T010000
END:STANDARD
END:VTIMEZONE
BEGIN:VTIMEZONE
TZID:America/Los_Angeles
BEGIN:DAYLIGHT
TZOFFSETFROM:-0800
TZOFFSETTO:-0700
TZNAME:PDT
DTSTART:20240310T100000
END:DAYLIGHT
BEGIN:STANDARD
TZOFFSETFROM:-0700
TZOFFSETTO:-0800
TZNAME:PST
DTSTART:20241103T090000
END:STANDARD
BEGIN:DAYLIGHT
TZOFFSETFROM:-0800
TZOFFSETTO:-0700
TZNAME:PDT
DTSTART:20250309T100000
END:DAYLIGHT
BEGIN:STANDARD
TZOFFSETFROM:-0700
TZOFFSETTO:-0800
TZNAME:PST
DTSTART:20251102T090000
END:STANDARD
BEGIN:DAYLIGHT
TZOFFSETFROM:-0800
TZOFFSETTO:-0700
TZNAME:PDT
DTSTART:20260308T100000
END:DAYLIGHT
BEGIN:STANDARD
TZOFFSETFROM:-0700
TZOFFSETTO:-0800
TZNAME:PST
DTSTART:20261101T090000
END:STANDARD
END:VTIMEZONE
BEGIN:VTIMEZONE
TZID:UTC
BEGIN:STANDARD
TZOFFSETFROM:+0000
TZOFFSETTO:+0000
TZNAME:UTC
DTSTART:20240101T000000
END:STANDARD
END:VTIMEZONE
BEGIN:VEVENT
DTSTART;TZID=Europe/Berlin:20251004T080000
DTEND;TZID=Europe/Berlin:20251004T170000
DTSTAMP:20260419T151557
CREATED:20250514T120936Z
LAST-MODIFIED:20250925T131117Z
UID:2818-1759564800-1759597200@hobby-horsing-germany.de
SUMMARY:Qualifikationsturnier für die 2. Deutsche Meisterschaft in Schortens (Niedersachsen)
DESCRIPTION:Hobby Horsing Turnier – Heidmühler FC\, Team Hobby Horsing \n\n\n\nVeranstalter: Heidmühler FC\, Team Hobby Horsing | Ansprechpartner: Tina Gardt | meisterschaft@dthhv.de Nennschluss: 06. September 2025 \n\n\n\nNennungen: ausschließlich Online  \n\n\n\n\nKostenpflichtig anmelden\n\n\n\n\n\n\n\n\n>>> Ausschreibung <<< \n\n\n\n\n\n\n\nWettbewerbe:  \n\n\n\n\nDressur schwer (U12\, U15\, U21\, U31\, U99)\n\n\n\nStilspringen mittel – 50cm (U12\, U99)\n\n\n\nStilspringen schwer – 60/70cm (U15\, U21\, U31)Zeitspringen mittel – 50cm (U12\, U99)\n\n\n\nZeitspringen schwer -60/70cm (U15\, U21\, U31)\n\n\n\n\n\n\n\n\nGrundsätzliche Regelungen:\n\n\n\nIn allen Prüfungen gilt das Regelwerk des DtHHV. \n\n\n\nEinteilung in Altersklassen:Um die Teilnehmer fair miteinander vergleichen zu können\, gibt es in allen Prüfungen eine Einteilung in die folgenden Altersklassen: \n\n\n\nAltersklassen für die Qualifikation:U12 Jahrgang 2017-2015U15 Jahrgang 2014-2012U21 Jahrgang 2011-2006U31 Jahrgang 2005-1996U99 Jahrgang 1995 und älter
URL:https://hobby-horsing-germany.de/event/qualifikationsturnier-in-schortens/
LOCATION:Heidmühler FC\, Team Hobby Horsing\, Sporthalle Beethovenstraße\, Schortens\, Niedersachsen\, 26419\, Germany
CATEGORIES:Deutschland,Events & Turniere,Hobby Horsing Event DtHHV,Niedersachsen,Öffentliches Hobby Horse Turnier
ATTACH;FMTTYPE=image/jpeg:https://hobby-horsing-germany.de/wp-content/uploads/2025/05/Qualifiktionsturnier-2025-2026.jpeg
END:VEVENT
BEGIN:VEVENT
DTSTART;TZID=America/Los_Angeles:20251005T100000
DTEND;TZID=America/Los_Angeles:20251005T170000
DTSTAMP:20260419T151557
CREATED:20250316T045446Z
LAST-MODIFIED:20250719T065834Z
UID:1294-1759658400-1759683600@hobby-horsing-germany.de
SUMMARY:Aktionstag für Kinder - Gartenschau 2025 - Baden-Württemberg
DESCRIPTION:Hobby Horsing Parcours zum Ausprobieren – für Kinder im Treffpunkt Baden-Württemberg. \n\n\n\nDer Deutsche Hobby Horsing Verband lädt bei der Landesgartenschau zu spannenden Aktionstagen ein! Kinder ab 6 Jahren können verschiedene Parcours testen\, während für die Jüngeren (ab 3 Jahren) ein eigener Bereich bereitsteht. Bring dein eigenes Hobby Horse mit oder leihe dir eines vor Ort aus – Spaß und Bewegung sind garantiert! \n\n\n\nWeitere Infos unter: www.tal-x.de/veranstaltungen
URL:https://hobby-horsing-germany.de/event/aktionstag-fur-kinder-gartenschau-2025-bw-6/
LOCATION:Landesgartenschau Baden-Württemberg\, Freudenstadt und Baiersbronn\, Baden-Württemberg\, 72270\, Germany
CATEGORIES:Baden-Württemberg,Deutschland,Hobby Horse Veranstaltung,Hobby Horsing Event DtHHV
ATTACH;FMTTYPE=image/jpeg:https://hobby-horsing-germany.de/wp-content/uploads/2025/03/Hobby-Horsing-Aktionstage-mit-Andreas-Karasek.jpg
END:VEVENT
BEGIN:VEVENT
DTSTART;TZID=Europe/Berlin:20251011T083000
DTEND;TZID=Europe/Berlin:20251011T183000
DTSTAMP:20260419T151557
CREATED:20250816T220736Z
LAST-MODIFIED:20250819T111830Z
UID:4085-1760171400-1760207400@hobby-horsing-germany.de
SUMMARY:4. Hobby Horse Turnier Neuenkirchen-Vörden (Niedersachsen)
DESCRIPTION:Hobby Horsing Turnier der Hobby Horse Gruppe TuS Neuenkirchen-Vörden \n\n\n\nÖffentliches Hobby Horsing- Turnier für Teilnehmer zwischen 4-25 Jahren. \n\n\n\nVeranstalter:  Hobby Horse Gruppe TuS Neuenkirchen-Vörden | E-Mail: hobbyhorses-er@osnanet.deAnsprechpartner: Erwin Raupach \,K.Dirla\,H.Siemer | Tel.: 05491/557878Nennschluss: 20.09.2025 \n\n\n\n+++ Ausschreibung +++ \n\n\n\nNENNFORMULAR  \n\n\n\nNennung per E-Mail an: hobbyhorses-er@osnanet.de \n\n\n\n\n\n\n\nWettbewerbe: \n\n\n\n\nGeländestilspr.40/60 cm\n\n\n\nGeländezeitspr. 20/40/60 cm\n\n\n\nZeitspringen 20/40/60 cm\n\n\n\nClear-Round Spr. mit Kostüm 30/50 cm\n\n\n\nPunktejagd leicht und mittel\n\n\n\nGeschicklichkeitspacour\n\n\n\n\nPlatzierung 1.-5.Pl m EhrenpreisTeilnehmer Schleife für jeden
URL:https://hobby-horsing-germany.de/event/4-hobby-horse-turnier-neuenkirchen-voerden/
LOCATION:Hobby Horse Gruppe TuS Neuenkirchen-Vörden\, Holdorfer Str 7\, Neuenkirchen-Vörden\, Niedersachsen\, 49434\, Germany
CATEGORIES:Events & Turniere,Hobby Horse Veranstaltung,Niedersachsen,Öffentliches Hobby Horse Turnier
END:VEVENT
BEGIN:VEVENT
DTSTART;TZID=Europe/Berlin:20251011T140000
DTEND;TZID=Europe/Berlin:20251011T173000
DTSTAMP:20260419T151557
CREATED:20250923T202608Z
LAST-MODIFIED:20250923T202611Z
UID:4644-1760191200-1760203800@hobby-horsing-germany.de
SUMMARY:Hobby Horsing Turnier - Odenwald-Oberzent (Hessen)
DESCRIPTION:Öffentliches Hobby Horsing des TV Beerfelden und Reiterhof Michelshof (8-15 Jahre) \n\n\n\nVeranstalter: TV Beerfelden und Reiterhof Michelshof | E-Mail: tanjakwiatkista@yahoo.comAnsprechpartner: Tanja Kwiatkista | Tel.: 01573/2006007Nennschluss: 04.10.2025 \n\n\n\nNennungen per E-Mail an: tanjakwiatkista@yahoo.com \n\n\n\nFLYER Downloaden \n\n\n\n\n\n\n\nWettbewerbe \n\n\n\n\nDressur (M)\n\n\n\nZeitspringen (U9\, U12)\n\n\n\nReiterwettbewerb ab 4 Jahren\n\n\n\noffener Springparcours für alle Gäste\n\n\n\n\n\n\n\n\nDas Turnier ist Kostenfrei und wir organisieren gemeinsam ein kleines Buffet.Deshalb gerne etwas Vegetarisches / Fingerfood / Kuchen für die ReiterInnen und Familien mit bringen.
URL:https://hobby-horsing-germany.de/event/hobby-horsing-turnier-odenwald/
LOCATION:TV Beerfelden und Reiterhof Michelshof\, Hirschhornerstrasse 40\, Beerfelden\, Hessen\, 64760\, Germany
CATEGORIES:Events & Turniere,Hessen,Hobby Horse Veranstaltung,Öffentliches Hobby Horse Turnier
END:VEVENT
BEGIN:VEVENT
DTSTART;TZID=Europe/Berlin:20251016T100000
DTEND;TZID=Europe/Berlin:20251016T150000
DTSTAMP:20260419T151557
CREATED:20250925T132642Z
LAST-MODIFIED:20250925T132707Z
UID:4659-1760608800-1760626800@hobby-horsing-germany.de
SUMMARY:Hobby Horsing Ferienprogramm beim TSV Zornheim (Rheinland-Pfalz)
DESCRIPTION:🐴 Hobby Horsing Ferienprogramm beim TSV Zornheim \n\n\n\nVeranstalter:  TSV Zornheim 1985 e. V. Ansprechpartner: Tina Gardt | Tel.: 0170 – 35 098 75Nennschluss: 10.10.2025 \n\n\n\nFür alle begeisterten Hobby Horser ab 6 Jahren\, egal ob Anfänger oder Fortgeschrittene. \n\n\n\n-> Flyer herunterladen \n\n\n\n\n\n\n\nProgramm\n\n\n\n\nSpringen\n\n\n\nFun & Action: Western\, Mounted Games & Spiele\n\n\n\nKreatives Basteln\n\n\n\n\n\n\n\n\nBitte mitbringen\n\n\n\n\nEigenes Hobby Horse mit Zaumzeug & Zügeln\n\n\n\nSportkleidung und -schuhe\n\n\n\nWechselkleidung\n\n\n\nBlock & Stifte\n\n\n\nTeller & Besteck\n\n\n\nViel gute Laune ✨\n\n\n\n\n👉 Die Teilnehmerzahl ist auf 20 Kinder begrenzt! \n\n\n\n📱 Anmeldung & Fragen: WhatsApp an 0170 – 35 098 75
URL:https://hobby-horsing-germany.de/event/hobby-horsing-ferienprogramm-beim-tsv-zornheim/
LOCATION:TSV Zornheim\, Ob. Pfortenstraße 4 - Lindenplatzhalle\, Zornheim\, Rheinland-Pfalz\, 55270\, Germany
CATEGORIES:Hobby Horse Veranstaltung,Rheinland-Pfalz
ATTACH;FMTTYPE=image/png:https://hobby-horsing-germany.de/wp-content/uploads/2025/09/Ferienprogramm-Zornheim.png
END:VEVENT
BEGIN:VEVENT
DTSTART;TZID=Europe/Berlin:20251018T090000
DTEND;TZID=Europe/Berlin:20251018T180000
DTSTAMP:20260419T151557
CREATED:20250827T095401Z
LAST-MODIFIED:20250827T110706Z
UID:4256-1760778000-1760810400@hobby-horsing-germany.de
SUMMARY:Dressur Workshop mit Tina Gardt - Mittelstufe (Baden-Württemberg)
DESCRIPTION:Hobby Horsing Dressur-Workshop mit Tina Gardt (Mittelstufe)Altersbegrenzung: 8-16 Jahre \n\n\n\nVeranstalter: Ft1844 | E-Mail: tanjakwiatkista@yahoo.comAnsprechpartner: Tanja Kwiatkista | Tel.: 01573/2006007Nennschluss: 15.10.2025 \n\n\n\nAnmeldung über die Freiburger Turnerschaft (Unter: Workshop Hobby Horsing)Bei Fragen sehr gerne bei Tanja melden:Tel.: 0157-3200 6007 \n\n\n\n\n\n\n\nBeschreibung:An diesem Trainings-Workshop widmen wir uns intensiv der Dressur! \n\n\n\nSamstags findet der Workshop mit Gast Trainerin Tina Gardt für die Mittelstufe statt\, die ihre Dressur- Kenntnisse erweitern\,- und intensiv an ihrer Technik „feilen“ möchten!(Sonntags gibt es einen Trainingstag für Mittelstufe & Fortgeschrittene) \n\n\n\nAnmerkungen / Kommentare: \n\n\n\nDie Teilnehmerinnen Anzahl ist begrenzt.Dieser Workshop richtet sich ausschließlich an Fortgeschrittenere Sportlerinnen: \n\n\n\nMittelstufe. \n\n\n\nBitte bequeme Kleidung und Hallenschuhe/Schläppchen mit bringen\, sowieEssen und Trinken für die Mittagspause und für den Nachmittags Snack! \n\n\n\nDen Kurs-Betrag entweder bei Anmeldung über die Ft1844 online zahlen (wird abgebucht) oder passend zum Tagesworkshop mit bringen. \n\n\n\nBei Fragen gerne melden:Tanja: 0157-32006007
URL:https://hobby-horsing-germany.de/event/dressur-workshop-oktober/
LOCATION:FT1844 (Freiburger Turnerschaft)\, Schwarzwaldstraße 181\, Freiburg im Breisgau\, Baden-Württemberg\, 79117\, Germany
CATEGORIES:Baden-Württemberg,Hobby Horse Veranstaltung,Workshops und Seminare
END:VEVENT
BEGIN:VEVENT
DTSTART;TZID=America/Los_Angeles:20251018T093000
DTEND;TZID=America/Los_Angeles:20251018T180000
DTSTAMP:20260419T151557
CREATED:20250312T174801Z
LAST-MODIFIED:20250406T105932Z
UID:1227-1760779800-1760810400@hobby-horsing-germany.de
SUMMARY:Koblenzer Reiter Cup III (Rheinland-Pfalz)
DESCRIPTION:Hobby Horsing Turnier im Gemeindehaus St. Anna – Neuhäusel \n\n\n\nÖffentliches Hobby Horsing- Turnier für Teilnehmer zw. 8-16 Jahren.Veranstalter: Zorica Pezer | E-Mail: zoricapezer81@gmail.comAnsprechpartner: Zorica Pezer | Tel.: 0176/64087923Nennschluss!  \n\n\n\nLeider sind alle Startplätze belegt. Eine Nennung ist nicht mehr möglich.  \n\n\n\n\n\n\n\nWettbewerbe: \n\n\n\n\nE-Zeitspringen (10-20cm)\n\n\n\nA-Zeitspringen (30-40cm)\n\n\n\nE-Stilspringen (10-20cm)\n\n\n\nA-Stilspringen (30-40cm)\n\n\n\nL-Stilspringen (50-60cm)\n\n\n\nM-Stilspringen (70-80cm)\n\n\n\nS-Stilspringen (90-100cm)\n\n\n\nE-Dressur (Vorgegebene Kür)\n\n\n\nS-Dressur (Freestyle)\n\n\n\nPunktespringen (40/60cm)\n\n\n\nGalopprennen\n\n\n\nMächtigkeitsspringen\n\n\n\n\nDie Prüfungen\, die Rot markiert sind\, werden in 2 Altersklassen eingeteilt. In den anderen Prüfungen treten beide Klassen gegeneinander an. \n\n\n\n\n\n\n\nRückfragen sind bitte an den Veranstalter zu richten:Ansprechpartner: Zorica Pezer | E-Mail: zoricapezer81@gmail.com \n\n\n\nAnmerkungen:Die Prüfungen werden Teilweise in 2 Altersklassen eingeteilt: K1: 8-11 Jahre\, K2: 12-16 Jahre. \n\n\n\nEs wird einen Essensverkauf und eine Große Verlosung geben. \n\n\n\nDie Anmeldung erfolgt bitte NUR über das beigefügte Anmeldeformular. Danke! \n\n\n\nDer Erlös des Turniers wird an die Organisation „Marys Meals“ gespendet. \n\n\n\n\n\n\n\n>> Ausschreibung & Nennformular<<>> Haftungsausschluss<<
URL:https://hobby-horsing-germany.de/event/koblenzer-reiter-cup-iii-rheinland-pfalz/
LOCATION:Gemeindehaus St. Anna\, Gartenstraße 22\, Neuhäusel\, Rheinland-Pfalz\, 56335\, Germany
CATEGORIES:Deutschland,Hobby Horse Veranstaltung,Öffentliches Hobby Horse Turnier,Rheinland-Pfalz
ORGANIZER;CN="Zorica Pezer":MAILTO:zoricapezer81@gmail.com
END:VEVENT
BEGIN:VEVENT
DTSTART;TZID=Europe/Berlin:20251018T100000
DTEND;TZID=Europe/Berlin:20251018T170000
DTSTAMP:20260419T151557
CREATED:20251009T110736Z
LAST-MODIFIED:20251009T110847Z
UID:5430-1760781600-1760806800@hobby-horsing-germany.de
SUMMARY:Hobby-Horse Turnier Springen\, Dressur\, Gelände (Nordrhein-Westfalen)
DESCRIPTION:Hobby Horsing des RVO St. Hubertus Wesel Obrighoven \n\n\n\nVeranstalter: RVO St. Hubertus Wesel Obrighoven | E-Mail: s.wolf@rv-obrighoven.deAnsprechpartner: Susanne Wolf Nennschluss: 15. Oktober 2025 \n\n\n\nNennungen per Nennformular an Susanne Wolf\, per E-Mail an: k.maiwald@rv-obrighoven.de \n\n\n\n\n\n\n\n\nAusschreibung & Nennformular\n\n\n\n\n\n\n\n\n\n\n\n\nWettbewerbe: \n\n\n\n\nDressur Minis\n\n\n\nDressur Junior\n\n\n\nDressur Senior\n\n\n\nSpringen Stil Mini\n\n\n\nJunior\n\n\n\nSenior\n\n\n\nZeitspringen 2 Klassen\n\n\n\nMächtigkeitsspringen\n\n\n\nGeländeparcours
URL:https://hobby-horsing-germany.de/event/hobby-horse-turnier-wesel/
LOCATION:Reitersportverein St. Hubertus Wesel-Obrighoven\, Am Reitplatz 9a\, Wesel\, Nordrhein-Westfalen\, 46485\, Germany
CATEGORIES:Events & Turniere,Nordrhein-Westfalen,Öffentliches Hobby Horse Turnier
END:VEVENT
BEGIN:VEVENT
DTSTART;TZID=Europe/Berlin:20251018T100000
DTEND;TZID=Europe/Berlin:20251018T180000
DTSTAMP:20260419T151557
CREATED:20250909T193748Z
LAST-MODIFIED:20250909T195125Z
UID:4560-1760781600-1760810400@hobby-horsing-germany.de
SUMMARY:2. Donau Hobby Horse Turnier (Bayern)
DESCRIPTION:Hobby Horsing beim SV Wettstetten e. V. \n\n\n\nVeranstalter: SV Wettstetten e. V. | E-Mail: donauhobbyhorseturnier@gmail.comAnsprechpartner: Kristina Krutina | Tel.: 0176/63764326Nennschluss: 14. September 2025 \n\n\n\nNennungen per Nennformular an E-Mail an: donauhobbyhorseturnier@gmail.com \n\n\n\n>>> Ausschreibung & Nennformular <<< \n\n\n\n\n\n\n\nWettbewerbe: \n\n\n\n\nReiterwettbewerb\n\n\n\nDressur L\n\n\n\nDressur S\n\n\n\nZeitspringen (E 30cm\, L 40cm\, M 50cm\, S 60cm)\n\n\n\nStilspringen (L 40cm\, M 60cm\, S 80cm)\n\n\n\nMächtigkeitsspringen ab 70cm\n\n\n\n\n\n\n\n\nWertung jeder Prüfung in Altersklassen.
URL:https://hobby-horsing-germany.de/event/2-donau-hobby-horse-turnier-2/
LOCATION:SV Wettstetten e. V.\, Am Sportplatz 9\, Wettstetten (bei Ingolstadt)\, Bayern\, 85319\, Germany
CATEGORIES:Bayern,Events & Turniere,Hobby Horse Veranstaltung,Öffentliches Hobby Horse Turnier
END:VEVENT
BEGIN:VEVENT
DTSTART;TZID=Europe/Berlin:20251019T090000
DTEND;TZID=Europe/Berlin:20251019T160000
DTSTAMP:20260419T151557
CREATED:20250827T100126Z
LAST-MODIFIED:20260123T074009Z
UID:4260-1760864400-1760889600@hobby-horsing-germany.de
SUMMARY:Dressur Workshop (Mittelstufe-Fortgeschrittene) (Baden-Württemberg)
DESCRIPTION:Hobby Horsing Dressur-Workshop mit Tina Gardt (Mittelstufe-Fortgeschrittene)Altersbegrenzung: 8-16 Jahre \n\n\n\nVeranstalter: Ft1844 | E-Mail: tanjakwiatkista@yahoo.comAnsprechpartner: Tanja Kwiatkista | Tel.: 01573/2006007Nennschluss: 15.10.2025 \n\n\n\nAnmeldung über die Freiburger Turnerschaft (Unter: Workshop Hobby Horsing)Bei Fragen sehr gerne bei Tanja melden:Tel.: 0157-3200 6007 \n\n\n\n\n\n\n\nBeschreibung:An diesem Sonntag findet der Workshop mit Gast Trainerin Tina Gardt für die Mittelstufe und Fortgeschrittene mit Vorkenntnissen statt.Der Tages Workshop richtet sich an Hobby-Horser im Alter von 8-16 Jahren\, die ihre Dressur- Kenntnisse erweitern\, und an ihrer Eleganz „feilen“ möchten. \n\n\n\nTina Gardt ist eine Bekannte und sehr einfühlsame Trainerin\,Von der die Teilnehmerinnen für ihr weitere Training profitieren werden! \n\n\n\nAnmerkungen / Kommentare: \n\n\n\nBitte bequeme Kleidung und Hallenschuhe/Schläppchen mit bringen\,Sowie Essen/Trinken für die Mittagspause und einen Snack für den Nachmittag. \n\n\n\nBei Fragen gerne bei Tanja melden:Tel.: 0157-3200 6007
URL:https://hobby-horsing-germany.de/event/dressur-workshop-fortgeschrittene/
LOCATION:FT1844 (Freiburger Turnerschaft)\, Schwarzwaldstraße 181\, Freiburg im Breisgau\, Baden-Württemberg\, 79117\, Germany
CATEGORIES:Baden-Württemberg,Events & Turniere,Hobby Horse Veranstaltung,Workshops und Seminare
END:VEVENT
BEGIN:VEVENT
DTSTART;TZID=Europe/Berlin:20251025T080000
DTEND;TZID=Europe/Berlin:20251026T180000
DTSTAMP:20260419T151557
CREATED:20250720T220732Z
LAST-MODIFIED:20251013T070249Z
UID:3885-1761379200-1761501600@hobby-horsing-germany.de
SUMMARY:Kooperationsturnier mit Westdeutschen Meisterschaften im Hobby Horsing (Nordrhein-Westfalen)
DESCRIPTION:Kooperationsturnier mit Westdeutschen Meisterschaften im Hobby Horsing \n\n\n\nÖffentliches Hobby Horsing- Turnier mit verschiedenen Wettbewerben \n\n\n\nVeranstalter: RFV Herbede-Ruhr e.V. & LRFV Wattenscheid und Umgegend e.V.Ansprechpartner: Yannic Buchner | wdm@rv-herbederuhr.de | 0178/2841368Nennschluss: 12. Oktober 2025 \n\n\n\n>>> Ausschreibung <<< \n\n\n\nAchtung: Bitte lies dir die Ausschreibung ausführlich durch\, bevor du dich anmeldest. Eine falsche Nennung kann zum Ausschluss führen. Infos zum Thema Ausschreibung findest du hier: Was ist eine Ausschreibung \n\n\n\n\nNennschluss\n\n\n\n\n\n\n\n\n\n\n\n\nWettbewerbe: \n\n\n\nWestdeutsche Meisterschaften in Dressur\, Springen & Gelände. Teilung nach Altersklassen in verschiedenen Schwierigkeitsgraden. \n\n\n\nSamstag 25.10.2025 \n\n\n\n\n07 Stilspringprüfung Leicht 10€\n\n\n\n08 Springprüfung Leicht – mit zusätzlicher Kostümwertung 10€\n\n\n\n09 Punktespringprüfung Mittel 10€\n\n\n\n10 Dressurprüfung Leicht 10€\n\n\n\n11 Dressurprüfung Mittel 10€\n\n\n\n12 Mächtigkeitsspringen 10€\n\n\n\n13 Geschicklichkeitsprüfung 10€\n\n\n\n14 Springreiterwettbewerb 5€\n\n\n\n15 Dressurreiterwettbewerb 5€\n\n\n\n\nSonntag 26.10.2025 \n\n\n\n\n20 Mannschaftsspringprüfung Leicht 30€\n\n\n\n21 Springprüfung Schwer mit 2 Umläufen 10€\n\n\n\n22 Dressurprüfung KÜR 10€\n\n\n\n23 Dressurprüfung Schwer 10€\n\n\n\n24 Geschicklichkeitsprüfung 10€\n\n\n\n25 Family & Friends Jumping 10€
URL:https://hobby-horsing-germany.de/event/wdm-hobby-horsing/
LOCATION:RV Herbede-Ruhr e.V. & LRV Wattenscheid e.V\, Reiterweg 22\, Bochum\, Nordrhein-Westfalen\, 44869\, Germany
CATEGORIES:Events & Turniere,Hobby Horse Veranstaltung,Nordrhein-Westfalen,Öffentliches Hobby Horse Turnier
ATTACH;FMTTYPE=image/png:https://hobby-horsing-germany.de/wp-content/uploads/2025/02/Hobby-Horse-Sommer-Cup-in-Witten-Herbede-2025.png
END:VEVENT
BEGIN:VEVENT
DTSTART;TZID=Europe/Berlin:20251025T090000
DTEND;TZID=Europe/Berlin:20251025T170000
DTSTAMP:20260419T151557
CREATED:20250909T194915Z
LAST-MODIFIED:20250909T195009Z
UID:4563-1761382800-1761411600@hobby-horsing-germany.de
SUMMARY:Hobby Horse Turnier Gerstetten (Baden-Württemberg)
DESCRIPTION:Hobby Horsing beim RFV Gerstetten \n\n\n\nVeranstalter: RFV Gerstetten | E-Mail: sportwart@reitverein-gerstetten.deAnsprechpartner: Carmen Grüninger | Tel.: 0176/47356232Nennschluss: 3. Oktober 2025 \n\n\n\nNennungen ausschließlich per Post. Infos und Nennformular in der Ausschreibung. \n\n\n\n>>> Ausschreibung <<< \n\n\n\n\n\n\n\nWettbewerbe: \n\n\n\n\n1. Hobby Horse zum Schnuppern für Einsteiger – Alle Altersklassen\n\n\n\n2. Reiterwettbewerb – Alle Altersklassen\n\n\n\n3. Dressur Leicht – Alle Altersklassen\n\n\n\n4. Dressur Mittel Qualifikation für Wettbewerb Nr.5 – Alle Altersklassen\n\n\n\n5. Dressur Schwer – Teilnehmer: 7 Teilnehmer aus WB Nr. 4\n\n\n\n6. Stilspring WB – Höhe:30-40 cm – Jahrgang 18 und Jünger\n\n\n\n7. Stilspring WB Qualifikation für Wettbewerb Nr.8 – Höhe:40-50 cm – Alle Altersklassen die nicht in WB Nr.6 starten\n\n\n\n8. Zeitspring WB – Höhe: 50-65cm – Teilnehmer aus WB Nr.7\n\n\n\n9. Synchronspring WB – Höhe: je nach Alter (siehe Beschreibung)\n\n\n\n10. Stafettenspring WB – Höhe: 40cm – Alle Altersklassen\n\n\n\n11. Hochsprung WB – Höhe: ab 80cm – Alle Altersklassen\n\n\n\n\n\n\n\n\n!Anmeldungen nur per Post! \n\n\n\nNennungsformular siehe Ausschreibung
URL:https://hobby-horsing-germany.de/event/hobby-horse-turnier-gerstetten/
LOCATION:RFV Gerstetten e. V.\, Vogelsberg 1\, Gerstetten\, Baden-Württemberg\, 89547\, Germany
CATEGORIES:Baden-Württemberg,Events & Turniere,Hobby Horse Veranstaltung,Öffentliches Hobby Horse Turnier
END:VEVENT
BEGIN:VEVENT
DTSTART;TZID=UTC:20251025T090000
DTEND;TZID=UTC:20251025T210000
DTSTAMP:20260419T151557
CREATED:20250214T120847Z
LAST-MODIFIED:20251109T172759Z
UID:553-1761382800-1761426000@hobby-horsing-germany.de
SUMMARY:Halloween Turnier 2025 in Niebüll (Schleswig Holstein)
DESCRIPTION:Hobby Horsing Turnier des PSV Niebüll e. V.  \n\n\n\nÖffentliches Hobby Horsing- Turnier mit verschiedenen Wettbewerben für Teilnehmer ab 5 Jahren \n\n\n\nVeranstalter: PSV Niebüll e. V. | hhturniereventgermany@gmail.comAnsprechpartner: Sabine Wulf | Tel.: 0176/766 260 15Nennschluss: 27.09.2025 \n\n\n\n>>> Ausschreibung <<< \n\n\n\n\nNennschluss\n\n\n\n\n\n\n\n\n\n\n\n\nWettbewerbe \n\n\n\n\n1. Springreiter WB mit Kostüm\n\n\n\n2. Reiter WB mit Kostüm\n\n\n\n3. byAstrup Cup Minis\n\n\n\n4. Zeitspringprüfung leicht\n\n\n\n5. Stilspringprüfung leicht\n\n\n\n6. Dressurprüfung leicht\n\n\n\n7. byAstrup Cup Teenies\n\n\n\n8. Dressurprüfung leicht\n\n\n\n9. Dressurprüfung mittel\n\n\n\n10. Dressurprüfung -Grand Prix mit Kostüm von byAstrup\n\n\n\n11. Stilspringprüfung mittel 60cm\n\n\n\n12. Stilspringprüfung mittel 70cm\n\n\n\n13. Großer Preis byAstrup (Zeitspringen)\n\n\n\n14. Idealspringen mittel\n\n\n\n15. Dressurprüfung schwer\n\n\n\n16. Zeitspringprüfung schwer\n\n\n\n17. 2 Phasen Zeitspringprüfung mittel – LarDen Challenge
URL:https://hobby-horsing-germany.de/event/halloween-turnier-2025-in-niebull/
LOCATION:PSV Niebüll e. V.\, Gotteskoogstraße 62\, Niebüll\, Schleswig-Holstein\, 25899\, Germany
CATEGORIES:Deutschland,Öffentliches Hobby Horse Turnier,Schleswig-Holstein
ORGANIZER;CN="Sabine Wulf %E2%80%93 Hobby Horsing Nieb%C3%BCll":MAILTO:hobby-horsing-niebuell@web.de
END:VEVENT
BEGIN:VEVENT
DTSTART;TZID=Europe/Berlin:20251026T100000
DTEND;TZID=Europe/Berlin:20251026T180000
DTSTAMP:20260419T151557
CREATED:20250909T195918Z
LAST-MODIFIED:20250909T200113Z
UID:4574-1761472800-1761501600@hobby-horsing-germany.de
SUMMARY:EULEN-CUP (Niedersachsen)
DESCRIPTION:Hobby Horsing Turnier beim Turn- und Sportverein Schöppenstedt e.V.  \n\n\n\nVeranstalter: Turn- und Sportverein Schöppenstedt e.V. | E-Mail: schatzkaestchen_hobbyhorsing@web.deAnsprechpartner: Constanze Richter | Tel.: 0173/8201360Nennschluss: 30. September 2025 \n\n\n\nNennungen per E-Mail an: schatzkaestchen_hobbyhorsing@web.de \n\n\n\n>>> Ausschreibung <<< \n\n\n\n\n\n\n\nWettbewerbe: \n\n\n\n\nGeschicklichkeitsrennen (Hürdenhöhe je nach Altersklasse 40 / 50 / 60 cm)\n\n\n\nPunktespringen (Hürdenhöhe je nach Altersklasse 50 / 60 / 70 cm)\n\n\n\nZeitspringen (Hürdenhöhe je nach Altersklasse 40 / 50 / 60 cm)\n\n\n\nGlücksspringen (Hürdenhöhe je nach Altersklasse 40 / 50 / 60 cm)\n\n\n\n\nAltersklassen:(A) 7 bis 10 Jahre (Jahrgänge 2015 bis 2018)(B) 11 bis 14 Jahre (Jahrgänge 2011 bis 2014)(C) 15 bis 18 Jahre (Jahrgänge 2007 bis 2010)
URL:https://hobby-horsing-germany.de/event/eulen-cup/
LOCATION:Turn- und Sportverein Schöppenstedt e.V.\, Schützenplatz 1\, Schöppenstedt\, Niedersachsen\, 38170\, Germany
CATEGORIES:Events & Turniere,Hobby Horse Veranstaltung,Niedersachsen,Öffentliches Hobby Horse Turnier
END:VEVENT
BEGIN:VEVENT
DTSTART;TZID=America/Los_Angeles:20251030T173000
DTEND;TZID=America/Los_Angeles:20251030T200000
DTSTAMP:20260419T151557
CREATED:20250410T230040Z
LAST-MODIFIED:20251029T212957Z
UID:1983-1761845400-1761854400@hobby-horsing-germany.de
SUMMARY:Hobby Horse - Halloween Party - (Schleswig-Holstein)
DESCRIPTION:Hobby Horsing Wettbewerb beim Cocu der Kinderpferdeladen \n\n\n\nHobby Horsing- Wettbewerb für Teilnehmer zwischen 4-14 Jahren.Veranstalter: Cocu der Kinderpferdeladen | E-Mail : kontakt@cocu-der-kinderpferdeladen.deAnsprechpartner: Corinna Cuvalo | Tel.: 0179/3903122Anmeldeschluss:  23. Oktober 2025 \n\n\n\nAnmeldungen per E-Mail E-Mail : kontakt@cocu-der-kinderpferdeladen.de \n\n\n\n \n\n\n\n\n\n\n\nWettbewerbe \n\n\n\n\nZeitspringen\n\n\n\nPrämierung\n\n\n\nHalloween Hobby Horse Spiele\n\n\n\nDressur Kür\n\n\n\n\n\n\n\n\n\n\n\n\n\n\n\n\n\n\n\n\n\n\n  \n    \n    \n    NEU!\n\n    \n    \n      ❄\n      ❅\n      ✼\n      ❄\n      ❅\n      ✼\n      ❄\n      ❅\n      ✼\n      ❄\n      ❅\n      ✼\n    \n  \n\n  \n    NEU in unserem Shop: Hobby Horse Adventskalender\n    24 sportliche Überraschungen für Hobby Horser – perfekt zum Verschenken oder selbst genießen. \n    Nur 90 €\n    \n      Jetzt sichern
URL:https://hobby-horsing-germany.de/event/hobby-horse-halloween-party-schleswig-holstein/
LOCATION:Cocu der Kinderpferdeladen\, Hermann-Löns-Weg 3\, Rellingen\, Schleswig-Holstein\, 25462\, Germany
CATEGORIES:Deutschland,Hobby Horse Veranstaltung,Schleswig-Holstein
END:VEVENT
BEGIN:VEVENT
DTSTART;TZID=Europe/Berlin:20251031T090000
DTEND;TZID=Europe/Berlin:20251031T130000
DTSTAMP:20260419T151557
CREATED:20251009T111650Z
LAST-MODIFIED:20251029T212948Z
UID:5437-1761901200-1761915600@hobby-horsing-germany.de
SUMMARY:Halloween Hobby Horse Turnier (Niedersachsen)
DESCRIPTION:Hobby Horsing des VfL Stenum e. V. \n\n\n\nVeranstalter: VfL Stenum e. V. | E-Mail: yvonnekirchner@gmx.netAnsprechpartner: Yvonne Kirchner | Tel.: 01520/2973513Nennschluss: 18. Oktober 2025 \n\n\n\nNennungen per Nennformular an E-Mail an: yvonnekirchner@gmx.net \n\n\n\n\n\n\n\n\n\n\n\n\nAusschreibung & Nennformular\n\n\n\n\n\n\n\n\n\n\n\n\nWettbewerbe: \n\n\n\n\nZeitspringen 20/40/60 cm\n\n\n\nClear Round 20/40/60 cm\n\n\n\nPunktspringen 20/40/60 cm\n\n\n\nMinispringen mit Eltern 0-3 Jahre\,\n\n\n\n\n\n\n\n\n\n\n\n\n\n\n\n\n\n\n\n\n\n\n\n\n\n\n  \n    \n    \n    NEU!\n\n    \n    \n      ❄\n      ❅\n      ✼\n      ❄\n      ❅\n      ✼\n      ❄\n      ❅\n      ✼\n      ❄\n      ❅\n      ✼\n    \n  \n\n  \n    NEU in unserem Shop: Hobby Horse Adventskalender\n    24 sportliche Überraschungen für Hobby Horser – perfekt zum Verschenken oder selbst genießen. \n    Nur 90 €\n    \n      Jetzt sichern
URL:https://hobby-horsing-germany.de/event/halloween-hobby-horse-turnier/
LOCATION:VfL Stenum e. V.\, Zur Ollen 30\, Ganderkesee\, Niedersachsen\, 27777\, Germany
CATEGORIES:Events & Turniere,Hobby Horse Veranstaltung,Niedersachsen,Öffentliches Hobby Horse Turnier
END:VEVENT
BEGIN:VEVENT
DTSTART;TZID=Europe/Berlin:20251031T100000
DTEND;TZID=Europe/Berlin:20251101T150000
DTSTAMP:20260419T151557
CREATED:20251017T200807Z
LAST-MODIFIED:20251029T212505Z
UID:5598-1761904800-1762009200@hobby-horsing-germany.de
SUMMARY:Happy Halloween-Distanzritt auf dem Darß (Mecklenburg-Vorpommern)
DESCRIPTION:Hobby Horsing Distanzritt am Strand \n\n\n\nÖffentliches Hobby Horsing-Event des Veranstalter: PSZV Gut Darß e-V.  | E-Mail: paulacetto@web.deAnsprechpartner: Paula M. Cetto |  \n\n\n\nNennschluss 20.10.2025 \n\n\n\n\n\n\n\n\n\n\n\n\nAusschreibung \n\n\n\nNennformular\n\n\n\n\n\n\n\n\nHinweise: Halloween-Pferde-Distanzritt: \n\n\n\nKinder\, Jugendliche und Erwachsene sind herzlich willkommen\, sowie Pferde ab 5 J. unabhängig von Rasse und Reitweise.2 (Startzeit: 10 Uhr) und 3\,5 km (Startzeit 10:30 Uhr) sind die Hobby Horsing-Strecken und alle Strecken ab 15 bis 65 km sind mit Strandritt. Kostüme erwünscht\, aber nicht verpflichtend. \n\n\n\n\n\n\n\n\n\n\n\n\n\n\n\n\n\n\n\n\n\n\n\n\n\n  \n    \n    \n    NEU!\n\n    \n    \n      ❄\n      ❅\n      ✼\n      ❄\n      ❅\n      ✼\n      ❄\n      ❅\n      ✼\n      ❄\n      ❅\n      ✼\n    \n  \n\n  \n    NEU in unserem Shop: Hobby Horse Adventskalender\n    24 sportliche Überraschungen für Hobby Horser – perfekt zum Verschenken oder selbst genießen. \n    Nur 90 €\n    \n      Jetzt sichern
URL:https://hobby-horsing-germany.de/event/happy-halloween-distanzritt/
LOCATION:PSZV Gut Darß e-V.\, Am Wald 26\, Born\, Mecklenburg-Vorpommern\, 18375\, Germany
CATEGORIES:Events & Turniere,Hobby Horse Veranstaltung,Mecklenburg-Vorpommern
ATTACH;FMTTYPE=image/png:https://hobby-horsing-germany.de/wp-content/uploads/2025/10/Happy-Halloween-Distanzritt.png
END:VEVENT
END:VCALENDAR