BEGIN:VCALENDAR
VERSION:2.0
PRODID:-//Hobby Horsing Germany - ECPv6.15.20//NONSGML v1.0//EN
CALSCALE:GREGORIAN
METHOD:PUBLISH
X-WR-CALNAME:Hobby Horsing Germany
X-ORIGINAL-URL:https://hobby-horsing-germany.de
X-WR-CALDESC:Veranstaltungen für Hobby Horsing Germany
REFRESH-INTERVAL;VALUE=DURATION:PT1H
X-Robots-Tag:noindex
X-PUBLISHED-TTL:PT1H
BEGIN:VTIMEZONE
TZID:Europe/Berlin
BEGIN:DAYLIGHT
TZOFFSETFROM:+0100
TZOFFSETTO:+0200
TZNAME:CEST
DTSTART:20240331T010000
END:DAYLIGHT
BEGIN:STANDARD
TZOFFSETFROM:+0200
TZOFFSETTO:+0100
TZNAME:CET
DTSTART:20241027T010000
END:STANDARD
BEGIN:DAYLIGHT
TZOFFSETFROM:+0100
TZOFFSETTO:+0200
TZNAME:CEST
DTSTART:20250330T010000
END:DAYLIGHT
BEGIN:STANDARD
TZOFFSETFROM:+0200
TZOFFSETTO:+0100
TZNAME:CET
DTSTART:20251026T010000
END:STANDARD
BEGIN:DAYLIGHT
TZOFFSETFROM:+0100
TZOFFSETTO:+0200
TZNAME:CEST
DTSTART:20260329T010000
END:DAYLIGHT
BEGIN:STANDARD
TZOFFSETFROM:+0200
TZOFFSETTO:+0100
TZNAME:CET
DTSTART:20261025T010000
END:STANDARD
END:VTIMEZONE
BEGIN:VTIMEZONE
TZID:America/Los_Angeles
BEGIN:DAYLIGHT
TZOFFSETFROM:-0800
TZOFFSETTO:-0700
TZNAME:PDT
DTSTART:20240310T100000
END:DAYLIGHT
BEGIN:STANDARD
TZOFFSETFROM:-0700
TZOFFSETTO:-0800
TZNAME:PST
DTSTART:20241103T090000
END:STANDARD
BEGIN:DAYLIGHT
TZOFFSETFROM:-0800
TZOFFSETTO:-0700
TZNAME:PDT
DTSTART:20250309T100000
END:DAYLIGHT
BEGIN:STANDARD
TZOFFSETFROM:-0700
TZOFFSETTO:-0800
TZNAME:PST
DTSTART:20251102T090000
END:STANDARD
BEGIN:DAYLIGHT
TZOFFSETFROM:-0800
TZOFFSETTO:-0700
TZNAME:PDT
DTSTART:20260308T100000
END:DAYLIGHT
BEGIN:STANDARD
TZOFFSETFROM:-0700
TZOFFSETTO:-0800
TZNAME:PST
DTSTART:20261101T090000
END:STANDARD
END:VTIMEZONE
BEGIN:VEVENT
DTSTART;TZID=Europe/Berlin:20250906T070000
DTEND;TZID=Europe/Berlin:20250906T203000
DTSTAMP:20260419T165820
CREATED:20250514T121841Z
LAST-MODIFIED:20250925T131050Z
UID:2830-1757142000-1757190600@hobby-horsing-germany.de
SUMMARY:Qualifikationsturnier für die 2. Deutsche Meisterschaft in Hoopte (Niedersachsen)
DESCRIPTION:Hobby Horsing Turnier – MTV Hoopte \n\n\n\nVeranstalter: MTV Hoopte – Anabel HarmsAnsprechpartner: Tina Gardt | meisterschaft@dthhv.de  \n\n\n\nNennschluss \n\n\n\n\n\n\n\n>>> Ausschreibung <<< \n\n\n\n\n\n\n\nWettbewerbe:  \n\n\n\n\nDressur schwer (U12\, U15\, U21\, U31\, U99)\n\n\n\nStilspringen mittel – 50cm (U12\, U99)\n\n\n\nStilspringen schwer – 60/70cm (U15\, U21\, U31)Zeitspringen mittel – 50cm (U12\, U99)\n\n\n\nZeitspringen schwer -60/70cm (U15\, U21\, U31)\n\n\n\n\n\n\n\n\nGrundsätzliche Regelungen:\n\n\n\nIn allen Prüfungen gilt das Regelwerk des DtHHV. \n\n\n\nEinteilung in Altersklassen:Um die Teilnehmer fair miteinander vergleichen zu können\, gibt es in allen Prüfungen eine Einteilung in die folgenden Altersklassen: \n\n\n\nAltersklassen für die Qualifikation:U12 Jahrgang 2017-2015U15 Jahrgang 2014-2012U21 Jahrgang 2011-2006U31 Jahrgang 2005-1996U99 Jahrgang 1995 und älter
URL:https://hobby-horsing-germany.de/event/qualifikationsturnier-hoopte/
LOCATION:MTV Hoopte\, Turnhalle MTV Hoopte\, Hoopter Sportplatz 2\, Hoopte - Winsen/Luhe\, Niedersachsen\, 21423\, Germany
CATEGORIES:Deutschland,Events & Turniere,Hobby Horsing Event DtHHV,Niedersachsen,Öffentliches Hobby Horse Turnier
ATTACH;FMTTYPE=image/jpeg:https://hobby-horsing-germany.de/wp-content/uploads/2025/05/Qualifiktionsturnier-2025-2026.jpeg
END:VEVENT
BEGIN:VEVENT
DTSTART;TZID=Europe/Berlin:20250906T090000
DTEND;TZID=Europe/Berlin:20250906T180000
DTSTAMP:20260419T165820
CREATED:20250728T123422Z
LAST-MODIFIED:20250728T123436Z
UID:3918-1757149200-1757181600@hobby-horsing-germany.de
SUMMARY:Hobby Horsing Turnier Ladbergen (Nordrhein-Westfalen)
DESCRIPTION:Öffentliches Hobby Horsing Turnier des Integrativer Zucht-\, Reit-\, Voltigier- und Fahrverein Ladbergen e.V. \n\n\n\nVeranstalter: Integrativer Zucht-\, Reit-\, Voltigier- und Fahrverein Ladbergen e.V. | E-Mail: ap-hobbyhorsing@gmx.deAnsprechpartner: Anita Pawlaczyk | Tel.: 0171/7019573Instagram: @hobbyhorsing_team_ladbergenNennschluss: 20.08.2025 \n\n\n\nAnmeldung: per E-Mail an: ap-hobbyhorsing@gmx.de \n\n\n\n>>> Ausschreibung <<< \n\n\n\n\n\n\n\nWettbewerbe: \n\n\n\n\nJugendreiter (2019-2015)\n\n\n\nDressur mittel (2017 und älter)\n\n\n\nPas de Deux leicht ( 2018 und älter) und schwer (2017 und älter)\n\n\n\nGeschicklichkeitsprüfung (2021 – 2017)\n\n\n\nStilspringen 40cm (2019 und älter)\n\n\n\nStilspringen 60cm (2017 und älter)\n\n\n\nZeitspringen 20cm (2021 – 2017)\n\n\n\nZeitspringen 40cm (2019 und älter)\n\n\n\nZeitspringen 60cm (2017 und älter)\n\n\n\nZwei-Phasen-Springen 40 – 70cm (2015 und älter)\n\n\n\nHochsprung ab 80cm (2016 und älter)\n\n\n\nHamsterspringen 30 – 50cm (2018 und älter)\n\n\n\nHamsterspringen 40 – 80cm (2016 und älter)\n\n\n\n\nBei unserem Turnier gibt es begrenzte Startplätze für jede Prüfung.
URL:https://hobby-horsing-germany.de/event/turnier-ladbergen-09-2025/
LOCATION:Integrativer Zucht-\, Reit-\, Voltigier- und Fahrverein Ladbergen e.V.\, Schulenburger Weg 20\, Ladbergen\, Nordrhein-Westfalen\, 49549\, Germany
CATEGORIES:Deutschland,Events & Turniere,Hobby Horse Veranstaltung,Nordrhein-Westfalen,Öffentliches Hobby Horse Turnier
END:VEVENT
BEGIN:VEVENT
DTSTART;TZID=Europe/Berlin:20250909T170000
DTEND;TZID=Europe/Berlin:20250909T180000
DTSTAMP:20260419T165820
CREATED:20250827T084100Z
LAST-MODIFIED:20250827T084104Z
UID:4243-1757437200-1757440800@hobby-horsing-germany.de
SUMMARY:Hobby Horsing Schnupper- & Kennenlern-Training (Hamburg)
DESCRIPTION:Erstes Hobby Horsing Training beim VfL Lohbrügge von 1892 e. V. zum Reinschnuppern und Kennenlernen für Kinder ab 7 Jahren. \n\n\n\nHobby Horsing Training in HamburgVeranstalter: VFL Lohbrügge von 1892 e. V. | E-Mail: jwmobil.wassermann@gmail.comAnsprechpartner: Jenny Wassermann | Tel.: 0163/7309261 \n\n\n\nInfos und Anmeldung:Bei Interesse bitte vorher bei Jenny Wassermann melden unter 0163/7309261. \n\n\n\nIhr benötigt nur Sportsachen und geeignete Turnschuhe. Falls vorhanden\, bringt ihr eurer eigenes Hobby Horse mit.
URL:https://hobby-horsing-germany.de/event/schnuppertag-hamburg/
LOCATION:VfL Lohbrügge von 1892 e.V.\, Binnenfeldredder 9\, Hamburg\, Hamburg\, 21031\, Germany
CATEGORIES:Events & Turniere,Hamburg,Hobby Horse Veranstaltung
END:VEVENT
BEGIN:VEVENT
DTSTART;TZID=America/Los_Angeles:20250912T100000
DTEND;TZID=America/Los_Angeles:20250912T170000
DTSTAMP:20260419T165820
CREATED:20250316T045310Z
LAST-MODIFIED:20250719T065854Z
UID:1292-1757671200-1757696400@hobby-horsing-germany.de
SUMMARY:Aktionstag für Kinder - Gartenschau 2025 - Baden-Württemberg
DESCRIPTION:Hobby Horsing Parcours zum Ausprobieren – für Kinder im Treffpunkt Baden-Württemberg. \n\n\n\nDer Deutsche Hobby Horsing Verband lädt bei der Landesgartenschau zu spannenden Aktionstagen ein! Kinder ab 6 Jahren können verschiedene Parcours testen\, während für die Jüngeren (ab 3 Jahren) ein eigener Bereich bereitsteht. Bring dein eigenes Hobby Horse mit oder leihe dir eines vor Ort aus – Spaß und Bewegung sind garantiert! \n\n\n\nWeitere Infos unter: www.tal-x.de/veranstaltungen
URL:https://hobby-horsing-germany.de/event/aktionstag-fur-kinder-gartenschau-2025-bw-5/
LOCATION:Landesgartenschau Baden-Württemberg\, Freudenstadt und Baiersbronn\, Baden-Württemberg\, 72270\, Germany
CATEGORIES:Baden-Württemberg,Deutschland,Hobby Horse Veranstaltung,Hobby Horsing Event DtHHV
ATTACH;FMTTYPE=image/jpeg:https://hobby-horsing-germany.de/wp-content/uploads/2025/03/Hobby-Horsing-Aktionstage-mit-Andreas-Karasek.jpg
END:VEVENT
BEGIN:VEVENT
DTSTART;TZID=Europe/Berlin:20250913T090000
DTEND;TZID=Europe/Berlin:20250913T210000
DTSTAMP:20260419T165820
CREATED:20250717T100943Z
LAST-MODIFIED:20260123T073138Z
UID:3620-1757754000-1757797200@hobby-horsing-germany.de
SUMMARY:Spaßturnier Hobby Horsing in Durmersheim (Baden-Württemberg)
DESCRIPTION:Hobby Horsing Spaßturnier beim Reit- und Fahrverein Durmersheim e.V. \n\n\n\nÖffentliches Hobby Horsing- Turnier für Teilnehmer zwischen ab 3 Jahren. \n\n\n\nVeranstalter: Kerstin Johannsen | E-Mail: SteckenpferdEttlingen@web.deAnsprechpartner: Freya Johannsen | Tel.: 0173/4961899Nennschluss: 30.08.2025 \n\n\n\nNennungen per Nennformular an E-Mail an: SteckenpferdEttlingen@web.de \n\n\n\n>>> Ausschreibung <<<>>> Nennformular <<< \n\n\n\n\n\n\n\nWettbewerbe: \n\n\n\n\n1. Reiter-Wettbewerb (U6)\n\n\n\n2. Dressur Leicht (U6 und älter)\n\n\n\n3. Dressur Mittel (U9 und älter)\n\n\n\n4. Dressur Schwer (U9 und älter)\n\n\n\n5. Freestyle Dressur (U9 und älter)\n\n\n\n6. Zeitspringen 20-80cm (U6 und älter)\n\n\n\n7. Wahl-Springen 30-80cm (U9 und älter)\n\n\n\n\nHighlight: 20:30 Uhr – Fackelspringen
URL:https://hobby-horsing-germany.de/event/spassturnier-hobby-horsing-in-durmersheim/
LOCATION:Reit- und Fahrverein Durmersheim e.V.\, Im hinteren Dahn 1\, Durmersheim\, Baden-Württemberg\, 76448\, Germany
CATEGORIES:Baden-Württemberg,Events & Turniere,Hobby Horse Veranstaltung,Öffentliches Hobby Horse Turnier
ORGANIZER;CN="Kerstin Johannsen":MAILTO:SteckenpferdEttlingen@web.de
END:VEVENT
BEGIN:VEVENT
DTSTART;TZID=Europe/Berlin:20250913T093000
DTEND;TZID=Europe/Berlin:20250913T170000
DTSTAMP:20260419T165820
CREATED:20250514T121450Z
LAST-MODIFIED:20250925T131104Z
UID:2824-1757755800-1757782800@hobby-horsing-germany.de
SUMMARY:Qualifikationsturnier für die 2. Deutsche Meisterschaft in Freiburg (Baden-Württemberg)
DESCRIPTION:Hobby Horsing Turnier – Hobby Horsing Club Kaiserstuhl \n\n\n\nVeranstalter: Hobby Horsing Club Kaiserstuhl – Andreas KarasekAnsprechpartner: Tina Gardt | meisterschaft@dthhv.de Nennschluss: 16.08.2025 \n\n\n\nNennschluss \n\n\n\n\n\n\n\n>>> Ausschreibung <<< \n\n\n\n\n\n\n\nWettbewerbe:  \n\n\n\n\nDressur schwer (U12\, U15\, U21\, U31\, U99)\n\n\n\nStilspringen mittel – 50cm (U12\, U99)\n\n\n\nStilspringen schwer – 60/70cm (U15\, U21\, U31)Zeitspringen mittel – 50cm (U12\, U99)\n\n\n\nZeitspringen schwer -60/70cm (U15\, U21\, U31)\n\n\n\n\n\n\n\n\nGrundsätzliche Regelungen:\n\n\n\nIn allen Prüfungen gilt das Regelwerk des DtHHV. \n\n\n\nEinteilung in Altersklassen:Um die Teilnehmer fair miteinander vergleichen zu können\, gibt es in allen Prüfungen eine Einteilung in die folgenden Altersklassen: \n\n\n\nAltersklassen für die Qualifikation:U12 Jahrgang 2017-2015U15 Jahrgang 2014-2012U21 Jahrgang 2011-2006U31 Jahrgang 2005-1996U99 Jahrgang 1995 und älter
URL:https://hobby-horsing-germany.de/event/qualifikationsturnier-in-freiburg/
LOCATION:HHC Kaiserstuhl\, Act-Now Halle Freiburg\, Schwarzwaldstraße 181\, Freiburg im Breisgau\, Baden-Württemberg\, 79102\, Germany
CATEGORIES:Baden-Württemberg,Deutschland,Events & Turniere,Hobby Horsing Event DtHHV,Öffentliches Hobby Horse Turnier
ATTACH;FMTTYPE=image/jpeg:https://hobby-horsing-germany.de/wp-content/uploads/2025/05/Qualifiktionsturnier-2025-2026.jpeg
END:VEVENT
BEGIN:VEVENT
DTSTART;TZID=Europe/Berlin:20250920T080000
DTEND;TZID=Europe/Berlin:20250920T180000
DTSTAMP:20260419T165820
CREATED:20250728T122500Z
LAST-MODIFIED:20250728T123601Z
UID:3908-1758355200-1758391200@hobby-horsing-germany.de
SUMMARY:Firecup 5.0 - SV Walddorf (Baden-Württemberg)
DESCRIPTION:Hobby Horsing Turnier des SV Walddorf. \n\n\n\nVeranstalter:Abteilung Hobby Horsing SV Walddorf | E-Mail: kerstin.fischer@svwalddorf.deAnsprechpartner: Kerstin Fischer | Tel.: 0152/52718180 Nennschluss: 30.08.2025 \n\n\n\n>>> Ausschreibung <<< \n\n\n\nOnline anmelden \n\n\n\n\n\n\n\nWettbewerbe: \n\n\n\n\nDressur – leicht (nur für unter 12!)\n\n\n\nDressur – schwer\n\n\n\nZeitspringen – leicht 40cm\n\n\n\nStilspringen – leicht 40cm\n\n\n\nZeitspringen – mittel 60cm\n\n\n\nStilspringen-mittel 60cm\n\n\n\nMächtigkeitsspringen ab 75cm\n\n\n\nPartnerzeitspringen 50cm\n\n\n\n\n\n\n\n\nAnmeldung geht nur über das Protokoll auf https://hobbyhorsing.app/ . Fragen bitte per Email. \n\n\n\nJeder Platz bekommt ein Online-Wertprotokoll\, eine Schleife und eine Urkunde. Der erste Platz erhält zudem einen Pokal. Der Tagessieger zusätzlich auch
URL:https://hobby-horsing-germany.de/event/firecup-5-0-sv-walddorf/
LOCATION:SV Walddorf\, Walddorfhäslach\, Baden-Württemberg\, 72141\, Germany
CATEGORIES:Baden-Württemberg,Deutschland,Events & Turniere,Hobby Horse Veranstaltung,Öffentliches Hobby Horse Turnier
END:VEVENT
BEGIN:VEVENT
DTSTART;TZID=Europe/Berlin:20250921T100000
DTEND;TZID=Europe/Berlin:20250921T160000
DTSTAMP:20260419T165820
CREATED:20250816T213550Z
LAST-MODIFIED:20250816T214829Z
UID:4075-1758448800-1758470400@hobby-horsing-germany.de
SUMMARY:1. Equitanas Cup - Sachsen-Anhalt
DESCRIPTION:Hobby Horsing Turnier des Equitanas Reitsport gGmbH. \n\n\n\nÖffentliches Hobby Horsing- Turnier für Teilnehmer ab 6 Jahren. \n\n\n\nVeranstalter:  Equitanas Reitsport gGmbH | E-Mail: info@equitanas-reitsport.deAnsprechpartner: Ivonne Pioch| Tel.: 0176/20278793Nennschluss: 07.09.2025 \n\n\n\n+++ Ausschreibung +++ \n\n\n\n\nOnline anmelden\n\n\n\n\n\n\n\n\n\n\n\n\nWettbewerbe: \n\n\n\nQuali MHHT: (U12/U15/U21/Ü21)– Zeitspringen S– Dressurkür S– Western Reining S– Hochsprung* \n\n\n\noffene Prüfungen: (U12/U15/U21/Ü21)– Barrel mixed race– Hamsterspringen „L“– Hamsterspringen „M“– Idealzeitspringen „L“ / „M“ / „S“– Dressur „L“– Western Ranch Riding/ Cross– Western Reining
URL:https://hobby-horsing-germany.de/event/1-equitanas-cup-sachsen-anhalt/
LOCATION:Equitanas Reitsport gGmbH\, Friedensstraße 90\, Zeitz\, 06712\, Germany
CATEGORIES:Events & Turniere,Hobby Horse Veranstaltung,Öffentliches Hobby Horse Turnier,Sachsen-Anhalt
END:VEVENT
BEGIN:VEVENT
DTSTART;TZID=Europe/Berlin:20250921T110000
DTEND;TZID=Europe/Berlin:20250921T180000
DTSTAMP:20260419T165820
CREATED:20250827T094039Z
LAST-MODIFIED:20250827T094056Z
UID:4249-1758452400-1758477600@hobby-horsing-germany.de
SUMMARY:Hobby Horse Turnier - RFV Erkelenz (Nordrhein-Westfalen)
DESCRIPTION:Öffentliches Hobby Horsing WBO-Turnier des RFV Erkelenz e. V.  \n\n\n\nVeranstalter: RFV Erkelenz e. V. | E-Mail: turnier@rfv-erkelenz.deAnsprechpartner: Sarah Hosell | Tel.: 01792/231986Nennschluss: 15.09.2025 \n\n\n\n\nAusschreibung \n\n\n\n\nNennungen per E-Mail an: turnier@rfv-erkelenz.de \n\n\n\n\n\n\n\nWettbewerbe  \n\n\n\n\nDressur Stufe 2 und 3\,\n\n\n\nStilspringen\,\n\n\n\nZeitspringen 30 oder 40 cm\n\n\n\nTeam-Geschicklichkeit\n\n\n\nGalopprennen U8\, U10\, U12\, Ü12\n\n\n\nGrand Prix Kür\n\n\n\n\n\n\n\n\nInformationen zur WBO 2024 – Breitensport findest du im Hobby Horsing Magazin online
URL:https://hobby-horsing-germany.de/event/hobby-horse-turnier-rfv-erkelenz/
LOCATION:RFV Erkelenz e. V.\, HAUS HOHENBUSCH\, Erkelenz\, Nordrhein-Westfalen\, 41812\, Germany
CATEGORIES:Events & Turniere,Hobby Horse Veranstaltung,Nordrhein-Westfalen,Öffentliches Hobby Horse Turnier
END:VEVENT
BEGIN:VEVENT
DTSTART;TZID=Europe/Berlin:20250927T090000
DTEND;TZID=Europe/Berlin:20250927T170000
DTSTAMP:20260419T165820
CREATED:20250816T211850Z
LAST-MODIFIED:20250816T211908Z
UID:4068-1758963600-1758992400@hobby-horsing-germany.de
SUMMARY:Poxis Cup in Poxdorf (Bayern)
DESCRIPTION:Hobby Horsing Turnier beim Voltigier- und Pferdesportgemeinschaft Poxdorf e.V. \n\n\n\nÖffentliches Hobby Horsing- Turnier für Teilnehmer ab 6 Jahren. \n\n\n\nVeranstalter:  Voltigier- und Pferdesportgemeinschaft Poxdorf e.V. | E-Mail: orga_voltigieren_poxdorf@gmx.deAnsprechpartner: Jana Dörr | Tel.: 0176/81206365Nennschluss: 07.09.2025 \n\n\n\n+++ Ausschreibung +++ \n\n\n\n\nOnline anmelden\n\n\n\n\n\n\n\n\nWettbewerbe: \n\n\n\nAngabe des Veranstalters: Siehe Ausschreibung
URL:https://hobby-horsing-germany.de/event/poxis-cup-in-poxdorf-bayern/
LOCATION:Voltigier- und Pferdesportgemeinschaft Poxdorf e.V.\, Am Igelsdofer Weg 2\, Baiersdorf\, Bayern\, 91083\, Germany
CATEGORIES:Bayern,Events & Turniere,Hobby Horse Veranstaltung,Öffentliches Hobby Horse Turnier
END:VEVENT
BEGIN:VEVENT
DTSTART;TZID=Europe/Berlin:20250928T090000
DTEND;TZID=Europe/Berlin:20250928T180000
DTSTAMP:20260419T165820
CREATED:20250611T225558Z
LAST-MODIFIED:20250611T225618Z
UID:3361-1759050000-1759082400@hobby-horsing-germany.de
SUMMARY:Magni-Cup 4.0 in Braunschweig (Niedersachsen)
DESCRIPTION:Hobby Horsing Turnier in Braunschweig – Privat organisiert *verifiziert* \n\n\n\nÖffentliches Hobby Horsing- Turnier für Teilnehmer ab 7 Jahren.Veranstalter: Constanze Richter | E-Mail : schatzkaestchen_hobbyhorsing@web.deAnsprechpartner: Constanze Richter | Tel.: 0173/8201360Nennschluss:  21.08.2025 \n\n\n\nNennungen per E-mail an: schatzkaestchen_hobbyhorsing@web.de \n\n\n\n>>> Ausschreibung <<< \n\n\n\n\n\n\n\nWettbewerbe: \n\n\n\n\n1) Biathlon\n\n\n\n2) Punktespringen\n\n\n\n3) Pole bending\n\n\n\n4) Glücksspringen\n\n\n\n\nAnmerkungen: \n\n\n\nDiese vier Wettkämpfe werden für alle Altersgruppen angeboten. Sie unterscheiden sich jeweils in der Hürdenhöhe. Je nach Altersklasse haben die Teilnehmer Hürden in einer Höhe von 40 cm\, 50 cm oder 60 cm zu überspringen. \n\n\n\nDa es sich um ein privates Turnier handelt\, müssen alle Teilnehmer aus versicherungsrechtlichen Gründen Mitglied  beim DtHHV oder in einem Turn-\, Reit- oder Sportverein sein.
URL:https://hobby-horsing-germany.de/event/magni-cup-4-0-braunschweig/
LOCATION:Magni-Cup – Constanze Richter\, Kurt-Schumacher-Str. 28\, Braunschweig\, Niedersachen\, 38102\, Germany
CATEGORIES:Events & Turniere,Niedersachsen,Öffentliches Hobby Horse Turnier
ORGANIZER;CN="Constanze Richter":MAILTO:schatzkaestchen_hobbyhorsing@web.de
END:VEVENT
END:VCALENDAR