BEGIN:VCALENDAR
VERSION:2.0
PRODID:-//Hobby Horsing Germany - ECPv6.15.20//NONSGML v1.0//EN
CALSCALE:GREGORIAN
METHOD:PUBLISH
X-ORIGINAL-URL:https://hobby-horsing-germany.de
X-WR-CALDESC:Veranstaltungen für Hobby Horsing Germany
REFRESH-INTERVAL;VALUE=DURATION:PT1H
X-Robots-Tag:noindex
X-PUBLISHED-TTL:PT1H
BEGIN:VTIMEZONE
TZID:Europe/Berlin
BEGIN:DAYLIGHT
TZOFFSETFROM:+0100
TZOFFSETTO:+0200
TZNAME:CEST
DTSTART:20240331T010000
END:DAYLIGHT
BEGIN:STANDARD
TZOFFSETFROM:+0200
TZOFFSETTO:+0100
TZNAME:CET
DTSTART:20241027T010000
END:STANDARD
BEGIN:DAYLIGHT
TZOFFSETFROM:+0100
TZOFFSETTO:+0200
TZNAME:CEST
DTSTART:20250330T010000
END:DAYLIGHT
BEGIN:STANDARD
TZOFFSETFROM:+0200
TZOFFSETTO:+0100
TZNAME:CET
DTSTART:20251026T010000
END:STANDARD
BEGIN:DAYLIGHT
TZOFFSETFROM:+0100
TZOFFSETTO:+0200
TZNAME:CEST
DTSTART:20260329T010000
END:DAYLIGHT
BEGIN:STANDARD
TZOFFSETFROM:+0200
TZOFFSETTO:+0100
TZNAME:CET
DTSTART:20261025T010000
END:STANDARD
END:VTIMEZONE
BEGIN:VTIMEZONE
TZID:UTC
BEGIN:STANDARD
TZOFFSETFROM:+0000
TZOFFSETTO:+0000
TZNAME:UTC
DTSTART:20240101T000000
END:STANDARD
END:VTIMEZONE
BEGIN:VTIMEZONE
TZID:America/Los_Angeles
BEGIN:DAYLIGHT
TZOFFSETFROM:-0800
TZOFFSETTO:-0700
TZNAME:PDT
DTSTART:20240310T100000
END:DAYLIGHT
BEGIN:STANDARD
TZOFFSETFROM:-0700
TZOFFSETTO:-0800
TZNAME:PST
DTSTART:20241103T090000
END:STANDARD
BEGIN:DAYLIGHT
TZOFFSETFROM:-0800
TZOFFSETTO:-0700
TZNAME:PDT
DTSTART:20250309T100000
END:DAYLIGHT
BEGIN:STANDARD
TZOFFSETFROM:-0700
TZOFFSETTO:-0800
TZNAME:PST
DTSTART:20251102T090000
END:STANDARD
BEGIN:DAYLIGHT
TZOFFSETFROM:-0800
TZOFFSETTO:-0700
TZNAME:PDT
DTSTART:20260308T100000
END:DAYLIGHT
BEGIN:STANDARD
TZOFFSETFROM:-0700
TZOFFSETTO:-0800
TZNAME:PST
DTSTART:20261101T090000
END:STANDARD
END:VTIMEZONE
BEGIN:VEVENT
DTSTART;TZID=Europe/Berlin:20250705T090000
DTEND;TZID=Europe/Berlin:20250705T170000
DTSTAMP:20260419T201049
CREATED:20250522T093057Z
LAST-MODIFIED:20250630T224241Z
UID:3014-1751706000-1751734800@hobby-horsing-germany.de
SUMMARY:1. Hobby Horsing Turnier des Reitverein Bürenbruch e.V. (Nordrhein-Westfalen)
DESCRIPTION:Hobby Horsing Turnier des des Reitverein Bürenbruch e.V. in Schwerte /Ergste. \n\n\n\nÖffentliches Hobby Horsing- Turnier mit vielen verschiedenen Wettbewerben.Veranstalter: Reitverein Bürenbruch e.V | E-Mail: e.jakob@rv-buerenbruch.deAnsprechpartner: Esther Jakob| Tel.: 0160/94809609Nennschluss: 30.06.2025 \n\n\n\n\n\n\n\nKeine Nennungen mehr möglich.  \n\n\n\n>>> Ausschreibung <<< \n\n\n\n\n\n\n\nWettbewerbe: \n\n\n\n\n1. Springreiter 15-20 cm\n\n\n\n2. Stilspringen Leicht\n\n\n\n3. Stilspringen Mittel\n\n\n\n4. Stilspringen schwer\n\n\n\n5. Springen Leicht\n\n\n\n6. Springen Mittel\n\n\n\n7. Caprillitest\n\n\n\n8. Dressur Leicht\n\n\n\n9. Dressur Mittel\n\n\n\n10. Dressur Schwer\n\n\n\n11. Reiterwettbewerb
URL:https://hobby-horsing-germany.de/event/hobby-horsing-schwerte-ergste/
LOCATION:Reitverein Bürenbruch e.V\, Höfen 1\, Schwerte /Ergste\, Nordrhein-Westfalen\, 58239\, Germany
CATEGORIES:Deutschland,Events & Turniere,Nordrhein-Westfalen,Öffentliches Hobby Horse Turnier
END:VEVENT
BEGIN:VEVENT
DTSTART;TZID=Europe/Berlin:20250705T110000
DTEND;TZID=Europe/Berlin:20250705T150000
DTSTAMP:20260419T201049
CREATED:20250522T112613Z
LAST-MODIFIED:20250703T124412Z
UID:3034-1751713200-1751727600@hobby-horsing-germany.de
SUMMARY:1. Mitteldeutsches Vielseitigkeits-Hobby-Horsing-Turnier in Förderstedt (Sachsen-Anhalt)
DESCRIPTION:1. Mitteldeutsches Vielseitigkeits-Hobby-Horsing-Turnier in 39443 Förderstedt (Straßfurt) \n\n\n\nÖffentliches Hobby Horsing- Turnier mit verschiedenen WettbewerbenVeranstalter: Reit- und Fahrverein Förderstedt e. V. | E-Mail: wuk@pferdesport-san.deAnsprechpartner: Steffen Schubert | Tel.: 01520/9830743Webseite: www.pferdesport-san.deNennschluss: 25.06.2025 \n\n\n\n\n\n\n\n>>> Ausschreibung <<< \n\n\n\n\n\n\n\nWettbewerbe: \n\n\n\n\nDressur Stufe 2 (WB 911)\n\n\n\nSpring-WB leicht\, Max. 50cm  8 Hindernisse\n\n\n\nGeländeritt-WB leicht\, max. 50cm\n\n\n\n 5-8 Hindernisse mit Wassergraben  und 50m Strecke nach Zeit\n\n\n\n\n\n\n\n\nInformationen zur WBO und der DHH2 Aufgabe findest du in unserem Hobby Horsing Magazin:WBO Breitensport (FN)
URL:https://hobby-horsing-germany.de/event/hobby-horsing-turnier-foerderstedt/
LOCATION:Reit- und Fahrverein Förderstedt\, Turnierplatz Förderstedt - Am Reitplatz 1A\, Förderstedt\, Sachsen-Anhalt\, 39443\, Germany
CATEGORIES:Deutschland,Events & Turniere,Öffentliches Hobby Horse Turnier,Sachsen-Anhalt
ATTACH;FMTTYPE=image/jpeg:https://hobby-horsing-germany.de/wp-content/uploads/2025/05/RuF_foerderstedt.jpg
END:VEVENT
BEGIN:VEVENT
DTSTART;TZID=Europe/Berlin:20250705T120000
DTEND;TZID=Europe/Berlin:20250706T170000
DTSTAMP:20260419T201049
CREATED:20250522T103807Z
LAST-MODIFIED:20250704T102231Z
UID:3025-1751716800-1751821200@hobby-horsing-germany.de
SUMMARY:Hobby Horsing Turnier in Eichstetten a. K. (Baden-Württemberg)
DESCRIPTION:Hobby Horsing Turnier des Reit- und Fahrsportverein Eichstetten e.V. \n\n\n\nÖffentliches Hobby Horsing- Turnier mit zwei WettbewerbenVeranstalter: Reit- und Fahrsportverein Eichstetten e. V. | E-Mail: kontakt@hobby-horsing-germany.deAnsprechpartner: Andreas Karasek | Tel.: 0175/4457444Nennschluss: 26.06.2025 \n\n\n\nNennschluss \n\n\n\n\n\n\n\n>>> Ausschreibung <<< \n\n\n\n\n\n\n\nWettbewerbe \n\n\n\n\nSamstag\, 05.07.2025: Dressur Stufe 2 WBO\n\n\n\nSonntag\, 06.07.2025 – Stilspringwettbewerb (WBO)\n\n\n\n\n\n\n\n\nInformationen zur WBO-Breitensport (FN) findest du hier: Hobby Horsing in der WBO.  \n\n\n\nDie Zeiteinteilung ist noch nicht abgeschlossen! Die Startzeiten erhältst du nach Nennschluss per E-Mail. Vorläufige Planung: Dressur Stufe 2 am Samstag\, den 05.07.2025\, nachmittags. Stilspringwettbewerb am Sonntag\, den 06.07.2025\, nachmittags.
URL:https://hobby-horsing-germany.de/event/hobby-horsing-turnier-in-eichstetten-a-k-baden-wuerttemberg/
LOCATION:Reit- und Fahrsportverein Eichstetten e. V.\, Mühlmatten 7\, Eichstetten am Kaiserstuhl\, Baden-Württemberg\, 79356\, Germany
CATEGORIES:Baden-Württemberg,Deutschland,Events & Turniere,Öffentliches Hobby Horse Turnier
ATTACH;FMTTYPE=image/jpeg:https://hobby-horsing-germany.de/wp-content/uploads/2025/05/Logo-RFV-Eichstetten.jpeg
END:VEVENT
BEGIN:VEVENT
DTSTART;TZID=Europe/Berlin:20250706T090000
DTEND;TZID=Europe/Berlin:20250706T130000
DTSTAMP:20260419T201049
CREATED:20250611T215623Z
LAST-MODIFIED:20250611T215637Z
UID:3337-1751792400-1751806800@hobby-horsing-germany.de
SUMMARY:Hobby Horsing Workshop - Dressur\, Kür\, Quadrille in Beerfelden (Hessen)
DESCRIPTION:Hobby Horsing Workshop beim TV Beerfelden für Teilnehmer zwischen 9-16 Jahren. \n\n\n\nVeranstalter: TV Beerfelden | tanjakwiatkista@yahoo.comAnsprechpartner: Tanja Kwiatkista | Tel.: 0157/32006007Anmeldung per E-Mail an: tanjakwiatkista@yahoo.com \n\n\n\n\n\n\n\nLern-Inhalte: \n\n\n\n\nGrundlagen Dressur und Springreiten\n\n\n\nGemeinsames einüben einer Gruppenkür für den Beerfelder Pferdemarkt\n\n\n\nZusammenstellen einer Kür und Quadrille
URL:https://hobby-horsing-germany.de/event/hobby-horsing-workshop-beerfelden/
LOCATION:TV Beerfelden\, Beerfelder Straße 1\, Beerfelden (bei Erbach/Michelstadt)\, Hessen\, 64757\, Germany
CATEGORIES:Hessen,Hobby Horse Veranstaltung,Workshops und Seminare
END:VEVENT
BEGIN:VEVENT
DTSTART;TZID=Europe/Berlin:20250706T100000
DTEND;TZID=Europe/Berlin:20250706T180000
DTSTAMP:20260419T201049
CREATED:20250627T101256Z
LAST-MODIFIED:20250630T110751Z
UID:3468-1751796000-1751824800@hobby-horsing-germany.de
SUMMARY:Sportfestival München
DESCRIPTION:Hobby Horsing Tag – FABLEHORSE Hobby Horse München \n\n\n\nÖffentliches Hobby Horsing- Turnier für Teilnehmer ab 8 Jahren.Veranstalter: FABLEHORSE Hobby Horses München | E-Mail: info@fablehorse.comAnsprechpartner: Ria Koch | Tel.: 0160/5414415Webseite: www.fablehorse.comInstagram: @fablehorse \n\n\n\nBitte melde Dich bei Interesse direkt bei Ria unter info@fablehorse.com. \n\n\n\n>>> Ausschreibung <<< \n\n\n\n\n\n\n\nWettbewerbe \n\n\n\n\nZeitspringen\n\n\n\nGlücksspringen\n\n\n\nDressur / Reiterwettbewerb
URL:https://hobby-horsing-germany.de/event/sportfestival-muenchen/
LOCATION:Fablehorse Hobby Horse München\, Königsplatz\, München\, 80333\, Germany
CATEGORIES:Bayern,Events & Turniere,Hobby Horse Veranstaltung,Öffentliches Hobby Horse Turnier
END:VEVENT
BEGIN:VEVENT
DTSTART;TZID=UTC:20250712T080000
DTEND;TZID=UTC:20250712T200000
DTSTAMP:20260419T201049
CREATED:20250214T123540Z
LAST-MODIFIED:20250525T192017Z
UID:577-1752307200-1752350400@hobby-horsing-germany.de
SUMMARY:Hobby Horse Turnier Tornesch (Schleswig-Holstein)
DESCRIPTION:Öffentliches Hobby Horsing- Turnier für die Altersklassen U9-U99. \n\n\n\nÖffentliches Hobby Horsing- Turnier mit verschiedenen Wettbewerben.Veranstalter: TuS Esingen e. V. | E-Mail: hobbyhorsing@tus-esingen.deAnsprechpartner: Melanie Range & Ann Christin Jensen | 0157/54061674Nennschluss:  Alle Startplätze belegt. Bitte keine weiteren Nennungen.  \n\n\n\nKeine freien Startplätze mehr.  \n\n\n\n\n\n\n\nWettbewerbe \n\n\n\n\nJunior-Springwettbewerb Stil und Zeit\n\n\n\nDressurprüfung leicht und mittel\n\n\n\nStilspringen 40cm und 60 cm\n\n\n\nZeitspringen 40cm\, 60cm und 80 cm\n\n\n\nBarriere-Springen\n\n\n\n\n\n\n\n\nAnmerkungen:Großes Hobby Horse-Turnier in 3-Feld Handballhalle mit Tribüne.Alle weiteren Einzelheiten sind unserer Ausschreibung zu entnehmen. Das Turnier wird nach dem einheitlichen Regelwerk des DtHHV gerichtet. Für Rückfragen stehen wir Euch gerne jederzeit zur Verfügung. \n\n\n\n\n\n\n\n>>> Ausschreibung <<< \n\n\n\nTelefonisch bitte erst abends ab 18.00 Uhr\, ansonsten gerne per Mail \n\n\n\nBitte wende dich bei Rückfragen direkt an den Veranstalter:Melanie Range & Ann Christin Jensen | hobbyhorsing@tus-esingen.de
URL:https://hobby-horsing-germany.de/event/1-hobby-horse-turnier-tornesch/
LOCATION:TuS Esingen e. V.\, Neue Sporthalle der Klaus-Groth-SchuleKlaus-Groth-Straße 11\, Tornesch\, Schleswig-Holstein\, 25436\, Germany
CATEGORIES:Deutschland,Hobby Horse Veranstaltung,Öffentliches Hobby Horse Turnier,Schleswig-Holstein
ATTACH;FMTTYPE=image/png:https://hobby-horsing-germany.de/wp-content/uploads/2025/02/2025-03-22_13h32_05.png
ORGANIZER;CN="TuS Esingen e. V.":MAILTO:hobbyhorsing@tus-esingen.de
END:VEVENT
BEGIN:VEVENT
DTSTART;TZID=Europe/Berlin:20250712T090000
DTEND;TZID=Europe/Berlin:20250712T170000
DTSTAMP:20260419T201049
CREATED:20250506T231311Z
LAST-MODIFIED:20250717T102819Z
UID:2653-1752310800-1752339600@hobby-horsing-germany.de
SUMMARY:Hobby Horse Turnier Reit- und Fahrverein Beckingen e.V. (Saarland)
DESCRIPTION:Hobby Horsing Turnier beim Reit- und Fahrverein Beckingen e.V. \n\n\n\nÖffentliches Hobby Horsing- Turnier mit vielen verschiedenen Wettbewerben.Veranstalter: Reit- und Fahrverein Beckingen e.V. | E-Mail: info@horsemediensalm.deAnsprechpartner: Sascha Salm | Tel.: 0163/4400566Nennschluss:  \n\n\n\nDie angegebene Zeitangabe ist vorläufig! Die genaue Zeiteinteilung erfolgt nach Nennschluss.  \n\n\n\nNennung: Online Anmeldung \n\n\n\nWir suchen noch Aussteller:Wir freuen uns über Aussteller von Hobby Horses und Hobby Horsing Zubehör! Bei Interesse bitte bei Michèle Schneider unter Tel.: 0157/745 727 32  oder per E-Mail an ruf.beckingen@gmx.de melden.  \n\n\n\n\n\n\n\nWettbewerbe \n\n\n\n\nDressur Leicht\n\n\n\nDressur Mittel\n\n\n\nCaprillitest (E)\n\n\n\nStilspringwettbewerb (E) – Leicht\n\n\n\nStilspringwettbewerb (E) – Mittel\n\n\n\nZeitspringen (E) – Mittel\n\n\n\nPas de Deux\n\n\n\n\n\n\n\n\n>>> Ausschreibung <<<
URL:https://hobby-horsing-germany.de/event/hobby-horse-turnier-beckingen/
LOCATION:Reit- und Fahrverein Beckingen e.V.  „Auf den Kiefern“\, Marienstr. 65\, 66701 Beckingen\, Saarland\, 66701\, Germany
CATEGORIES:Deutschland,Hobby Horse Veranstaltung,Öffentliches Hobby Horse Turnier,Saarland
END:VEVENT
BEGIN:VEVENT
DTSTART;TZID=Europe/Berlin:20250712T093000
DTEND;TZID=Europe/Berlin:20250712T170000
DTSTAMP:20260419T201049
CREATED:20250522T080207Z
LAST-MODIFIED:20250522T080222Z
UID:3000-1752312600-1752339600@hobby-horsing-germany.de
SUMMARY:Avgous Cup in Gerlenhofen (Bayern)
DESCRIPTION:Hobby Horsing Turnier in Gerlenhofen \n\n\n\nÖffentliches Hobby Horsing- Turnier mit vielen verschiedenen WettbewerbenVeranstalter: Melina Gwinner | E-Mail: melina.gwinner@gmail.comAnsprechpartner: Melina Gwinner | Tel.: 015236603948Nennschluss: 30.06.2025 \n\n\n\nNennung: Online \n\n\n\n\nOnline anmelden\n\n\n\n\n\n\n\n\n>>> Ausschreibung <<< \n\n\n\n\n\n\n\nWettbewerbe \n\n\n\n\nDressurkür (vorgegeben)\n\n\n\nStil-Springen 30 cm\n\n\n\nStil-Springen 50 cm\n\n\n\nStil-Springen 90cm\n\n\n\nWestern Barrelrace\n\n\n\nWestern Stangen mix\n\n\n\nZeitspringen 85 cm\n\n\n\nZeit-Springen 50cm\n\n\n\nGelände-Springen 50–60 cm\n\n\n\nZeit-Springen für bis 12 Jahre (30 cm)\n\n\n\n\n\n\n\n\nWeitere Infos:  \n\n\n\n🏆 Platzierungen: \n\n\n\n1. bis 3. Platz: Pokale4. bis 6. Platz: Schleifen7. bis 10. Platz: Schleifen \n\n\n\nBeim Championship: Gutscheine\, Zubehör und ein Hobby Horse \n\n\n\n🍴 Verpflegung: Getränke und Essen gibt es vor Ort zum Verkauf. \n\n\n\nZusätzlich zur normalen Platzierung gibt es ein Punktesystem. Das bedeutet: Je besser du platziert bist\, desto mehr Punkte bekommst du. Wer am Ende des Tages die meisten Punkte gesammelt hat\, qualifiziert sich für den Champions Chip – das große Finale des Turniers. 10 insgesamt \n\n\n\nDu bekommst für jede Prüfung Punkte\, auch wenn du nicht vorne dabei bist – es lohnt sich also\, bei mehreren Prüfungen mitzumachen. \n\n\n\nSo funktioniert das Punktesystem: \n\n\n\nErster Platz: 10 PunkteZweiter Platz: 9\,5 PunkteDritter Platz: 9\,25 PunkteVierter Platz: 9 PunkteFünfter Platz: 8\,5 PunkteSechster Platz: 8 PunkteSiebter Platz: 7\,75 PunkteAchter Platz: 7\,25 PunkteNeunter Platz: 7 PunkteZehnter Platz: 6\,5PunkteElfter bis fünfzehnter Platz: 4 Punkte pro StartAb dem sechzehnten Platz: 2\,5 Punkte pro Start \n\n\n\nTurnier findet draußen statt. WC vorhanden
URL:https://hobby-horsing-germany.de/event/avgous-cup-in-gerlenhofen/
LOCATION:Avgous Cup by Melina Gwinner\, Geroldstraße 11\, Gerlenhofen\, Bayern\, 89233\, Germany
CATEGORIES:Bayern,Deutschland,Events & Turniere,Öffentliches Hobby Horse Turnier
END:VEVENT
BEGIN:VEVENT
DTSTART;TZID=Europe/Berlin:20250712T123000
DTEND;TZID=Europe/Berlin:20250712T170000
DTSTAMP:20260419T201049
CREATED:20250628T103622Z
LAST-MODIFIED:20250628T105241Z
UID:3475-1752323400-1752339600@hobby-horsing-germany.de
SUMMARY:3. WBO - Voltigierwettbewerb mit Hobby Horsing des SC Borussia 1920 Friedrichsfelde e.V.
DESCRIPTION:Hobby Horsing Turnier des SC Borussia 1920 Friedrichsfelde e.V. \n\n\n\nÖffentliches Hobby Horsing- Turnier mit zwei WettbewerbenVeranstalter:SC Borussia 1920 Friedrichsfelde e.V. | E-Mail: kontakt@hobby-horsing-germany.deAnsprechpartner: Tina Twelkmeyer | info@hobby-horses.de \n\n\n\nNennungen an: Tina Twelkmeyer\, info@hobby-horses.de \n\n\n\n \n\n\n\n>>> Ausschreibung <<< \n\n\n\n\n\n\n\nWettbewerbe: \n\n\n\n\nDressur WB mit Hobby Horse/ Steckenpferd (E)Teiln: Alle Alterskl.\, Jahrg.2021+ält.\n\n\n\nZeitspringen mit Hobby Horse/ Steckenpferd (E)Teiln: Alle Alterskl.\, Jahrg.2021+ält.\n\n\n\n\n\n\n\n\nInfos zum Dressur-Wettbewerb:LK Teilnehmer: alle ab Jahrgang 2021 und älter\, die Mitgliedschaft in einem Reitverein ist nicht nötig. \n\n\n\nBewertung: analog WBO\, ausschließlich Wertnoten\, Rangierung erfolgt nach AltersklassenAbteilung 1: 2020-2021Abteilung 2: 2019-2017Abteilung 3: 2016-2014Abteilung 4: 2013 +älter \n\n\n\nAusrüstung: Funktionale Sportkleidung sowie festes Schuhwerk sind zugelassen.Steckenpferd mit oder ohne Trensenzaum. \n\n\n\n>> Aufgabe herunterladen \n\n\n\n\n\n\n\nInfos Zeitspringen: Der Parcours besteht aus 5 Hindernissen mit 7 Sprüngen. \n\n\n\nDieser enthält einzelne Hindernisse wie Hoch- und Hochweitsprünge.Die Hindernishöhe variiert nach den Altersgruppen Beginn mit 40 cm. \n\n\n\nBewertung nach Strafpunkten und gebrauchter Zeit.Folgende Strafpunkte werden gegebenenfalls addiert: – Je Hindernisfehler 4 Punkte – Unterbrechung 4 Punkte
URL:https://hobby-horsing-germany.de/event/hobby-horsing-turnier-berlin/
LOCATION:SC Borussia 1920 Friedrichsfelde e.V.\, Berlin-Karlshorst / Treskowallee 161\, Berlin-Friedrichsfelde\, Berlin\, 10318\, Germany
CATEGORIES:Berlin,Events & Turniere,Öffentliches Hobby Horse Turnier
END:VEVENT
BEGIN:VEVENT
DTSTART;TZID=America/Los_Angeles:20250713T100000
DTEND;TZID=America/Los_Angeles:20250713T170000
DTSTAMP:20260419T201049
CREATED:20250316T044753Z
LAST-MODIFIED:20250328T094427Z
UID:1285-1752400800-1752426000@hobby-horsing-germany.de
SUMMARY:Aktionstag für Kinder - Gartenschau 2025 - Baden-Württemberg
DESCRIPTION:Hobby Horsing Parcours zum Ausprobieren – für Kinder im Treffpunkt Baden-Württemberg. \n\n\n\nDer Deutsche Hobby Horsing Verband lädt bei der Landesgartenschau zu spannenden Aktionstagen ein! Kinder ab 6 Jahren können verschiedene Parcours testen\, während für die Jüngeren (ab 3 Jahren) ein eigener Bereich bereitsteht. Bring dein eigenes Hobby Horse mit oder leihe dir eines vor Ort aus – Spaß und Bewegung sind garantiert!Weitere Infos unter: www.tal-x.de/veranstaltungen
URL:https://hobby-horsing-germany.de/event/aktionstag-fur-kinder-gartenschau-2025-2-bw/
LOCATION:Landesgartenschau Baden-Württemberg\, Freudenstadt und Baiersbronn\, Baden-Württemberg\, 72270\, Germany
CATEGORIES:Baden-Württemberg,Deutschland,Hobby Horse Veranstaltung
ATTACH;FMTTYPE=image/jpeg:https://hobby-horsing-germany.de/wp-content/uploads/2025/03/Hobby-Horsing-Aktionstage-mit-Andreas-Karasek.jpg
END:VEVENT
BEGIN:VEVENT
DTSTART;TZID=America/Los_Angeles:20250719T110000
DTEND;TZID=America/Los_Angeles:20250720T190000
DTSTAMP:20260419T201049
CREATED:20250328T114826Z
LAST-MODIFIED:20250719T065534Z
UID:1744-1752922800-1753038000@hobby-horsing-germany.de
SUMMARY:5. FABLEHORSE HOBBY HORSE CUP
DESCRIPTION:Hobby Horsing Turnier von Fablehorse Hobby Horses München \n\n\n\nÖffentliches Hobby Horsing- Turnier für Teilnehmer zwischen ab 6 Jahren. \n\n\n\nVeranstalter: Fablehorse Hobby Horses München | E-Mail: info@fablehorse.comAnsprechpartner: Ria Koch | Tel.: 0160/5414415Nennschluss: 06.06.2025 \n\n\n\nNennungen per E-Mail an: info@fablehorse.com \n\n\n\n\n\n\n\nWettbewerbe: \n\n\n\n\nDressur\n\n\n\nZeitspringen\n\n\n\nStilspringen\n\n\n\nSynchronspringen\n\n\n\nHochsprung\n\n\n\n\n\n\n\n\n>>> Ausschreibung <<< \n\n\n\nRückfragen sind direkt an den Veranstalter zu stellen: Ria Koch | Tel.: 0160/5414415 | info@fablehorse.com
URL:https://hobby-horsing-germany.de/event/5-fablehorse-hobby-horse-cup/
LOCATION:Fablehorse Hobby Horses München\, Häberlstraße 11 b\, München\, Bayern\, 80337\, Germany
CATEGORIES:Bayern,Deutschland,Hobby Horse Veranstaltung,Öffentliches Hobby Horse Turnier
END:VEVENT
BEGIN:VEVENT
DTSTART;TZID=America/Los_Angeles:20250720T090000
DTEND;TZID=America/Los_Angeles:20250720T180000
DTSTAMP:20260419T201049
CREATED:20250312T175629Z
LAST-MODIFIED:20250719T065638Z
UID:1235-1753002000-1753034400@hobby-horsing-germany.de
SUMMARY:TSF Horse Cup (Baden-Württemberg)
DESCRIPTION:Hobby Horsing Turnier beim TSF Ditzingen 1893 e.V.  \n\n\n\nÖffentliches Hobby Horsing- Turnier für Teilnehmer ab 5 Jahren.Veranstalter: TSF Ditzingen 1893 e.V. | E-Mail: tsf-horse-cup@web.deAnsprechpartner: Tanja Turner | 0173/4146881Nennschluss: 31.05.2025 \n\n\n\nNennungen per E-Mail an: tsf-horse-cup@web.de \n\n\n\n\n\n\n\nWettbewerbe: \n\n\n\n\nDressur leicht\, mittel\, schwer \n\n\n\nReiterwettbewerb\n\n\n\nZeitspringen 30cm\, 50cm\, 80 cm\n\n\n\nMächtigkeitsspringen\n\n\n\nZeitspringen (20cm – 80 cm)\n\n\n\nWestern\n\n\n\nReiterspiele\n\n\n\n\n\n\n\n\n>>> Ausschreibung <<< \n\n\n\nRückfragen sind bitte an den Veranstalter zu richten:Ansprechpartner: Tanja Turner | E-Mail: tsf-horse-cup@web.de
URL:https://hobby-horsing-germany.de/event/tsf-horse-cup-baden-wuerttemberg/
LOCATION:TSF Ditzingen 1893 e.V.\, Weissacher Str. 44\, Ditzingen. Heimerdingen\, Baden-Württemberg\, 71254\, Germany
CATEGORIES:Baden-Württemberg,Deutschland,Hobby Horse Veranstaltung,Öffentliches Hobby Horse Turnier
ORGANIZER;CN="TSF Ditzingen 1893 e.V. Tanja Turner":MAILTO:tsf-horse-cup@web.de
END:VEVENT
BEGIN:VEVENT
DTSTART;TZID=Europe/Berlin:20250721T150000
DTEND;TZID=Europe/Berlin:20250725T170000
DTSTAMP:20260419T201049
CREATED:20250603T222727Z
LAST-MODIFIED:20250719T065733Z
UID:3242-1753110000-1753462800@hobby-horsing-germany.de
SUMMARY:Ferienspiele Hobby Horsing in den Sommerferien (Nordrhein-Westfalen)
DESCRIPTION:Ferienprogramm von Tines Hobby Horse Club Halle in Westfalen \n\n\n\nÖffentliches Hobby Horsing- Event für Teilnehmer zwischen 6-16 Jahren.Veranstalter: Tines Hobby Horse Club Halle in Westfalen | E-Mail: christine-niedermeier@gmx.deAnsprechpartner: Christine Niedermeier | Tel.: 0151/23249816Nennschluss: keiner \n\n\n\nNennung per E-Mail an: christine-niedermeier@gmx.de \n\n\n\n\n\n\n\nWeitere Informationen: \n\n\n\nTines Hobby Horse Club heißt euch Willkommen bei unseren Ferienspielen: \n\n\n\nWir bieten spannende Erlebnisse rund ums Hobby Horsing an: Ralleys im Wald\, Springparcours\, Dressur\, Geschicklichkeit\, Picknick im Grünen und natürlich ganz viel Spaß und Freude \n\n\n\nMehr Infos findet ihr auf unserer Homepage: www.Tinesnachhilfeschule.deMeldet euch schnell an.Wir freuen uns auf euch!
URL:https://hobby-horsing-germany.de/event/tines-hobby-horse-ferienprogramm/
LOCATION:Tines Hobby Horse Club Halle in Westfalen\, Hauptstraß 1\, Halle in Westfalen\, Nordrhein-Westfalen\, 33790\, Germany
CATEGORIES:Deutschland,Hobby Horse Veranstaltung,Nordrhein-Westfalen
ATTACH;FMTTYPE=image/jpeg:https://hobby-horsing-germany.de/wp-content/uploads/2025/06/Tines-Ferienprogramm.jpeg
END:VEVENT
BEGIN:VEVENT
DTSTART;TZID=UTC:20250727T110000
DTEND;TZID=UTC:20250727T160000
DTSTAMP:20260419T201049
CREATED:20250214T122927Z
LAST-MODIFIED:20250719T065951Z
UID:571-1753614000-1753632000@hobby-horsing-germany.de
SUMMARY:Kinder-Olympiade beim Freiburger Seefest (Baden-Württemberg)
DESCRIPTION:Kinder-Olympiade beim Freiburger Seefest mit Hobby Horsing Parcour \n\n\n\nÖffentliches Veranstaltung mit Hobby Horsing ParcourVeranstalter: (FWTM) Freiburg Wirtschaft Touristik und Messe GmbH & Co. KG Ansprechpartner: Hobby Horsing: Andreas Karasek | Tel.: 07663/914 85 70Anmeldeschluss: solange der Vorrat der Kinder-Olympiaden-Pässe reicht \n\n\n\nErlebt einen unvergesslichen Familientag beim Freiburger Seefest! Die Kinder-Olympiade verspricht jede Menge Spiel\, Spaß und spannende Herausforderungen. Ob Torwandschießen\, Geschicklichkeitsspiele\, Hobby Horsing Zeitspringen oder knifflige Rätsel – hier ist für jeden etwas dabei! \n\n\n\nDank der Unterstützung unserer tollen Partner wie der Hobby Horsing Club Kaiserstuhl\, Eissportgemeinschaft Freiburg\, der Jugendfeuerwehr Freiburg-Lehen und vielen weiteren\, können Kinder ab 5 Jahren an mehreren Stationen ihr Können unter Beweis stellen und tolle Preise gewinnen. \n\n\n\nWichtige Infos:\n\n\n\n\nOlympiade-Pass: Abholung von 11:00 – 14:00 Uhr bei der Seebühne\n\n\n\nPreisvergabe: 14:00 – 16:00 Uhr gegen Vorlage der Spielkarte an der Seebühne\n\n\n\nTeilnahmegebühr: 4 € (Spende an eine soziale Einrichtung)\n\n\n\n9-10 Stationen\n\n\n\nAlter: Kinder ab 5 Jahren (inkl. Bambinis)\n\n\n\nAusgabe der Preise (Beutel mit Spielsachen\, etc.) 14 – 16:00 Uhr durch Vorzeigen der Spielkarte an der Seebühne\n\n\n\n\nWeitere Infos und Anmeldung findet ihr auf der Webseite www.freiburger-seefest.de.
URL:https://hobby-horsing-germany.de/event/kinder-olympiade-beim-freiburger-seefest/
LOCATION:Seepark Freiburg\, Sundgauallee 12A\, Freiburg\, Baden-Württemberg\, 79110\, Germany
CATEGORIES:Baden-Württemberg,Deutschland,Hobby Horse Veranstaltung
ORGANIZER;CN="HobbyHorsing Andi":MAILTO:andreas@hobby-horsing-trainer.de
END:VEVENT
END:VCALENDAR