BEGIN:VCALENDAR
VERSION:2.0
PRODID:-//Hobby Horsing Germany - ECPv6.15.20//NONSGML v1.0//EN
CALSCALE:GREGORIAN
METHOD:PUBLISH
X-WR-CALNAME:Hobby Horsing Germany
X-ORIGINAL-URL:https://hobby-horsing-germany.de
X-WR-CALDESC:Veranstaltungen für Hobby Horsing Germany
REFRESH-INTERVAL;VALUE=DURATION:PT1H
X-Robots-Tag:noindex
X-PUBLISHED-TTL:PT1H
BEGIN:VTIMEZONE
TZID:America/Los_Angeles
BEGIN:DAYLIGHT
TZOFFSETFROM:-0800
TZOFFSETTO:-0700
TZNAME:PDT
DTSTART:20240310T100000
END:DAYLIGHT
BEGIN:STANDARD
TZOFFSETFROM:-0700
TZOFFSETTO:-0800
TZNAME:PST
DTSTART:20241103T090000
END:STANDARD
BEGIN:DAYLIGHT
TZOFFSETFROM:-0800
TZOFFSETTO:-0700
TZNAME:PDT
DTSTART:20250309T100000
END:DAYLIGHT
BEGIN:STANDARD
TZOFFSETFROM:-0700
TZOFFSETTO:-0800
TZNAME:PST
DTSTART:20251102T090000
END:STANDARD
BEGIN:DAYLIGHT
TZOFFSETFROM:-0800
TZOFFSETTO:-0700
TZNAME:PDT
DTSTART:20260308T100000
END:DAYLIGHT
BEGIN:STANDARD
TZOFFSETFROM:-0700
TZOFFSETTO:-0800
TZNAME:PST
DTSTART:20261101T090000
END:STANDARD
END:VTIMEZONE
BEGIN:VTIMEZONE
TZID:UTC
BEGIN:STANDARD
TZOFFSETFROM:+0000
TZOFFSETTO:+0000
TZNAME:UTC
DTSTART:20240101T000000
END:STANDARD
END:VTIMEZONE
BEGIN:VEVENT
DTSTART;TZID=America/Los_Angeles:20250404T163000
DTEND;TZID=America/Los_Angeles:20250406T130000
DTSTAMP:20260420T010957
CREATED:20250316T055600Z
LAST-MODIFIED:20250401T230816Z
UID:1296-1743784200-1743944400@hobby-horsing-germany.de
SUMMARY:Hobby Horsing Trainingscamp (Lahr / Baden-Württemberg)
DESCRIPTION:Hobby Horsing Trainingscamp in Lahr – Jugendwerk im OrtenaukreisAdresse: Langenhard 7 | 77933 Lahr \n\n\n\nHobby Horsing-Camp für Teilnehmer ab 8 Jahren.Veranstalter: Hobby Horsing Club Kaiserstuhl | E-Mail : andreas@hobby-horsing-kaiserstuhl.deAnsprechpartner: Andreas Karasek | Tel.: 0175/4457444Nennschluss:  30.03.2025 \n\n\n\nAuch in diesem Jahr lädt der Hobby Horsing Club Kaiserstuhl euch wieder zu einem unvergesslichen Trainingscamp ein! Dieses Mal führt uns unser Abenteuer nach Lahr\, auf den wunderschönen Freizeithof Langenhard. \n\n\n\nWas euch erwartet:Die Unterkunft übertrifft alles\, was ihr vom letztjährigen Camp kennt! Mit einem größeren Gelände\, geräumigen Schulungs- und Aufenthaltsräumen und einer alternativen Trainingsmöglichkeit bei Regen sind wir bestens auf jedes Wetter vorbereitet. \n\n\n\nMacht euch bereit für ein Wochenende voller Spaß\, Training und Gemeinschaft! Save the date und bleibt gespannt! 🐴✨ \n\n\n\nDie Teilnahme ist ab einem Alter von 8 Jahren möglich. \n\n\n\n\n\n\n\nAusgebucht
URL:https://hobby-horsing-germany.de/event/hobby-horsing-trainingscamp-lahr-baden-wuerttemberg/
LOCATION:Jugendwerk im Ortenaukreis e.V.\, Langenhard 7\, Lahr\, Baden-Württemberg\, 77933\, Germany
CATEGORIES:Baden-Württemberg,Deutschland,Hobby Horse Veranstaltung
ATTACH;FMTTYPE=image/png:https://hobby-horsing-germany.de/wp-content/uploads/2025/03/Logo_Hobby_Horsing_Schriftzug_gold_pfade.png
END:VEVENT
BEGIN:VEVENT
DTSTART;TZID=America/Los_Angeles:20250405T170000
DTEND;TZID=America/Los_Angeles:20250406T180000
DTSTAMP:20260420T010957
CREATED:20250328T113629Z
LAST-MODIFIED:20250328T142645Z
UID:1737-1743872400-1743962400@hobby-horsing-germany.de
SUMMARY:4. Fablehorse Hobby Horsing Turnier ab 18 Jahren (Bayern)
DESCRIPTION:Hobby Horsing Turnier von Fablehorse Hobby Horses München \n\n\n\nÖffentliches Hobby Horsing- Turnier für Teilnehmer zwischen ab 18 Jahren mit einem Wettbewerb.Veranstalter: Fablehorse Hobby Horses München | E-Mail: info@fablehorse.comAnsprechpartner: Ria Koch | Tel.: 0160/5414415Nennschluss: 31.03.2025 \n\n\n\nNennungen per E-Mail an: info@fablehorse.com \n\n\n\n\n\n\n\nWettbewerbe: \n\n\n\n\nZeitspringen E/L/M/S\n\n\n\n\n\n\n\n\n>>>Ausschreibung<<< \n\n\n\nRückfragen sind direkt an den Veranstalter zu richten: Ria Koch | Tel.: 0160/5414415 | info@fablehorse.com
URL:https://hobby-horsing-germany.de/event/hobby-horsing-turnier-ab-18-in-muenchen/
LOCATION:Fablehorse Hobby Horses München\, Werdenfelsstraße 70\, München\, Bayern\, 81377\, Germany
CATEGORIES:Bayern,Deutschland,Hobby Horse Veranstaltung,Öffentliches Hobby Horse Turnier
END:VEVENT
BEGIN:VEVENT
DTSTART;TZID=UTC:20250406T110000
DTEND;TZID=UTC:20250406T160000
DTSTAMP:20260420T010957
CREATED:20250214T133724Z
LAST-MODIFIED:20250328T050111Z
UID:640-1743937200-1743955200@hobby-horsing-germany.de
SUMMARY:Hobby Horsing-Aktionstag - Westfälisches Pferdemuseum im Allwetterzoo Münster (Nordrhein-Westfalen)
DESCRIPTION:Hobby Horsing-Aktionstag & Schnuppertag | Westfälisches Pferdemuseum im Allwetterzoo Münster. \n\n\n\nVeranstalter: Eine gemeinsame Veranstaltung des Westfälischen Pferdemuseums Münster und AP Hobby Horsing All in One.Ansprechpartner: Julia Hammerschmidt | Tel.: 0251/48427-24 | E-Mail: hammerschmidt@pferdemuseum.de.Anmeldeschluss:06.04.2025 \n\n\n\nAnmeldungen per E-Mail an hammerschmidt@pferdemuseum.de. \n\n\n\nDer Aktionstag lädt alle Interessierten ein\, Hobby Horsing selbst auszuprobieren. \n\n\n\nRückfragen sind direkt an den Veranstalter zu richten. Ansprechpartner: Julia Hammerschmidt | E-Mail: hammerschmidt@pferdemuseum.de.
URL:https://hobby-horsing-germany.de/event/hobby-horsing-aktionstag-munster/
LOCATION:Westfälisches Pferdemuseum im Allwetterzoo Münster\, Sentruper Straße 311\, Münster\, Nordrhein-Westfalen\, 48161\, Germany
CATEGORIES:Deutschland,Hobby Horse Veranstaltung,Nordrhein-Westfalen
ORGANIZER;CN="Westf%C3%A4lisches Pferdemuseum im Allwetterzoo M%C3%BCnster":MAILTO:hammerschmidt@pferdemuseum.de
END:VEVENT
BEGIN:VEVENT
DTSTART;TZID=America/Los_Angeles:20250412T083000
DTEND;TZID=America/Los_Angeles:20250415T183000
DTSTAMP:20260420T010957
CREATED:20250316T062528Z
LAST-MODIFIED:20250328T050206Z
UID:1310-1744446600-1744741800@hobby-horsing-germany.de
SUMMARY:Hobby Horse Lehrgang Dressur und Springen (Baden-Württemberg)
DESCRIPTION:Hobby Horsing Lehrgang in 78333 Stockach (BW) \n\n\n\nHobby Horsing- Workshop für Teilnehmer ab 5 Jahren.Veranstalter: RSV Quellenhof Bodensee e.V. | E-Mail : quellenhof@simonawinter.deAnsprechpartner: Simona Winter | Tel.: 0177/2726921Anmeldeschluss:  10.04.2025 \n\n\n\nAnmeldungen per E-Mail oder direkt onlineE-Mail : quellenhof@simonawinter.de \n\n\n\n\nOnline anmelden\n\n\n\n\n\n\n\n\nLerninhalte: \n\n\n\n\nDressur & Springen\n\n\n\n\n\n\n\n\nRückfragen sind bitte direkt an den Veranstalter zu richten: Simona Winter | Tel.: 0177/2726921.
URL:https://hobby-horsing-germany.de/event/hobby-horse-lehrgang-dressur-und-springen-baden-wuerttemberg/
LOCATION:RSV Q/ Simona Winter\, Linzgaustraße 33\, Stockach\, Baden-Württemberg\, 78333\, Germany
CATEGORIES:Bayern,Deutschland,Hobby Horse Veranstaltung,Workshops und Seminare
ORGANIZER;CN="Simona Winter":MAILTO:quellenhof@simonawinter.de
END:VEVENT
BEGIN:VEVENT
DTSTART;TZID=America/Los_Angeles:20250412T090000
DTEND;TZID=America/Los_Angeles:20250412T150000
DTSTAMP:20260420T010957
CREATED:20250312T165952Z
LAST-MODIFIED:20250328T050238Z
UID:1213-1744448400-1744470000@hobby-horsing-germany.de
SUMMARY:Flowerrise Cup 2025 (Bayern)
DESCRIPTION:Hobby Horsing Turnier beim TSV Starnberg e.V. \n\n\n\nÖffentliches Hobby Horsing- Turnier für Teilnehmer ab 6 Jahren.Veranstalter: TSV Starnberg e.V. | E-Mail: hobbyhorsing-starnberg@web.deAnsprechpartner: Cara Pohlus \n\n\n\nDieses Event wurde vom Veranstalter wieder gelöscht!
URL:https://hobby-horsing-germany.de/event/flowerrise-cup-2025-bayern/
LOCATION:Sportplatz des TSV Starnberg\, Riedener Weg 52\, Starnberg\, Bayern\, 82319\, Germany
CATEGORIES:Bayern,Deutschland,Hobby Horse Veranstaltung,Öffentliches Hobby Horse Turnier
ATTACH;FMTTYPE=image/jpeg:https://hobby-horsing-germany.de/wp-content/uploads/2025/03/Alle-Platz-belegt-1.jpeg
ORGANIZER;CN="Cara Pohlus":MAILTO:hobbyhorsing-starnberg@web.de
END:VEVENT
BEGIN:VEVENT
DTSTART;TZID=America/Los_Angeles:20250412T110000
DTEND;TZID=America/Los_Angeles:20250413T150000
DTSTAMP:20260420T010957
CREATED:20250312T163354Z
LAST-MODIFIED:20250328T050316Z
UID:1199-1744455600-1744556400@hobby-horsing-germany.de
SUMMARY:Oster Workshop (Baden-Württemeberg)
DESCRIPTION:Hobby Horsing Workshop beim FT1844 für Teilnehmer zwischen 9-16 Jahren. \n\n\n\nVeranstalter: Ft1844 | tanjakwiatkista@yahoo.comAnsprechpartner: Tanja Kwiatkista | Tel.: 015732006007Anmeldeschluss:  \n\n\n\nAnmeldung \n\n\n\n\nOnline anmelden\n\n\n\n\n\n\n\n\nLerninhalte: \n\n\n\nWeitere Ausarbeitung einer Quadrille\,Mounted Games\, Synchron springen. \n\n\n\nAnmerkungen: Das Angebot kann auf Wunsch variieren.Bei schönem Wetter können wir draußen trainieren und machen einen Oster Ausritt entlang der Dreisam.
URL:https://hobby-horsing-germany.de/event/oster-workshop-baden-wuerttemeberg/
LOCATION:Ft1844\, Schwarzwaldstrasse 181\, Freiburg\, Baden-Württemberg\, 79117\, Germany
ORGANIZER;CN="Tanja Kwiatkista":MAILTO:tanjakwiatkista@yahoo.com
END:VEVENT
BEGIN:VEVENT
DTSTART;TZID=UTC:20250414T150000
DTEND;TZID=UTC:20250414T170000
DTSTAMP:20260420T010957
CREATED:20250214T133015Z
LAST-MODIFIED:20250328T050342Z
UID:634-1744642800-1744650000@hobby-horsing-germany.de
SUMMARY:Ferienspiele Hobby Horsing in den Osterferien (Nordrhein-Westfalen)
DESCRIPTION:Hobby Horsing Workshop für Kinder zwischen 7-15 Jahre beim Hobby Horse Club Halle in Westfalen. \n\n\n\nVeranstalter: Christine Niedermeier – Hobby Horse Club Halle in WestfalenAnsprechpartner: Christine Niedermeier & Nicco NiedermeierKontaktdaten: Tel.: 0151/23249816 | E-Mail: christine-niedermeier@gmx.de \n\n\n\nIn den Osterferien haben wir ganz viel Spaß mit unseren SteckenpferdenWir bieten ganz viel Programm\, zum Beispiel basteln\, spannende Ralleys im Wald\, tolle Geschicklichkeitsparcours\, passend zu Ostern natürlich Eierlaufen über Hindernisse. Selbstverständlich gehören auch Dressur\, Springen und eine Quadrille mit dazu. \n\n\n\n\nOnline anmelden\n\n\n\n\n\n\n\n\nAnmeldeschluss: 10.04.2024 – maximal 15 Teilnehmer  \n\n\n\nRückfragen sind direkt an den Veranstalter zu richten: Christine Niedermeier | 0151/23249816
URL:https://hobby-horsing-germany.de/event/ferienspiele-hobby-horsing-in-den-osterferien/
LOCATION:Hobby Horse Club Halle in Westfalen\, Goebenstraße 1\, Halle (Westfalen)\, Nordrhein-Westfalen\, 33790\, Germany
CATEGORIES:Deutschland,Hobby Horse Veranstaltung,Nordrhein-Westfalen,Workshops und Seminare
ORGANIZER;CN="Hobby Horse Club Halle in Westfalen":MAILTO:christine-niedermeier@gmx.de
END:VEVENT
BEGIN:VEVENT
DTSTART;TZID=America/Los_Angeles:20250421T120000
DTEND;TZID=America/Los_Angeles:20250421T160000
DTSTAMP:20260420T010957
CREATED:20250318T124001Z
LAST-MODIFIED:20250328T050416Z
UID:1489-1745236800-1745251200@hobby-horsing-germany.de
SUMMARY:Achkarrer-Osterhock mit Hobby Horsing Aktionstag (Baden-Württemberg)
DESCRIPTION:📍 Winzergenossenschaft Achkarren\, Kaiserstuhl \n\n\n\nDie Winzergenossenschaft Achkarren lädt zum traditionellen Achkarrer Osterhock ein – ein gemütliches Frühlingsfest für die ganze Familie! \n\n\n\n🌞 Genuss & Geselligkeit:Während die Erwachsenen bei einem Glas exzellentem Kaiserstühler Wein am Weinbrunnen die Frühlingssonne genießen\, gibt es für die jüngeren Gäste ein besonderes Highlight: \n\n\n\n🐴 Hobby Horsing Aktionstag!Kinder und Jugendliche können sich auf einen spannenden Geschicklichkeitsparcours mit ihren Hobby Horses freuen. Springen\, reiten und jede Menge Spaß stehen auf dem Programm! \n\n\n\n🌿 Ein Fest für die Sinne:Nutzen Sie das Osterwochenende für einen Ausflug in die blühende Landschaft des Kaiserstuhls und erleben Sie einen Tag voller Tradition\, Natur und sportlicher Begeisterung. \n\n\n\n📌 Seid dabei und feiert mit uns den Frühling!
URL:https://hobby-horsing-germany.de/event/achkarrer-osterhock-mit-hobby-horsing/
LOCATION:Winzergenossenschaft-Achkarren\, Schloßbergstraße 2\, Achkarren\, Baden-Württemberg\, 79325\, Germany
CATEGORIES:Baden-Württemberg,Deutschland,Hobby Horse Veranstaltung
ATTACH;FMTTYPE=image/jpeg:https://hobby-horsing-germany.de/wp-content/uploads/2025/03/Achkarrer-Osterhock-mit-Hobby-Horsing-Andi-scaled.jpeg
END:VEVENT
BEGIN:VEVENT
DTSTART;TZID=America/Los_Angeles:20250422T150000
DTEND;TZID=America/Los_Angeles:20250424T170000
DTSTAMP:20260420T010957
CREATED:20250316T063613Z
LAST-MODIFIED:20250328T050455Z
UID:1316-1745334000-1745514000@hobby-horsing-germany.de
SUMMARY:Hobby Horsing Ferienkurs in den Osterferien (Bayern)
DESCRIPTION:Hobby Horsing Ferienkurs beim RC Mauritius Diepersdorf e.V. in Leinburg \n\n\n\nÖffentliche Hobby Horsing- Veranstaltung für Teilnehmer zwischen 5-15 Jahren.Veranstalter: RC Mauritius Diepersdorf e.V. | E-Mail : info@rc-mauritius.deAnsprechpartner: Stephanie Oertel | Tel.: 0157/78333674Nennschluss:   \n\n\n\n\nOnline anmelden\n\n\n\n\n\n\n\n\n\n\n\n\nProgramm: \n\n\n\nGrundlagen Dressur und Springen\, angepasst an Vorkenntnisse und Alter der Kinder. \n\n\n\n\n\n\n\nRückfragen bitte direkt an den Veranstalter richten: RC Mauritius Diepersdorf e.V. | Ansprechpartner: Stephanie Oertel | E-Mail : info@rc-mauritius.de.
URL:https://hobby-horsing-germany.de/event/hobby-horsing-ferienkurs-in-den-osterferien-bayern/
LOCATION:RC Mauritius Diepersdorf e.V.\, Kleeäcker\, Leinburg\, Bayern\, 91227
END:VEVENT
BEGIN:VEVENT
DTSTART;TZID=America/Los_Angeles:20250423T133000
DTEND;TZID=America/Los_Angeles:20250423T163000
DTSTAMP:20260420T010957
CREATED:20250411T094828Z
LAST-MODIFIED:20250411T094838Z
UID:1993-1745415000-1745425800@hobby-horsing-germany.de
SUMMARY:Hobby Horsing Ferien-Workshop ab 4 Jahren (Baden-Württemberg)
DESCRIPTION:🐴 Ferien-Workshop – Hobby Horsing ab 4 Jahren! 🐴📍 Reitclub Emmendingen📅 23.04.2025 | 13:30–14:30 Uhr \n\n\n\nDu liebst Hobby Horsing und hast Lust auf Spiel\, Spaß und Kreativität? Dann komm zu unserem Ferien-Workshop in Emmendingen! 🎨✨ \n\n\n\n👟 Was erwartet dich?▪️ Bahnfiguren lernen▪️ Basteln: z. B. Hufeisen aus Holz\, Daumenkino oder dein eigenes Hobby Horse▪️ Hobby Horsing: Ausreiten & Springen 🐎 \n\n\n\n🎟 Kosten: 20 €(Mitglieder des Reitclub Emmendingen e. V. oder HHC Kaiserstuhl erhalten eine Ermäßigung) \n\n\n\n🔔 Anmeldeschluss: 22.04.2025📞 Ansprechpartner: Andreas Karasek – 0175 / 44 57 444 \n\n\n\n \n\n\n\n\nOnline anmelden
URL:https://hobby-horsing-germany.de/event/hobby-horsing-ferien-workshop/
LOCATION:Reitclub Emmendingen e. V.\, Am Sportfeld 29\, Emmendingen\, Baden-Württemberg\, 79312\, Germany
CATEGORIES:Baden-Württemberg,Deutschland,Hobby Horse Veranstaltung
ATTACH;FMTTYPE=image/png:https://hobby-horsing-germany.de/wp-content/uploads/2025/04/Hobby-Horsing-Workshop-23.-April-2025.png
ORGANIZER;CN="HobbyHorsing Andi":MAILTO:andreas@hobby-horsing-trainer.de
END:VEVENT
BEGIN:VEVENT
DTSTART;TZID=UTC:20250426T090000
DTEND;TZID=UTC:20250426T160000
DTSTAMP:20260420T010957
CREATED:20250214T132619Z
LAST-MODIFIED:20250401T053818Z
UID:628-1745658000-1745683200@hobby-horsing-germany.de
SUMMARY:Lübser Hobby Horse Turnier 3.0 (Mecklenburg-Vorpommern)
DESCRIPTION:Hobby Horsing Turnier des BSG Traktor Lübs \n\n\n\nÖffentliches Hobby Horsing- Turnier mit verschiedenen WettbewerbenVeranstalter: BSG Traktor Lübs | E-Mail: maren.guderjan@gmx.deAnsprechpartner: Maren Guderjan | Tel.: 0152/28990357Nennschluss: 26.04.2025 \n\n\n\nNennung per E-Mail an: maren.guderjan@gmx.de \n\n\n\n\n\n\n\nWettbewerbe \n\n\n\n\nE-Zeitspringen 30-40cm bis 8 Jahre\n\n\n\nA-Zeitspringen 50-60cm\n\n\n\nL-Stielspringen 70-80cm\n\n\n\nM-Stielspringen 75-90cm\n\n\n\nS-Stilspringen 100-110cm\n\n\n\nMächtigkeitsspringen ab 30cm\n\n\n\nE-Dressur (Vorgelesen)\n\n\n\nGangarten U9\n\n\n\nGeschicklichkeit\n\n\n\n\n\n\n\n\n>>> Zeitplan <<< \n\n\n\n>>>Nennformular<<< \n\n\n\nRückfragen bitte direkt an den Veranstalter richten: Maren Guderjan | Tel.: 0152/28990357 | E-Mail: maren.guderjan@gmx.de
URL:https://hobby-horsing-germany.de/event/luebser-hobby-horse-cup-mecklenburg-vorpommern/
LOCATION:BSG Traktor Lübs – Sportverein in Lübs / Vorpommern\, Schulstraße 1\, Lübs\, Mecklenburg-Vorpommern\, 17379\, Germany
CATEGORIES:Deutschland,Mecklenburg-Vorpommern,Öffentliches Hobby Horse Turnier
ORGANIZER;CN="Traktor L%C3%BCbs e. V.":MAILTO:maren.guderjan@gmx.de
END:VEVENT
BEGIN:VEVENT
DTSTART;TZID=America/Los_Angeles:20250426T100000
DTEND;TZID=America/Los_Angeles:20250426T130000
DTSTAMP:20260420T010957
CREATED:20250320T141820Z
LAST-MODIFIED:20250417T232547Z
UID:1513-1745661600-1745672400@hobby-horsing-germany.de
SUMMARY:Hobby Horsing Intensivtraining (Nordrhein-Westfalen)
DESCRIPTION:Hobby Horsing Intensivtraining beim Reit- und Fahrverein Herbede-Ruhr e.V. \n\n\n\n\n\nHobby Horsing-Workshop für Teilnehmer ab 5 Jahren.Veranstalter: RFV Herbede-Ruhr e.V. | E-Mail : info@rv-herbederuhr.deAnsprechpartner: Yannic Buchner | Tel.: 01782841368Anmeldeschluss:  Leider sind alle Plätze belegt.  \n\n\n\nLeider gibt es keine freien Plätze mehr. \n\n\n\n\n\n\n\n\n\n\n\nLerninhalte \n\n\n\nIn diesem Intensivkurs behandeln wir in Theorie und Praxis an drei verschiedenen Stationen: \n\n\n\n\nDressur\n\n\n\nSpringen\n\n\n\nGeschicklichkeit/Koordination\n\n\n\n\nDafür werden die Teilnehmer nach Alter bzw. Leistungsstand in drei Gruppen aufgeteilt. Jede Gruppe durchläuft dann nacheinander alle Stationen. Der Kurs richtet sich an Anfänger\, Fortgeschrittene und Profis. \n\n\n\n\n\n\n\nDer Unterricht wird von erfahrenen Hobby Horsing Trainern und Richtern gehalten. Im Anschluss besteht die Möglichkeit zu einem gemeinsamen Mittagessen\, um sich auszutauschen und Freundschaften zu knüpfen.
URL:https://hobby-horsing-germany.de/event/hobby-horsing-intensivtraining-nordrhein-westfalen/
LOCATION:Reit- und Fahrverein Herbede-Ruhr e.V.\, Krünerstraße 52\, Witten\, Nordrhein-Westfalen\, 58456\, Germany
CATEGORIES:Deutschland,Hobby Horse Veranstaltung,Nordrhein-Westfalen,Workshops und Seminare
ORGANIZER;CN="Reit- und Fahrverein Herbede-Ruhr e.V.":MAILTO:info@rv-herbederuhr.de
END:VEVENT
BEGIN:VEVENT
DTSTART;TZID=America/Los_Angeles:20250427T090000
DTEND;TZID=America/Los_Angeles:20250427T180000
DTSTAMP:20260420T010957
CREATED:20250214T151610Z
LAST-MODIFIED:20250328T050857Z
UID:907-1745744400-1745776800@hobby-horsing-germany.de
SUMMARY:Magni-Cup 2.0 in Braunschweig (Niedersachsen)
DESCRIPTION:Hobby Horsing Turnier in Braunschweig – Privat organisiert *verifiziert* \n\n\n\n \n\n\n\nÖffentliches Hobby Horsing- Turnier für Teilnehmer zwischen 10-16 Jahren.Veranstalter: Constanze Richter | E-Mail : schatzkaestchen_hobbyhorsing@web.deAnsprechpartner: Constanze Richter | Tel.: 0173/8201360Nennschluss:  30.03.2025 \n\n\n\nLeider keine freien Plätze mehr! \n\n\n\n \n\n\n\nWettbewerbe \n\n\n\nAlle Wettkämpfe sind in 2 Altersklassen unterteilt (10 bis 13 Jahre\, 14 bis 16 Jahre). Die Kinder der ersten Altersklasse können sich überlegen\, ob sie den Parcour mit einer Höhe von 40 cm oder 50 cm/60 cm springen möchten. Die Teilnahme ist jeweils nur bei einer der Höhen möglich und sollte den eigenen Fähigkeiten entsprechen. \n\n\n\n\n1. Galopprennen\n\n\n\n2. Zeitspringen (40 cm / 60 cm)\n\n\n\n3. Knock Out (40 cm / 50 cm)\n\n\n\n4. Geschicklichkeitsparcour\n\n\n\n\nDa es sich um ein privates Turnier handelt\, müssen alle Teilnehmer aus versicherungsrechtlichen Gründen Mitglied in einem Turn-\, Reit- oder Sportverein sein. \n\n\n\n \n\n\n\nBitte wende dich bei Rückfragen direkt an den Veranstalter: Constanze Richter\, Tel.: 0173/8201360 \n\n\n\n \n\n\n\n>>Ausschreibung<< \n\n\n\nAUSGEBUCHT
URL:https://hobby-horsing-germany.de/event/magni-cup-2-0-braunschweig/
LOCATION:Magni-Cup – Constanze Richter\, Kurt-Schumacher-Str. 28\, Braunschweig\, Niedersachen\, 38102\, Germany
CATEGORIES:Deutschland,Niedersachsen,Öffentliches Hobby Horse Turnier
ORGANIZER;CN="Constanze Richter":MAILTO:schatzkaestchen_hobbyhorsing@web.de
END:VEVENT
BEGIN:VEVENT
DTSTART;TZID=America/Los_Angeles:20250427T123000
DTEND;TZID=America/Los_Angeles:20250427T180000
DTSTAMP:20260420T010957
CREATED:20250328T023728Z
LAST-MODIFIED:20250328T050928Z
UID:1662-1745757000-1745776800@hobby-horsing-germany.de
SUMMARY:Hobby Horsing Turnier beim c/o pop festival 2025 (Nordrhein-Westfalen)
DESCRIPTION:Hobby Horsing Wettbewerbe beim c/o pop festival 2025  \n\n\n\nÖffentliches Hobby Horsing- Turnier für Teilnehmer zwischen 7-14 Jahren.Veranstalter: Cologne on pop GmbH | E-Mail: ap-hobbyhorsing@gmx.deAnsprechpartner: Anita und Andreas Pawlacyk| Tel.: 0171/7019573Nennschluss: 15.04.2025 \n\n\n\nNennungen per E-Mail an: ap-hobbyhorsing@gmx.de \n\n\n\n\n\n\n\nWettbewerbe \n\n\n\n\nZeitspringen 40 cm \n\n\n\nZeitspringen 50 cm\n\n\n\n\nWichtig: Es darf nur eine Prüfung genannt werden! \n\n\n\n\n\n\n\n>>>Ausschreibung & Nennformular<<< \n\n\n\nAnmerkungen: \n\n\n\nDisziplinen: Zeitspringen 40cm für die Altersklassen 7- 10 Jahren & Zeitspringen 50cm für die Altersklassen 9 bis 14 Jahre + offenes Training für alle Altersklassen. Eine detaillierte Beschreibung und Bilder des Parcours sind in der Ausschreibung zu finden.Zusammen mit Anita und Andreas (AP Hobby Horsing All in One) bekommt das c/o pop Festival sein erstes Hobby Horsing Turnier\, neben den zwei Turnieren\, wird es auch Zeit für ein offenes Training geben. \n\n\n\n📅 Datum: Sonntag\, 27.04.2025\, Start 12:30📍 Ort: Köln Ehrenfeld\, tba🔥 Disziplinen: Zeitspringen 40cm & 50cm + offenes Training🏆 Siegerehrung: euch erwarten Turnierschleifen & tolle Gewinne von AEVOR
URL:https://hobby-horsing-germany.de/event/hobby-horsing-turnier-beim-c-o-pop-festival-2025/
LOCATION:Leo-Amman Park\, (bei Regen: Geschwister-Scholl-Realschule)\, Köln\, Nordrhein-Westfalen\, 50825\, Germany
CATEGORIES:Deutschland,Hobby Horse Veranstaltung,Nordrhein-Westfalen,Öffentliches Hobby Horse Turnier
END:VEVENT
BEGIN:VEVENT
DTSTART;TZID=America/Los_Angeles:20250430T180000
DTEND;TZID=America/Los_Angeles:20250430T190000
DTSTAMP:20260420T010957
CREATED:20250422T143413Z
LAST-MODIFIED:20250430T033542Z
UID:2030-1746036000-1746039600@hobby-horsing-germany.de
SUMMARY:Jugend-Meeting des Deutschen Hobby Horsing Verband e. V.  (Online)
DESCRIPTION:Gestalte die Zukunft des Hobby Horsing aktiv mit! \n\n\n\nGemeinsam sprechen wir über die Verbandsarbeit\, über die 2. Deutsche Meisterschaft im Hobby Horsing\, das offizielle Regelwerk und Co. Sei dabei und beteilige dich an der Zukunft des Hobby Horsing! \n\n\n\nFür alle Jugendlichen und jungen Erwachsende.Dozentin: Vanessa Warncke (GF Jugend) \n\n\n\nVeranstalter: Deutscher Hobby Horsing Verband e.V. | E-Mail : v.warncke@dthhv.deAnsprechpartner: Vanessa Warncke \n\n\n\n>>> ab 18 Uhr aktiv: Link zum Online Meeting \n\n\n\n\nOnline anmelden
URL:https://hobby-horsing-germany.de/event/1-jugend-meeting-des-deutschen-hobby-horsing-verband/
LOCATION:Online Meeting
CATEGORIES:Deutschland,Hobby Horse Veranstaltung,Hobby Horsing Event DtHHV
ATTACH;FMTTYPE=image/webp:https://hobby-horsing-germany.de/wp-content/uploads/2025/02/DtHHV_Logo_RGB_300dpi.webp
END:VEVENT
END:VCALENDAR