BEGIN:VCALENDAR
VERSION:2.0
PRODID:-//Hobby Horsing Germany - ECPv6.15.20//NONSGML v1.0//EN
CALSCALE:GREGORIAN
METHOD:PUBLISH
X-ORIGINAL-URL:https://hobby-horsing-germany.de
X-WR-CALDESC:Veranstaltungen für Hobby Horsing Germany
REFRESH-INTERVAL;VALUE=DURATION:PT1H
X-Robots-Tag:noindex
X-PUBLISHED-TTL:PT1H
BEGIN:VTIMEZONE
TZID:UTC
BEGIN:STANDARD
TZOFFSETFROM:+0000
TZOFFSETTO:+0000
TZNAME:UTC
DTSTART:20240101T000000
END:STANDARD
END:VTIMEZONE
BEGIN:VTIMEZONE
TZID:America/Los_Angeles
BEGIN:DAYLIGHT
TZOFFSETFROM:-0800
TZOFFSETTO:-0700
TZNAME:PDT
DTSTART:20240310T100000
END:DAYLIGHT
BEGIN:STANDARD
TZOFFSETFROM:-0700
TZOFFSETTO:-0800
TZNAME:PST
DTSTART:20241103T090000
END:STANDARD
BEGIN:DAYLIGHT
TZOFFSETFROM:-0800
TZOFFSETTO:-0700
TZNAME:PDT
DTSTART:20250309T100000
END:DAYLIGHT
BEGIN:STANDARD
TZOFFSETFROM:-0700
TZOFFSETTO:-0800
TZNAME:PST
DTSTART:20251102T090000
END:STANDARD
BEGIN:DAYLIGHT
TZOFFSETFROM:-0800
TZOFFSETTO:-0700
TZNAME:PDT
DTSTART:20260308T100000
END:DAYLIGHT
BEGIN:STANDARD
TZOFFSETFROM:-0700
TZOFFSETTO:-0800
TZNAME:PST
DTSTART:20261101T090000
END:STANDARD
END:VTIMEZONE
BEGIN:VEVENT
DTSTART;TZID=UTC:20250308T150000
DTEND;TZID=UTC:20250309T160000
DTSTAMP:20260420T024627
CREATED:20250214T141918Z
LAST-MODIFIED:20250214T141918Z
UID:676-1741446000-1741536000@hobby-horsing-germany.de
SUMMARY:Hobby Horsing-Dressurtraining bei der Equitana (Nordrhein-Westfalen)
DESCRIPTION:Buchvorstellung „Hobby Horsing Dressurtraining“ & Mitmach-Angebote bei der Equitana in Essen. \n\n\n\nErlebt ein spannendes Wochenende mit dem Kosmos Verlag & dem DtHHV auf der Equitana! Gemeinsam mit dem Kosmos-Verlag präsentieren wir das erste offizielle Fachbuch im Hobby Horsing – „Dressurtraining“. \n\n\n\n\n\n\n\nProgramm: \n\n\n\nSamstag\, 08.03.2025 15:00 – 15:30 Uhr \n\n\n\n\nHalle 6 Ring Nord Thema Hobby Horsing Dressur\n\n\n\n\ndanach 30 Minuten Meet & Greet am Kosmos Stand Halle 6 E23. \n\n\n\n\n\n\n\nSonntag\, 09.03.2025 12:00 – 12:30 Uhr \n\n\n\n\nHalle 1 Ring Thema Hobby Horsing Dressur\n\n\n\n\nSonntag\, 09.03.2025 15:00 – 15:30 Uhr \n\n\n\n\nHalle 6 Ring Nord Thema Hobby Horsing Dressur\n\n\n\n\ndanach 30 Minuten Meet & Greet am Kosmos Stand Halle 6 E23. \n\n\n\n\n\n\n\nFreut euch auf ein öffentliches Dressur-Training mit den Hobby Horsing-Experten Tina Gardt und Andreas Karasek sowie eine beeindruckende Quadrille der Hobby Horsing-Gruppe aus Solingen. \n\n\n\nTaucht ein in die Welt des Hobby Horsing und seid dabei\, wenn sich alles darum dreht! 🎠
URL:https://hobby-horsing-germany.de/event/hh-dressur-training-bei-der-equitana-nrw/
LOCATION:Equitana – Messegelände Essen\, Messeplatz 1\, Essen\, Nordrhein-Westfahlen\, 45131\, Germany
CATEGORIES:Deutschland,Hobby Horse Veranstaltung,Hobby Horsing Event DtHHV,Nordrhein-Westfalen
END:VEVENT
BEGIN:VEVENT
DTSTART;TZID=America/Los_Angeles:20250309T143000
DTEND;TZID=America/Los_Angeles:20250309T160000
DTSTAMP:20260420T024627
CREATED:20250312T164459Z
LAST-MODIFIED:20250312T164513Z
UID:1207-1741530600-1741536000@hobby-horsing-germany.de
SUMMARY:Hobby Horsing Schnuppernachmittag (Baden-Württemberg)
DESCRIPTION:Hobby Horsing Schnuppertag beim Reit- und Fahrverein Wernau e.V. \n\n\n\nÖffentliche Hobby Horsing- Veranstaltung für Teilnehmer ab 6 Jahren.Veranstalter: Reit- und Fahrverein Wernau e.V. | info@reitverein-wernau.deAnsprechpartner: Julia Beuck | 0174/3076218Nennschluss: 02.03.2025 \n\n\n\nAnmeldung per Telefon oder E-Mail an info@reitverein-wernau.de.
URL:https://hobby-horsing-germany.de/event/hobby-horsing-schnuppernachmittag-baden-wurttemberg/
LOCATION:Reit- und Fahrverein Wernau e.V.\, Kranzhaldenstraße 100\, Wernau\, Baden-Württemberg\, 73249\, Germany
CATEGORIES:Baden-Württemberg,Deutschland,Hobby Horse Veranstaltung
ORGANIZER;CN="Reit- und Fahrverein Wernau e.V.":MAILTO:info@reitverein-wernau.de
END:VEVENT
BEGIN:VEVENT
DTSTART;TZID=UTC:20250315T080000
DTEND;TZID=UTC:20250315T193000
DTSTAMP:20260420T024627
CREATED:20250214T140836Z
LAST-MODIFIED:20250214T140836Z
UID:671-1742025600-1742067000@hobby-horsing-germany.de
SUMMARY:Hobby Horsing Turnier des TSV Tarp (Schleswig-Holstein)
DESCRIPTION:Hobby Horsing Turnier des TSV Tarp e. V. \n\n\n\nÖffentliches Hobby Horsing- Turnier mit verschiedenen Wettbewerben für Teilnehmer ab 4 Jahren. \n\n\n\nVeranstalter: TSV Tarp e. V.Ansprechpartner: Carmen und Viviane Reschke | Tel.: 0175/5052542 | E-Mail: carmen-turnen@tsvtarp.deNennschluss: 22.02.2025 \n\n\n\nNennungen per E-Mail an: carmen-turnen@tsvtarp.de \n\n\n\n\n\n\n\nWettbewerbe \n\n\n\n\nSpringreiter Wettbewerb (30cm/4 Sprünge)- Von 4 Jahren bis 8 Jahren\n\n\n\nDressur – leicht – Von 6 Jahren bis 14 Jahren\n\n\n\nDressur – mittel – Ab 6 Jahren\n\n\n\nStilspringen – leicht (40cm/8 Sprünge) -Von 6 Jahren bis 14 Jahren\n\n\n\nStilspringen – mittel (60cm/10 Sprünge) – Ab 9 Jahren\n\n\n\nFehler/Zeit Springprüfung – leicht (40cm/8 Sprünge) – Von 6 Jahren bis 14 Jahren\n\n\n\nFehler/Zeit Springprüfung – mittel (60cm/10 Sprünge) – Ab 9 Jahren\n\n\n\nFehler/Zeit Springprüfung – schwer (80cm/12 Sprünge) – Ab 9 Jahren\n\n\n\nIdealzeit-Springen – mittel (50cm/7-10 Sprünge) – Ab 6 Jahren\n\n\n\n\n\n\n\n\nRückfragen sind direkt an den Veranstalter zu richten: Carmen und Viviane Reschke | Tel.: 0175/5052542 | E-Mail: carmen-turnen@tsvtarp.de \n\n\n\n\n\n\n\n>>Ausschreibung>>
URL:https://hobby-horsing-germany.de/event/3-hobby-horsing-turnier-des-tsv-tarp/
LOCATION:TSV Tarp e. V.\, Friedrich-Hebbel Straße 9/ Auf dem Campus 3a\, Tarp\, Schleswig-Holstein\, 24963\, Germany
CATEGORIES:Deutschland,Öffentliches Hobby Horse Turnier,Schleswig-Holstein
ORGANIZER;CN="TSV Tarp e.V.":MAILTO:hobbyhorsing@tsvtarp.de
END:VEVENT
BEGIN:VEVENT
DTSTART;TZID=America/Los_Angeles:20250315T100000
DTEND;TZID=America/Los_Angeles:20250316T163000
DTSTAMP:20260420T024627
CREATED:20250312T171646Z
LAST-MODIFIED:20250312T171700Z
UID:1220-1742032800-1742142600@hobby-horsing-germany.de
SUMMARY:Hobby Horse Grundlagen-/Turnierlehrgang (Baden-Württemberg)
DESCRIPTION:Hobby Horsing Grundlagen-/Turnierlehrgang von Simona Winter. \n\n\n\nÖffentlicher Hobby Horsing- Workshop für Teilnehmer ab 10 Jahren.Veranstalter: RSV Q/ Simona Winter | E-Mail: quellenhof@simonawinter.deAnsprechpartner: Simona Winter | 0177/2726921Anmeldeschluss: 14.03.2025 \n\n\n\nAnmeldungen per E-Mail an quellenhof@simonawinter.de & telefonisch.  \n\n\n\n\n\n\n\nLerninhalte: \n\n\n\n\nGrundlagen Lehrgang\n\n\n\nTurniertraining\n\n\n\n\n\n\n\n\nRückfragen sind bitte an den Veranstalter zu richten:Ansprechpartner: Simona Winter | E-Mail: quellenhof@simonawinter.de |
URL:https://hobby-horsing-germany.de/event/hobby-horse-grundlagen-turnierlehrgang-baden-wuerttemberg/
LOCATION:RSV Q/ Simona Winter\, Linzgaustraße 33\, Stockach\, Baden-Württemberg\, 78333\, Germany
CATEGORIES:Baden-Württemberg,Deutschland,Hobby Horse Veranstaltung,Workshops und Seminare
ORGANIZER;CN="Simona Winter":MAILTO:quellenhof@simonawinter.de
END:VEVENT
BEGIN:VEVENT
DTSTART;TZID=America/Los_Angeles:20250315T110000
DTEND;TZID=America/Los_Angeles:20250316T150000
DTSTAMP:20260420T024627
CREATED:20250312T163126Z
LAST-MODIFIED:20250312T163140Z
UID:1197-1742036400-1742137200@hobby-horsing-germany.de
SUMMARY:Hobby Horsing Workshop (Baden-Württemberg)
DESCRIPTION:Hobby Horsing Workshop beim FT1844 für Teilnehmer zwischen 9-16 Jahren. \n\n\n\nVeranstalter: Ft1844 | tanjakwiatkista@yahoo.comAnsprechpartner: Tanja Kwiatkista | Tel.: 015732006007Anmeldeschluss:  \n\n\n\nAnmeldung per Telefon & WhatsApp. \n\n\n\n\n\n\n\nLerninhalte: \n\n\n\nErarbeitung einer Kür (Solo oder in Kleingruppen).Stil Springen\, Synchron Springen\, Western\, Ausritt an der Dreisam. \n\n\n\nAnmerkungen: Das Angebot kann auf Wunsch variert werden. Abhängig vom Wetter können wir auch draußen trainieren\, an der Dreisam entlang oder im Wald ausreiten\, sowie auf der Wiese trainieren.
URL:https://hobby-horsing-germany.de/event/hobby-horsing-workshop-baden-wuerttemberg/
LOCATION:Ft1844\, Schwarzwaldstrasse 181\, Freiburg\, Baden-Württemberg\, 79117\, Germany
CATEGORIES:Baden-Württemberg,Deutschland,Hobby Horse Veranstaltung,Workshops und Seminare
ORGANIZER;CN="Tanja Kwiatkista":MAILTO:tanjakwiatkista@yahoo.com
END:VEVENT
BEGIN:VEVENT
DTSTART;TZID=America/Los_Angeles:20250316T090000
DTEND;TZID=America/Los_Angeles:20250316T160000
DTSTAMP:20260420T024627
CREATED:20250214T140647Z
LAST-MODIFIED:20250305T020925Z
UID:876-1742115600-1742140800@hobby-horsing-germany.de
SUMMARY:ABGESAGT - 1. Hobby Horsing Distanz Striegistal
DESCRIPTION:ABGESAGT \n\n\n\nDas öffentliches Hobby Horsing- Turnier wurde leider abgesagt.  \n\n\n\nVeranstalter: Mut zur Strecke gemeinnützige GmbH | E-Mail: franzi.finkel@arcor.deAnsprechpartner: Franziska Finkel | Tel.: 0172/6437268 \n\n\n\nWettbewerbe \n\n\n\n\nEFL Level 1\n\n\n\n2\,3 km mit 40 Höhenmeter\n\n\n\nEFL Level 2\n\n\n\n3\,5 km mit 80 Höhenmeter\n\n\n\n\n \n\n\n\nRückfragen bitte direkt an den Veranstalter richten:Ansprechpartner: Franziska Finkel | Tel.: 0172/6437268 | E-Mail: franzi.finkel@arcor.de
URL:https://hobby-horsing-germany.de/event/hobby-horsing-distanz-striegistal/
LOCATION:Mut zur Strecke gemeinnützige GmbH\, Reitplatz\, Striegistal OT Pappendorf\, Sachsen\, 09661\, Germany
CATEGORIES:Deutschland,Öffentliches Hobby Horse Turnier,Sachsen
ORGANIZER;CN="Mut zur Strecke gemeinn%C3%BCtzige GmbH":MAILTO:franzi.finkel@arcor.de
END:VEVENT
BEGIN:VEVENT
DTSTART;TZID=UTC:20250316T093000
DTEND;TZID=UTC:20250316T170000
DTSTAMP:20260420T024627
CREATED:20250214T140134Z
LAST-MODIFIED:20250214T140134Z
UID:664-1742117400-1742144400@hobby-horsing-germany.de
SUMMARY:Speller Hobby Horsing Spring-Cup (Niedersachsen)
DESCRIPTION:Hobby Horsing Turnier des Reit- und Fahrverein Spelle und Umgegend e.V. \n\n\n\nÖffentliches Hobby Horsing- Turnier mit verschiedenen Wettbewerben für Teilnehmer ab 5 Jahren. \n\n\n\nVeranstalter: Reit- und Fahrverein Spelle und Umgegend e.V.. | E-Mail: hobbyhorsing.spelle@gmx.deAnsprechpartner: Lena Kunze | Tel.: 0591/61067616Nennschluss: 16.02.2025 \n\n\n\nNennungen mit dem Nennformular bitte ausschließlich per E-Mail an: hobbyhorsing.spelle@gmx.deVorzugsweise als PDF-Datei. \n\n\n\n\n\n\n\nWettbewerbe \n\n\n\n\nJugendreiter\, mit 3 Sprüngen – 2020-2015\n\n\n\nKostüm-Stafettenlauf – 2020 und älter\n\n\n\nZeitspringen 30-60cm\n\n\n\nMannschaftsspringen\n\n\n\nGeschicklichkeitsparcours mini bis mittel\n\n\n\nMächtigkeitsspringen – 2016 und älter\n\n\n\n\n\n\n\n\nRückfragen sind direkt an den Veranstalter zu richten: Ansprechpartner: Lena Kunze | E-Mail: hobbyhorsing.spelle@gmx.de \n\n\n\n\n\n\n\n>>Ausschreibung<<
URL:https://hobby-horsing-germany.de/event/2-speller-hobby-horsing-spring-cup/
LOCATION:Reit- und Fahrverein Spelle und Umgegend e.V.\, In den Gärten\, Spelle\, Niedersachsen\, 48480\, Germany
CATEGORIES:Deutschland,Niedersachsen,Öffentliches Hobby Horse Turnier
ORGANIZER;CN="Reit- und Fahrverein Spelle und Umgegend e.V.":MAILTO:https://www.rufspelle.de
END:VEVENT
BEGIN:VEVENT
DTSTART;TZID=UTC:20250323T090000
DTEND;TZID=UTC:20250323T170000
DTSTAMP:20260420T024627
CREATED:20250214T135342Z
LAST-MODIFIED:20250214T135343Z
UID:658-1742720400-1742749200@hobby-horsing-germany.de
SUMMARY:Magni-Cup in Braunschweig (Niedersachsen)
DESCRIPTION:Hobby Horsing Turnier in Braunschweig – Privat organisiert *verifiziert* \n\n\n\nÖffentliches Hobby Horsing- Turnier für Teilnehmer zwischen 6-16 Jahren mit 4 Wettbewerben Veranstalter: Constanze Richter | E-Mail : schatzkaestchen_hobbyhorsing@web.deAnsprechpartner: Constanze Richter | Tel.: 0173/8201360 Nennschluss:  23.02.2025 \n\n\n\nAusgebucht – Es sind leider keine Nennungen mehr möglich. \n\n\n\n\n\n\n\nWettbewerbe \n\n\n\nAlle Wettkämpfe sind in 3 Altersklassen unterteilt (6 bis 9 Jahre\, 10 bis 13 Jahre\, 14 bis 16 Jahre) \n\n\n\n\nNr. 1 | Galopprennen\n\n\n\nNr. 2 | Zeitspringen (Höhe 40 cm / 60 cm)\n\n\n\nNr. 3 | Knock Out (Höhe 40 cm / 50 cm)\n\n\n\nNr. 4 | Geschicklichkeitsparcour\n\n\n\n\n\n\n\n\nDa es sich um ein privates Turnier handelt\, müssen alle Teilnehmer aus versicherungsrechtlichen Gründen Mitglied in einem Turn-\, Reit- oder Sportverein sein. \n\n\n\nBitte wende dich bei Rückfragen direkt an den Veranstalter: Constanze Richter\, Tel.: 0173/8201360 \n\n\n\n\n\n\n\n>>Ausschreibung<<
URL:https://hobby-horsing-germany.de/event/magni-cup-in-braunschweig-niedersachsen/
LOCATION:Magni-Cup – Constanze Richter\, Kurt-Schumacher-Str. 28\, Braunschweig\, Niedersachen\, 38102\, Germany
CATEGORIES:Deutschland,Niedersachsen,Öffentliches Hobby Horse Turnier
ORGANIZER;CN="Constanze Richter":MAILTO:schatzkaestchen_hobbyhorsing@web.de
END:VEVENT
BEGIN:VEVENT
DTSTART;TZID=UTC:20250329T090000
DTEND;TZID=UTC:20250329T183000
DTSTAMP:20260420T024627
CREATED:20250214T134758Z
LAST-MODIFIED:20250328T045753Z
UID:651-1743238800-1743273000@hobby-horsing-germany.de
SUMMARY:3.Hobby Horse Turnier Neuenkirchen (Niedersachsen)
DESCRIPTION:Hobby Horsing Turnier beim Tus Neuenkirchen-Vörden \n\n\n\nÖffentliches Hobby Horsing- Turnier für Teilnehmer zwischen ab 4 Jahren mit verschiedenen Wettbewerben.Veranstalter: Tus Neuenkirchen-Vörden | E-Mail: hobbyhorses-er@osnanet.deAnsprechpartner: Kerstin Dirla | Tel.: 0173/7801659Nennschluss: 28.02.2025 \n\n\n\nNennungen per E-Mail an: hobbyhorses-er@osnanet.de \n\n\n\n\n\n\n\nWettbewerbe \n\n\n\n\nZeitspringen 20-60 cm | Einteilung nach Alter\n\n\n\nStilspringen 40 und 60cm | Einteilung nach Alter\n\n\n\nDressur (Details in der Ausschreibung)\n\n\n\nPaardressur Kür\n\n\n\n\n\n\n\n\n>>Ausschreibung<< \n\n\n\n\n\n\n\nBitte wende dich für Rückfragen an den Veranstalter: Kerstin Dirla | Tel.: 0173/7801659
URL:https://hobby-horsing-germany.de/event/3-hobby-horse-turnier-neuenkirchen-niedersachsen/
LOCATION:TuS Neuenkirchen 1921 e.V.\, Holdorfer Str. 7\, Neuenkirchen-Vörden\, Niedersachsen\, 49434\, Germany
CATEGORIES:Deutschland,Niedersachsen,Öffentliches Hobby Horse Turnier
ORGANIZER;CN="TuS Neuenkirchen 1921 e.V.":MAILTO:hobbyhorses-er@osnanet.de
END:VEVENT
BEGIN:VEVENT
DTSTART;TZID=UTC:20250329T100000
DTEND;TZID=UTC:20250329T170000
DTSTAMP:20260420T024627
CREATED:20250214T134206Z
LAST-MODIFIED:20250328T045917Z
UID:644-1743242400-1743267600@hobby-horsing-germany.de
SUMMARY:Dressur Kür Lehrgang – Choreographie und Musik (Schleswig-Holstein)
DESCRIPTION:Dressur Kür Lehrgang – Choreographie und Musik | Kooperationsgemeinschaft zw. DtHHV und TSV RW Niebüll Lehrgangsleitung: Sabine Wulf | Geschäftsführung Sport im DtHHV e.V. & Hobby Horsing Trainerin im PSV Niebüll und TSV RW Niebüll \n\n\n\nÖffentlicher Hobby Horsing- Workshop zum Thema Dressur Kür – Choreographie und Musik \n\n\n\nVeranstalter: Deutscher Hobby Horsing Verband e. V. mit dem TSV RW NiebüllDozentin: Sabine Wulf | s.wulf@dthhv.de Anmeldeschluss: 15.03.2025 \n\n\n\nAnmeldungen per Anmeldeformular an: s.wulf@dthhv.de  \n\n\n\nLehrgansbeschreibung:  \n\n\n\nDieser Lehrgang richtet sich an alle\, die die Gestaltung einer Dressur-Kür erlernen möchten. Gemeinsam erarbeiten wir die Grundlagen und Feinheiten einer erfolgreichen Kür\, von der Choreographie bis zur Auswahl der passenden Musik. \n\n\n\n\n\n\n\nFür Rückfragen stehen dir Sabine Wulf per E-Mail an s.wulf@dthhv.de oder unser Sekretariat unter 07663/914 85 70 von Montag bis Samstag zwischen 8-20 Uhr gerne zur Verfügung. \n\n\n\n\n\n\n\n>>Ausschreibung & Anmeldeformular<<
URL:https://hobby-horsing-germany.de/event/dressur-kuer-lehrgang/
LOCATION:TSV RW Niebüll\, Jahnstraße 15\, Niebüll\, Schleswig-Holstein\, 25899\, Germany
CATEGORIES:Deutschland,Hobby Horse Veranstaltung,Hobby Horsing Event DtHHV,Schleswig-Holstein,Workshops und Seminare
END:VEVENT
END:VCALENDAR