BEGIN:VCALENDAR
VERSION:2.0
PRODID:-//Hobby Horsing Germany - ECPv6.15.20//NONSGML v1.0//EN
CALSCALE:GREGORIAN
METHOD:PUBLISH
X-WR-CALNAME:Hobby Horsing Germany
X-ORIGINAL-URL:https://hobby-horsing-germany.de
X-WR-CALDESC:Veranstaltungen für Hobby Horsing Germany
REFRESH-INTERVAL;VALUE=DURATION:PT1H
X-Robots-Tag:noindex
X-PUBLISHED-TTL:PT1H
BEGIN:VTIMEZONE
TZID:UTC
BEGIN:STANDARD
TZOFFSETFROM:+0000
TZOFFSETTO:+0000
TZNAME:UTC
DTSTART:20240101T000000
END:STANDARD
END:VTIMEZONE
BEGIN:VEVENT
DTSTART;TZID=UTC:20250215T103000
DTEND;TZID=UTC:20250215T180000
DTSTAMP:20260420T042913
CREATED:20250214T144255Z
LAST-MODIFIED:20250214T144255Z
UID:700-1739615400-1739642400@hobby-horsing-germany.de
SUMMARY:Lightning Cup 2025 (Bayern)
DESCRIPTION:Hobby Horsing Turnier beim Sportverein Wielenbach \n\n\n\nÖffentliches Hobby Horsing- Turnier für Teilnehmer ab 4 Jahren mit 7 WettbewerbenVeranstalter: Sportverein Wielenbach | E-Mail: hobbyhorsing@sv-wielenbach.deAnsprechpartner: Susann Grahl | Tel.: 0173/3714311Nennschluss: 18.01.2025 \n\n\n\nNennungen per E-Mail an: hobbyhorsing@sv-wielenbach.de \n\n\n\n\n\n\n\nWettbewerbe \n\n\n\n\nCaprilli-Test | max. Höhe 30 cm | ab 4 Jahren\n\n\n\nDressur mittel | ab 9 Jahren\n\n\n\nDressur-Kür schwer | ab 12 Jahren\n\n\n\nZeitspringen leicht | max. Höhe 35 cm | ab 4 Jahren\n\n\n\nZeitspringen mittel | max. Höhe 65 cm | ab 9 Jahren\n\n\n\nZeitspringen schwer | max. Höhe 85 cm | ab 12 Jahren\n\n\n\nStilspringen leicht | max. Höhe 35 cm | ab 6 Jahren\n\n\n\nStilspringen mittel | max. Höhe 65 cm | ab 9 Jahren\n\n\n\nHobby Horsing Hochsprung | ab 80 cm | ab 9 Jahren\n\n\n\nSynchronspringen mittel | ab 65 cm | ab 9 Jahren\n\n\n\n\n\n\n\n\nBitte wende dich für Rückfragen an den Veranstalter: Susann Grahl| Tel.: 0173/3714311 \n\n\n\n\n\n\n\n>>Ausschreibung<<
URL:https://hobby-horsing-germany.de/event/lightning-cup-2025-bayern/
LOCATION:Lightning-Cup 2025 – SV Wielenbach\, Jahnhalle\, Jahnstraße 2\, Weilheim\, Bayern\, 82362\, Germany
CATEGORIES:Bayern,Deutschland,Öffentliches Hobby Horse Turnier
ORGANIZER;CN="SV Wielenbach":MAILTO:hobbyhorsing@sv-wielenbach.de
END:VEVENT
BEGIN:VEVENT
DTSTART;TZID=UTC:20250216T080000
DTEND;TZID=UTC:20250216T180000
DTSTAMP:20260420T042913
CREATED:20250214T120307Z
LAST-MODIFIED:20250214T120307Z
UID:546-1739692800-1739728800@hobby-horsing-germany.de
SUMMARY:Hammer Hobby Horsing Cup 2025 (Nordrhein-Westfahlen)
DESCRIPTION:Hobby Horsing Turnier des TuS 46/68 Uentrop e.V. in Hamm | \n\n\n\nÖffentliches Hobby Horsing- Turnier mit 5 Wettbewerben für Teilnehmer ab 5 Jahren. \n\n\n\n\n\n\n\nVeranstalter: TuS 46/68 Uentrop e.V. | E-Mail: hobbyhorsing@tus-uentrop.deAnsprechpartner: Sandra Wieting | Tel.: 0179/6688236Nennschluss: 31.01.2025 \n\n\n\n\n\n\n\nNennungen per E-Mail an hobbyhorsing@tus-uentrop.de \n\n\n\nWettbewerbe \n\n\n\n\nDressur\n\n\n\nZeitspringen\n\n\n\nStilspringen\n\n\n\nMächtigkeitsspringen\n\n\n\nMannschaftsspringen\n\n\n\n\n\n\n\n\nRückfragen sind direkt an den Veranstalter zu richten: Ansprechpartner: Sandra Wieting | Tel.: 0179/6688236\, E-Mail: hobbyhorsing@tus-uentrop.de \n\n\n\n\n\n\n\n-> Ausschreibung herunterladen
URL:https://hobby-horsing-germany.de/event/1-hammer-hobby-horsing-cup-2025/
LOCATION:TuS 46/68 Uentrop e.V.\, Im Giesendahl 15\, Hamm\, Nordrhein-Westfalen\, 59071\, Germany
CATEGORIES:Deutschland,Nordrhein-Westfalen,Öffentliches Hobby Horse Turnier
ORGANIZER;CN="TuS 46/68 Uentrop e.V.":MAILTO:hobbyhorsing@tus-uentrop.de
END:VEVENT
BEGIN:VEVENT
DTSTART;TZID=UTC:20250222T090000
DTEND;TZID=UTC:20250222T170000
DTSTAMP:20260420T042913
CREATED:20250214T143327Z
LAST-MODIFIED:20250214T143327Z
UID:689-1740214800-1740243600@hobby-horsing-germany.de
SUMMARY:Holzpferd-Voltigier-Wettbewerb mit Hobby Horsing Prüfungen (Brandenburg)
DESCRIPTION:Hobby Horsing Turnier des Hohenwalder Pferd & Reiter e.V. \n\n\n\nÖffentliches Hobby Horsing- Turnier mit verschiedenen WettbewerbenVeranstalter: Hohenwalder Pferd & Reiter e.V. | E-Mail: hohenwalderpferdreiterev@gmail.comAnsprechpartner: Tel.: 0160/1567558Nennschluss: 10.02.2025 \n\n\n\nNennung per E-Mail an: hohenwalderpferdreiterev@gmail.com \n\n\n\n\n\n\n\nWettbewerbe \n\n\n\n\nDressur – auswendig oder vorgelesen(Für das Vorlesen der Dressuraufgabe ist jeder Starter selbst verantwortlich)\n\n\n\nZeitspringen nach Altersklassen – mind. 40cm\n\n\n\n\nBewertung: analog WBO\, ausschließlich Wertnoten\, Rangierung erfolgt nach Altersklassen. \n\n\n\nInfos zur WBO findest du im Hobby Horsing Magazin \n\n\n\n\n\n\n\n➢ Abteilung 1: 2020 – 2021➢ Abteilung 2: 2019 – 2017➢ Abteilung 3: 2016 – 2014➢ Abteilung 4: 2013 und älter \n\n\n\nAusrüstung: Funktionale Sportkleidung sowie festes Schuhwerk\, Gymnastikschuhe sind zugelassen.Steckenpferd mit oder ohne Trensenzaum. \n\n\n\n\n\n\n\n>>Ausschreibung<<
URL:https://hobby-horsing-germany.de/event/hobby-horsing-turnier-brandenburg/
LOCATION:Sporthalle OSZ Alt\, Beeskower Str. 15a\, Frankfurt (Oder)\, Brandenburg\, 15232\, Germany
CATEGORIES:Brandenburg,Deutschland,Öffentliches Hobby Horse Turnier
ORGANIZER;CN="Hohenwalder Pferd & Reiter e.V":MAILTO:hohenwalderpferdreiterev@gmail.com
END:VEVENT
END:VCALENDAR