BEGIN:VCALENDAR
VERSION:2.0
PRODID:-//Hobby Horsing Germany - ECPv6.15.20//NONSGML v1.0//EN
CALSCALE:GREGORIAN
METHOD:PUBLISH
X-ORIGINAL-URL:https://hobby-horsing-germany.de
X-WR-CALDESC:Veranstaltungen für Hobby Horsing Germany
REFRESH-INTERVAL;VALUE=DURATION:PT1H
X-Robots-Tag:noindex
X-PUBLISHED-TTL:PT1H
BEGIN:VTIMEZONE
TZID:Europe/Berlin
BEGIN:DAYLIGHT
TZOFFSETFROM:+0100
TZOFFSETTO:+0200
TZNAME:CEST
DTSTART:20250330T010000
END:DAYLIGHT
BEGIN:STANDARD
TZOFFSETFROM:+0200
TZOFFSETTO:+0100
TZNAME:CET
DTSTART:20251026T010000
END:STANDARD
BEGIN:DAYLIGHT
TZOFFSETFROM:+0100
TZOFFSETTO:+0200
TZNAME:CEST
DTSTART:20260329T010000
END:DAYLIGHT
BEGIN:STANDARD
TZOFFSETFROM:+0200
TZOFFSETTO:+0100
TZNAME:CET
DTSTART:20261025T010000
END:STANDARD
BEGIN:DAYLIGHT
TZOFFSETFROM:+0100
TZOFFSETTO:+0200
TZNAME:CEST
DTSTART:20270328T010000
END:DAYLIGHT
BEGIN:STANDARD
TZOFFSETFROM:+0200
TZOFFSETTO:+0100
TZNAME:CET
DTSTART:20271031T010000
END:STANDARD
END:VTIMEZONE
BEGIN:VEVENT
DTSTART;TZID=Europe/Berlin:20261002T100000
DTEND;TZID=Europe/Berlin:20261004T170000
DTSTAMP:20260420T111220
CREATED:20260114T131219Z
LAST-MODIFIED:20260114T131222Z
UID:6897-1790935200-1791133200@hobby-horsing-germany.de
SUMMARY:ERZ Horse Messe Cup Leipzig 2026 (SN)
DESCRIPTION:Öffentliches Hobby Horsing Turnier des Reit- & Fahrverein Eibenstock 1930 e.V. \n\n\n\nVeranstalter:  Reit- & Fahrverein Eibenstock 1930 e.V. | E-Mail: rfv-eibenstock1930@freenet.deAnsprechpartner: Sven Kunath | 0172/4095752Nennschluss: 5. September 2026 \n\n\n\nNennung per E-Mail oder Nennformular von unserer Webseite \n\n\n\nWebseite: https://rfv-eibenstock1930.wixsite.com/eibenstockInstagram: https://www.instagram.com/reitverein.eibenstock/ \n\n\n\nTerminankündigung:Die Ausschreibung folgt zu einem späteren Zeitpunkt. Gerne informieren wir dich\, sobald sie veröffentlicht wurde. \n\n\n\n\nFür den kostenlosen Benachrichtigungsservice eintragen \n\n\n\n\n\n\n\n\nWettbewerbe: \n\n\n\n\nZeitspringen\n\n\n\nStilspringen\n\n\n\nGeschicklichkeit\n\n\n\nDressur-Aufgabe\n\n\n\nDressur-Kür\n\n\n\nWestern\n\n\n\nHamsterspringen
URL:https://hobby-horsing-germany.de/event/erz-horse-messe-cup-leipzig-2026/
LOCATION:Hobby Horse Turnier – Hobby Messe Leipzig\, Messe-Allee 1\, Leipzig\, Sachsen\, 04356\, Germany
CATEGORIES:Events & Turniere,Hobby Horse Veranstaltung,Öffentliches Hobby Horse Turnier,Sachsen
ORGANIZER;CN="Reit- und Fahrverein Eibenstock 1930 e. V.":MAILTO:rfv-eibenstock1930@freenet.de
END:VEVENT
END:VCALENDAR