BEGIN:VCALENDAR
VERSION:2.0
PRODID:-//Hobby Horsing Germany - ECPv6.15.20//NONSGML v1.0//EN
CALSCALE:GREGORIAN
METHOD:PUBLISH
X-ORIGINAL-URL:https://hobby-horsing-germany.de
X-WR-CALDESC:Veranstaltungen für Hobby Horsing Germany
REFRESH-INTERVAL;VALUE=DURATION:PT1H
X-Robots-Tag:noindex
X-PUBLISHED-TTL:PT1H
BEGIN:VTIMEZONE
TZID:Europe/Berlin
BEGIN:DAYLIGHT
TZOFFSETFROM:+0100
TZOFFSETTO:+0200
TZNAME:CEST
DTSTART:20250330T010000
END:DAYLIGHT
BEGIN:STANDARD
TZOFFSETFROM:+0200
TZOFFSETTO:+0100
TZNAME:CET
DTSTART:20251026T010000
END:STANDARD
BEGIN:DAYLIGHT
TZOFFSETFROM:+0100
TZOFFSETTO:+0200
TZNAME:CEST
DTSTART:20260329T010000
END:DAYLIGHT
BEGIN:STANDARD
TZOFFSETFROM:+0200
TZOFFSETTO:+0100
TZNAME:CET
DTSTART:20261025T010000
END:STANDARD
BEGIN:DAYLIGHT
TZOFFSETFROM:+0100
TZOFFSETTO:+0200
TZNAME:CEST
DTSTART:20270328T010000
END:DAYLIGHT
BEGIN:STANDARD
TZOFFSETFROM:+0200
TZOFFSETTO:+0100
TZNAME:CET
DTSTART:20271031T010000
END:STANDARD
END:VTIMEZONE
BEGIN:VEVENT
DTSTART;TZID=Europe/Berlin:20260523T090000
DTEND;TZID=Europe/Berlin:20260524T180000
DTSTAMP:20260420T035245
CREATED:20260118T204251Z
LAST-MODIFIED:20260324T091541Z
UID:7003-1779526800-1779645600@hobby-horsing-germany.de
SUMMARY:Pfingstturnier TSV Zornheim (RLP)
DESCRIPTION:Öffentliches Hobby Horsing Turnier des ZSV Zornheim –  Tina Gardt – (ehemals SC Mommenheim)  \n\n\n\nVeranstalter: TSV Zornheim 1895 e. V. | E-Mail: hobbyhorsing@tsv-zornheim.de Ansprechpartner: Tina Gardt | 0170/350 98 75Instagram: instagram.com/hobby_horsing_rlp/Nennschluss: 17.04.2026 \n\n\n\n\nAusschreibung\n\n\n\n\n\n\n\n\nVom 23.–24. Mai 2026 findet wieder das beliebte Pfingstturnier von Tina Gardt statt.In diesem Jahr erstmals beim TSV Zornheim in 55270 Zornheim – früher wurde das Turnier vom SC Mommenheim in Nierstein ausgetragen. \n\n\n\n\n\n\n\n\n\n\n\nWettbewerbe: \n\n\n\n23 Wettbewerbe für alle Altersklassen.  \n\n\n\n\nDressur – leicht\, mittel & schwer\n\n\n\nStilspringen – leicht\, mittel & schwer\n\n\n\nZeitspringen – leicht\, mittel & schwer\n\n\n\nIdealzeitspringen\n\n\n\nStafettenspringen\n\n\n\nAllrounder\n\n\n\nPas de Deux
URL:https://hobby-horsing-germany.de/event/pfingstturnier-in-zornheim/
LOCATION:Auf dem Sportplatz oder in der Hans-Steib-Halle\, Zum neuen Sportplatz 4\, Zornheim\, Rheinland-Pfalz\, 55270\, Germany
CATEGORIES:Events & Turniere,Hobby Horse Veranstaltung,Öffentliches Hobby Horse Turnier,Rheinland-Pfalz
ATTACH;FMTTYPE=image/png:https://hobby-horsing-germany.de/wp-content/uploads/2026/01/Logo-TSV-Zornheim.png
END:VEVENT
END:VCALENDAR