BEGIN:VCALENDAR
VERSION:2.0
PRODID:-//Hobby Horsing Germany - ECPv6.15.20//NONSGML v1.0//EN
CALSCALE:GREGORIAN
METHOD:PUBLISH
X-ORIGINAL-URL:https://hobby-horsing-germany.de
X-WR-CALDESC:Veranstaltungen für Hobby Horsing Germany
REFRESH-INTERVAL;VALUE=DURATION:PT1H
X-Robots-Tag:noindex
X-PUBLISHED-TTL:PT1H
BEGIN:VTIMEZONE
TZID:Europe/Berlin
BEGIN:DAYLIGHT
TZOFFSETFROM:+0100
TZOFFSETTO:+0200
TZNAME:CEST
DTSTART:20250330T010000
END:DAYLIGHT
BEGIN:STANDARD
TZOFFSETFROM:+0200
TZOFFSETTO:+0100
TZNAME:CET
DTSTART:20251026T010000
END:STANDARD
BEGIN:DAYLIGHT
TZOFFSETFROM:+0100
TZOFFSETTO:+0200
TZNAME:CEST
DTSTART:20260329T010000
END:DAYLIGHT
BEGIN:STANDARD
TZOFFSETFROM:+0200
TZOFFSETTO:+0100
TZNAME:CET
DTSTART:20261025T010000
END:STANDARD
BEGIN:DAYLIGHT
TZOFFSETFROM:+0100
TZOFFSETTO:+0200
TZNAME:CEST
DTSTART:20270328T010000
END:DAYLIGHT
BEGIN:STANDARD
TZOFFSETFROM:+0200
TZOFFSETTO:+0100
TZNAME:CET
DTSTART:20271031T010000
END:STANDARD
END:VTIMEZONE
BEGIN:VEVENT
DTSTART;TZID=Europe/Berlin:20260509T080000
DTEND;TZID=Europe/Berlin:20260509T210000
DTSTAMP:20260420T035354
CREATED:20260313T064731Z
LAST-MODIFIED:20260313T064734Z
UID:8180-1778313600-1778360400@hobby-horsing-germany.de
SUMMARY:Hobby Horsing Orientierungsritt (BY)
DESCRIPTION:Öffentliches Hobby Horsing Event des RC Mauritius Diepersdorf e.V.  in Leinburg \n\n\n\nVeranstalter:  RC Mauritius Diepersdorf e.V. | E-Mail: info@rc-mauritius.deAnsprechpartner: Leoni Hutzler | 0155/67043141Instagram: @rc_mauritius_diepersdorf_e.vWebseite: https://rc-mauritius.de/Nennschluss: 01. Mai 2026 \n\n\n\nNennung über das Online-Formular \n\n\n\n\nAnmelden\n\n\n\n\n\n\n\n\nEventbeschreibung: \n\n\n\nOrientierungsritt 2-3 km Strecke mit verschiedenen Aufgaben. \n\n\n\n\nFlyer herunterladen
URL:https://hobby-horsing-germany.de/event/hobby-horsing-orientierungsritt/
LOCATION:RC Mauritius Diepersdorf e.V.\, Kleeäcker\, Leinburg\, Bayern\, 91227
CATEGORIES:Bayern,Deutschland,Events & Turniere,Hobby Horse Veranstaltung
ATTACH;FMTTYPE=image/jpeg:https://hobby-horsing-germany.de/wp-content/uploads/2026/03/Flyer-Orientierungsritt_.jpg
END:VEVENT
BEGIN:VEVENT
DTSTART;TZID=Europe/Berlin:20260509T090000
DTEND;TZID=Europe/Berlin:20260509T173000
DTSTAMP:20260420T035354
CREATED:20260211T084125Z
LAST-MODIFIED:20260211T084127Z
UID:7895-1778317200-1778347800@hobby-horsing-germany.de
SUMMARY:Sindy-Cup Hobby Horsing Turnier- (BW)
DESCRIPTION:Öffentliches Hobby Horsing Turnier des GSV Maichingen. \n\n\n\nVeranstalter: GSV Maichingen | E-Mail: gsv-hobbyhorsing-sindycup@web.deAnsprechpartner: Andrea Abendroth | Tel.: 0172-7122857Nennschluss: 15. April 2026 \n\n\n\nNennung: per Nennformular per E-Mail an gsv-hobbyhorsing-sindycup@web.de \n\n\n\n\nAusschreibung\n\n\n\nNennformular\n\n\n\n\n\n\n\n\nWettbewerbe: \n\n\n\n\nZeitspringen (E+A)\n\n\n\nStilspringen (E+A+M)\n\n\n\nWorking Equitation\n\n\n\nDressur (L+S)\n\n\n\n\nWeitere Informationen: Es gibt eine WhatsApp Community inkl. Teilnehmer-Chat. Hier erfolgen alle wichtigen Informationen zum Turnier. Bitte WhatsApp an obige Nummer zur Aufnahme in die Community senden.
URL:https://hobby-horsing-germany.de/event/sindy-cup-hobby-horsing-turnier-bw/
LOCATION:Sporthalle Johannes-Widmann-Schule\, Zeppelinstraße 1\, Sindelfingen-Maichingen\, Baden-Württemberg\, 71069\, Germany
CATEGORIES:Baden-Württemberg,Events & Turniere,Hobby Horse Veranstaltung,Öffentliches Hobby Horse Turnier
ATTACH;FMTTYPE=image/png:https://hobby-horsing-germany.de/wp-content/uploads/2026/02/images.png
END:VEVENT
BEGIN:VEVENT
DTSTART;TZID=Europe/Berlin:20260509T093000
DTEND;TZID=Europe/Berlin:20260509T180000
DTSTAMP:20260420T035354
CREATED:20260325T111601Z
LAST-MODIFIED:20260325T111604Z
UID:8306-1778319000-1778349600@hobby-horsing-germany.de
SUMMARY:Dream Cup (BY)
DESCRIPTION:Öffentliches Hobby Horsing Turnier  \n\n\n\nVeranstalter:  Katharina Rambold | E-Mail: katharinarambold@gmail.comAnsprechpartner: Katharina Rambold | 0171 8297313Instagram: @kx.th1Nennschluss: 25. April 2026 \n\n\n\nNennung per WhatsApp mit Nennformular an 0171 8297313 \n\n\n\n\nNennformular\n\n\n\n\n\n\n\n\nWettbewerbe: \n\n\n\n\nA&S Dressur\n\n\n\nA&L Zeitspringen\n\n\n\nA\, M&S Stilspringen\n\n\n\nCross Country
URL:https://hobby-horsing-germany.de/event/dream-cup/
LOCATION:Katharina Rambold\, Ziegeleistraße 14\, München\, Bayern\, 81249\, Germany
CATEGORIES:Bayern,Events & Turniere,Hobby Horsing Event DtHHV,Öffentliches Hobby Horse Turnier
END:VEVENT
BEGIN:VEVENT
DTSTART;TZID=Europe/Berlin:20260509T100000
DTEND;TZID=Europe/Berlin:20260509T160000
DTSTAMP:20260420T035354
CREATED:20260403T162354Z
LAST-MODIFIED:20260403T162357Z
UID:8383-1778320800-1778342400@hobby-horsing-germany.de
SUMMARY:Hobby Horsing Turnier Durmersheim (BW)
DESCRIPTION:Öffentliches Hobby Horsing Turnier des Reit- und Fahrverein Durmersheim e.V. \n\n\n\nVeranstalter: Reit- und Fahrverein Durmersheim e.V.| E-Mail: s-degler@gmx.deAnsprechpartner: Sabrina Degler | Tel.: 0163/8770675Webseite: www.reitverein-durmersheim.deNennschluss: 22. April 2026 \n\n\n\nNennung per E-Mail an s-degler@gmx.de \n\n\n\n\nAusschreibung\n\n\n\nNennformular\n\n\n\n\n\n\n\n\nWettbewerbe: \n\n\n\n\nZeitspringen\n\n\n\nStilspringen\n\n\n\nMächtigkeitsspringen\n\n\n\nDressur leicht\, mittel\, schwer\n\n\n\nReiterwettbewerb\n\n\n\nPas de Deux
URL:https://hobby-horsing-germany.de/event/hobby-horsing-turnier-durmersheim-bw/
LOCATION:Reit- und Fahrverein Durmersheim e.V.\, Im hinteren Dahn 1\, Durmersheim\, Baden-Württemberg\, 76448\, Germany
CATEGORIES:Baden-Württemberg,Events & Turniere,Hobby Horse Veranstaltung,Öffentliches Hobby Horse Turnier
ATTACH;FMTTYPE=image/png:https://hobby-horsing-germany.de/wp-content/uploads/2026/04/images-2.png
END:VEVENT
END:VCALENDAR