BEGIN:VCALENDAR
VERSION:2.0
PRODID:-//Hobby Horsing Germany - ECPv6.15.20//NONSGML v1.0//EN
CALSCALE:GREGORIAN
METHOD:PUBLISH
X-ORIGINAL-URL:https://hobby-horsing-germany.de
X-WR-CALDESC:Veranstaltungen für Hobby Horsing Germany
REFRESH-INTERVAL;VALUE=DURATION:PT1H
X-Robots-Tag:noindex
X-PUBLISHED-TTL:PT1H
BEGIN:VTIMEZONE
TZID:Europe/Berlin
BEGIN:DAYLIGHT
TZOFFSETFROM:+0100
TZOFFSETTO:+0200
TZNAME:CEST
DTSTART:20250330T010000
END:DAYLIGHT
BEGIN:STANDARD
TZOFFSETFROM:+0200
TZOFFSETTO:+0100
TZNAME:CET
DTSTART:20251026T010000
END:STANDARD
BEGIN:DAYLIGHT
TZOFFSETFROM:+0100
TZOFFSETTO:+0200
TZNAME:CEST
DTSTART:20260329T010000
END:DAYLIGHT
BEGIN:STANDARD
TZOFFSETFROM:+0200
TZOFFSETTO:+0100
TZNAME:CET
DTSTART:20261025T010000
END:STANDARD
BEGIN:DAYLIGHT
TZOFFSETFROM:+0100
TZOFFSETTO:+0200
TZNAME:CEST
DTSTART:20270328T010000
END:DAYLIGHT
BEGIN:STANDARD
TZOFFSETFROM:+0200
TZOFFSETTO:+0100
TZNAME:CET
DTSTART:20271031T010000
END:STANDARD
END:VTIMEZONE
BEGIN:VEVENT
DTSTART;TZID=Europe/Berlin:20260501T130000
DTEND;TZID=Europe/Berlin:20260501T180000
DTSTAMP:20260420T020701
CREATED:20260403T155315Z
LAST-MODIFIED:20260403T155318Z
UID:8380-1777640400-1777658400@hobby-horsing-germany.de
SUMMARY:3. Hobby Horsing Turnier des RFV Neuenburg (BW)
DESCRIPTION:Öffentliches Hobby Horsing Turnier des RFV Neuenburg e. V. \n\n\n\nVeranstalter: RFV Neuenburg e. V. | E-Mail: hobbyhorsing.neuenburg@gmail.comAnsprechpartner: Rebecca Hainz | Tel.: 015202973513Webseite: https://reitverein-neuenburg.info/Nennschluss: 24. April 2026 \n\n\n\nNennung per E-Mail an hobbyhorsing.neuenburg@gmail.com \n\n\n\n\nAusschreibung & Nennformular\n\n\n\n\n\n\n\n\nWettbewerbe: \n\n\n\n\nZeitspringen 20-80 cm\, je nach Altersklasse\n\n\n\nDressur leicht\n\n\n\n\nDas Nennformular befindet sich am Ende der Ausschreibung.
URL:https://hobby-horsing-germany.de/event/3-hobby-horsing-turnier-neuenburg/
LOCATION:Reit- und Fahrsportverein Neuenburg\, Rheinhafenstr. 1\, Neuenburg am Rhein\, Baden-Württemberg\, 79395\, Germany
CATEGORIES:Baden-Württemberg,Events & Turniere,Hobby Horse Veranstaltung,Öffentliches Hobby Horse Turnier
ATTACH;FMTTYPE=image/jpeg:https://hobby-horsing-germany.de/wp-content/uploads/2025/03/NB2024-RT-00061.jpg
END:VEVENT
END:VCALENDAR