BEGIN:VCALENDAR
VERSION:2.0
PRODID:-//Hobby Horsing Germany - ECPv6.15.20//NONSGML v1.0//EN
CALSCALE:GREGORIAN
METHOD:PUBLISH
X-ORIGINAL-URL:https://hobby-horsing-germany.de
X-WR-CALDESC:Veranstaltungen für Hobby Horsing Germany
REFRESH-INTERVAL;VALUE=DURATION:PT1H
X-Robots-Tag:noindex
X-PUBLISHED-TTL:PT1H
BEGIN:VTIMEZONE
TZID:Europe/Berlin
BEGIN:DAYLIGHT
TZOFFSETFROM:+0100
TZOFFSETTO:+0200
TZNAME:CEST
DTSTART:20250330T010000
END:DAYLIGHT
BEGIN:STANDARD
TZOFFSETFROM:+0200
TZOFFSETTO:+0100
TZNAME:CET
DTSTART:20251026T010000
END:STANDARD
BEGIN:DAYLIGHT
TZOFFSETFROM:+0100
TZOFFSETTO:+0200
TZNAME:CEST
DTSTART:20260329T010000
END:DAYLIGHT
BEGIN:STANDARD
TZOFFSETFROM:+0200
TZOFFSETTO:+0100
TZNAME:CET
DTSTART:20261025T010000
END:STANDARD
BEGIN:DAYLIGHT
TZOFFSETFROM:+0100
TZOFFSETTO:+0200
TZNAME:CEST
DTSTART:20270328T010000
END:DAYLIGHT
BEGIN:STANDARD
TZOFFSETFROM:+0200
TZOFFSETTO:+0100
TZNAME:CET
DTSTART:20271031T010000
END:STANDARD
END:VTIMEZONE
BEGIN:VEVENT
DTSTART;TZID=Europe/Berlin:20260426T093000
DTEND;TZID=Europe/Berlin:20260426T170000
DTSTAMP:20260420T020646
CREATED:20260118T202019Z
LAST-MODIFIED:20260118T202414Z
UID:6998-1777195800-1777222800@hobby-horsing-germany.de
SUMMARY:Magni-Cup 6.0 (NI)
DESCRIPTION:Öffentliches Hobby Horsing Turnier von Constanze Richter \n\n\n\nVeranstalter:  Constanze Richter | E-Mail: schatzkaestchen_hobbyhorsing@web.deAnsprechpartner: Constanze Richter | 0173/8201360Instagram: kht_hh_skNennschluss: 05. April 2026 \n\n\n\nNennung mit dem Nennformular per E-Mail an schatzkaestchen_hobbyhorsing@web.de \n\n\n\n\nAusschreibung\n\n\n\nNennformular\n\n\n\n\n\n\n\n\nWettbewerbe: \n\n\n\n\nGlücksspringen\n\n\n\nPunktespringen\n\n\n\nIdealzeitspringen\n\n\n\nPole bending
URL:https://hobby-horsing-germany.de/event/magni-cup-6-0/
LOCATION:Ottmerhalle Braunschweig\, Kurt-Schumacher-Str. 28\, Braunschweig\, Niedersachsen\, 38102\, Germany
CATEGORIES:Events & Turniere,Hobby Horse Veranstaltung,Niedersachsen,Öffentliches Hobby Horse Turnier
ORGANIZER;CN="Constanze Richter":MAILTO:schatzkaestchen_hobbyhorsing@web.de
END:VEVENT
BEGIN:VEVENT
DTSTART;TZID=Europe/Berlin:20260426T120000
DTEND;TZID=Europe/Berlin:20260426T170000
DTSTAMP:20260420T020646
CREATED:20260227T215622Z
LAST-MODIFIED:20260227T220435Z
UID:8052-1777204800-1777222800@hobby-horsing-germany.de
SUMMARY:Hobby Horsing Tag der Happy Horse Riders im SV Söcking von 1943 e.V. (BY)
DESCRIPTION:Öffentliches Hobby Horsing Event beim SV Söcking von 1943 e.V. \n\n\n\nVeranstalter:  SV Söcking von 1943 e.V. | E-Mail: asdubina@t-online.deAnsprechpartner: Ariane KöhlerWebseite: https://sv-soecking.de/hobby-horsing/ \n\n\n\nInfos zum Hobby Horsing Tag: \n\n\n\nEs erwartet euch ein spannender und aufregender Tag\, bei dem die Hobby Horsing Gruppe des SV Söcking stündlich eingeübte Aufführungen vorstellen werden\, unter anderem Pas de Deux\, Springquadrille\, und vieles mehr.Zusätzlich gibt ein einen frei verfügbaren Aktions-Parcour und Probeunterricht bei den Trainerinnen der Gruppe (Ariana Köhler\, Cara Pohlus) außerhalb der Vorstellungen.Vor Ort gibt es auch Hobby Horse Verkaufsstände\, sowie ein Stand mit Snacks und Getränken für zwischendurch.Schaut doch einfach mal vorbei und für Rückfragen einfach an die obengenannte E-Mail schreiben.Wir freuen uns auf Euch!Eure Happy Horse Riders \n\n\n\n\nFlyer herunterladen
URL:https://hobby-horsing-germany.de/event/hobby-horse-tag-svsoecking/
LOCATION:Franz-Dietrich Halle\, Alersbergstraße 1\, Starnberg\, Bayern\, 82319\, Germany
CATEGORIES:Events & Turniere,Hobby Horse Veranstaltung,Workshops und Seminare
ATTACH;FMTTYPE=image/png:https://hobby-horsing-germany.de/wp-content/uploads/2026/02/Hobby-Horse-Tag-beim-SV-Soecking.png
ORGANIZER;CN="SV S%C3%B6cking von 1943 e.V.":MAILTO:asdubina@t-online.de
END:VEVENT
END:VCALENDAR