BEGIN:VCALENDAR
VERSION:2.0
PRODID:-//Hobby Horsing Germany - ECPv6.15.20//NONSGML v1.0//EN
CALSCALE:GREGORIAN
METHOD:PUBLISH
X-WR-CALNAME:Hobby Horsing Germany
X-ORIGINAL-URL:https://hobby-horsing-germany.de
X-WR-CALDESC:Veranstaltungen für Hobby Horsing Germany
REFRESH-INTERVAL;VALUE=DURATION:PT1H
X-Robots-Tag:noindex
X-PUBLISHED-TTL:PT1H
BEGIN:VTIMEZONE
TZID:Europe/Berlin
BEGIN:DAYLIGHT
TZOFFSETFROM:+0100
TZOFFSETTO:+0200
TZNAME:CEST
DTSTART:20250330T010000
END:DAYLIGHT
BEGIN:STANDARD
TZOFFSETFROM:+0200
TZOFFSETTO:+0100
TZNAME:CET
DTSTART:20251026T010000
END:STANDARD
BEGIN:DAYLIGHT
TZOFFSETFROM:+0100
TZOFFSETTO:+0200
TZNAME:CEST
DTSTART:20260329T010000
END:DAYLIGHT
BEGIN:STANDARD
TZOFFSETFROM:+0200
TZOFFSETTO:+0100
TZNAME:CET
DTSTART:20261025T010000
END:STANDARD
BEGIN:DAYLIGHT
TZOFFSETFROM:+0100
TZOFFSETTO:+0200
TZNAME:CEST
DTSTART:20270328T010000
END:DAYLIGHT
BEGIN:STANDARD
TZOFFSETFROM:+0200
TZOFFSETTO:+0100
TZNAME:CET
DTSTART:20271031T010000
END:STANDARD
END:VTIMEZONE
BEGIN:VEVENT
DTSTART;TZID=Europe/Berlin:20260425T140000
DTEND;TZID=Europe/Berlin:20260425T180000
DTSTAMP:20260420T020414
CREATED:20260324T214909Z
LAST-MODIFIED:20260417T130535Z
UID:8287-1777125600-1777140000@hobby-horsing-germany.de
SUMMARY:Hobby Horsing Workshops (HE)
DESCRIPTION:Hobby Horsing Workshops beim TV Beerfelden Odenwaldkreis Oberzent \n\n\n\nVeranstalter:  TV Beerfelden e. V. | E-Mail: tanjakwiatkista@yahoo.comAnsprechpartner: Tanja Kwiatkista | 0157 3200 600 7Instagram: tanjakwiatkista@yahoo.com \n\n\n\nNennung per E-Mail an tanjakwiatkista@yahoo.com \n\n\n\n\nFlyer\n\n\n\n\n\n\n\n\nWettbewerbe: \n\n\n\n\nStil springen\n\n\n\nPunkte springen\n\n\n\nIdeal Zeit springen\n\n\n\nDressur\n\n\n\n\nAnmerkungen:An diesem Wochenende könnt ihr das„ kleine Hufeisen“ Abzeichen bekommen! \n\n\n\nDazu gibt es ein gemeinsames\, vorbereitendes Training mit abschließender „Prüfung“. \n\n\n\nFür diese Auszeichnung müssen verschiedene Aufgaben – im Bereich Dressur und springen -korrekt ausgeführt werden.
URL:https://hobby-horsing-germany.de/event/hobby-horsing-workshops-he/
LOCATION:Turnhalle Oberzent\, Hirschhornerstraße 40\, Oberzent\, Hessen\, 64760\, Germany
CATEGORIES:Events & Turniere,Hessen,Hobby Horse Veranstaltung,Öffentliches Hobby Horse Turnier
END:VEVENT
END:VCALENDAR