BEGIN:VCALENDAR
VERSION:2.0
PRODID:-//Hobby Horsing Germany - ECPv6.15.20//NONSGML v1.0//EN
CALSCALE:GREGORIAN
METHOD:PUBLISH
X-ORIGINAL-URL:https://hobby-horsing-germany.de
X-WR-CALDESC:Veranstaltungen für Hobby Horsing Germany
REFRESH-INTERVAL;VALUE=DURATION:PT1H
X-Robots-Tag:noindex
X-PUBLISHED-TTL:PT1H
BEGIN:VTIMEZONE
TZID:Europe/Berlin
BEGIN:DAYLIGHT
TZOFFSETFROM:+0100
TZOFFSETTO:+0200
TZNAME:CEST
DTSTART:20240331T010000
END:DAYLIGHT
BEGIN:STANDARD
TZOFFSETFROM:+0200
TZOFFSETTO:+0100
TZNAME:CET
DTSTART:20241027T010000
END:STANDARD
BEGIN:DAYLIGHT
TZOFFSETFROM:+0100
TZOFFSETTO:+0200
TZNAME:CEST
DTSTART:20250330T010000
END:DAYLIGHT
BEGIN:STANDARD
TZOFFSETFROM:+0200
TZOFFSETTO:+0100
TZNAME:CET
DTSTART:20251026T010000
END:STANDARD
BEGIN:DAYLIGHT
TZOFFSETFROM:+0100
TZOFFSETTO:+0200
TZNAME:CEST
DTSTART:20260329T010000
END:DAYLIGHT
BEGIN:STANDARD
TZOFFSETFROM:+0200
TZOFFSETTO:+0100
TZNAME:CET
DTSTART:20261025T010000
END:STANDARD
END:VTIMEZONE
BEGIN:VEVENT
DTSTART;TZID=Europe/Berlin:20251213T080000
DTEND;TZID=Europe/Berlin:20251214T190000
DTSTAMP:20260419T195618
CREATED:20251121T195320Z
LAST-MODIFIED:20251121T195419Z
UID:5929-1765612800-1765738800@hobby-horsing-germany.de
SUMMARY:Das Hoopter Winter Spring Spektakel (NI)
DESCRIPTION:Öffentliches Hobby Horsing-Turnier für Teilnehmer aller Altersklassen. \n\n\n\nVeranstalter: MTV Hoopte Abteilung Hobby Horsing | E-Mail: anabell.harms@gmx.deAnsprechpartner: Anabell Harms | Tel.: 01734814700Nennschluss: 23. November 2025 \n\n\n\nNennungen per Nennformular an E-Mail an: anabell.harms@gmx.de \n\n\n\n \n\n\n\n\nAusschreibung & Nennformular\n\n\n\n\n\n\n\n\n\n\n\n\nWettbewerbe: \n\n\n\nSamstag \n\n\n\n\nClear Round\n\n\n\nCaprilli\n\n\n\nKostümspringen / Fehler/Zeit-Springen\n\n\n\nKostümspringen / Stilspringen\n\n\n\nIdialzeitspringen\n\n\n\nPunktespringen\n\n\n\nHoopter Derby\n\n\n\nFehler/Zeit-Springen\n\n\n\nBarrierespringen\n\n\n\nJump & Run\n\n\n\nSynchronspringen\n\n\n\nSpringquadrille\n\n\n\n\nSonntag \n\n\n\n\nClear Round\n\n\n\nKostümspringen / Fehler/Zeit-Springen\n\n\n\nKostümspringen / Stilspringen\n\n\n\nIdialzeitspringen\n\n\n\nPunktespringen\n\n\n\nKleine Hoopter Derby\n\n\n\nFehler/Zeit-Springen\n\n\n\nBarrierespringen\n\n\n\nJump & Run\n\n\n\nSynchronspringen\n\n\n\nSpringquadrille
URL:https://hobby-horsing-germany.de/event/hoopter-spektakel/
LOCATION:MTV Hoopte\, Turnhalle MTV Hoopte\, Hoopter Sportplatz 2\, Hoopte - Winsen/Luhe\, Niedersachsen\, 21423\, Germany
CATEGORIES:Events & Turniere,Hobby Horse Veranstaltung,Niedersachsen,Öffentliches Hobby Horse Turnier
END:VEVENT
BEGIN:VEVENT
DTSTART;TZID=Europe/Berlin:20251213T120000
DTEND;TZID=Europe/Berlin:20251213T180000
DTSTAMP:20260419T195618
CREATED:20251203T165837Z
LAST-MODIFIED:20251203T165840Z
UID:6278-1765627200-1765648800@hobby-horsing-germany.de
SUMMARY:Hobby Horse Adventstreffen mit Übungsturnier (HE)
DESCRIPTION:Öffentliches Hobby Horsing Turnier des TV Beerfelden Oberzent mit 5 Wettbewerben. \n\n\n\nVeranstalter:  TV Beerfelden Oberzent | E-Mail: tanjakwiatkista@yahoo.comAnsprechpartner: Tanja Kwiatkista | 0157/32006007Nennschluss: 12. Dezember 2025 \n\n\n\n \n\n\n\nWettbewerbe \n\n\n\n\nFreestyle Kür\n\n\n\nGlücks Springen\n\n\n\n45 sekunden springen\n\n\n\nPartner Zeit springen\n\n\n\nKutschen rennen\n\n\n\n\nWeitere Informationen: \n\n\n\nHobby Horsing Wochenende: Samstag 13 Dezember. An diesem Wochenende erstellen wir eine kreative „Kür“ (Choreografie). Alleine als Solo\, – oder auch in einer kleinen Gruppe. Natürlich trainieren wir auch auf dem Hinderniss Parcours und veranstalten ein kleines Übungsturnier.
URL:https://hobby-horsing-germany.de/event/hobby-horse-adventstreffen/
LOCATION:Alte Turnhalle Beerfelden\, Hirschhornerstrasse 40\, Beerfelden\, Hessen\, 64760\, Germany
CATEGORIES:Events & Turniere,Hessen,Hobby Horse Veranstaltung,Öffentliches Hobby Horse Turnier
END:VEVENT
END:VCALENDAR