BEGIN:VCALENDAR
VERSION:2.0
PRODID:-//Hobby Horsing Germany - ECPv6.15.20//NONSGML v1.0//EN
CALSCALE:GREGORIAN
METHOD:PUBLISH
X-ORIGINAL-URL:https://hobby-horsing-germany.de
X-WR-CALDESC:Veranstaltungen für Hobby Horsing Germany
REFRESH-INTERVAL;VALUE=DURATION:PT1H
X-Robots-Tag:noindex
X-PUBLISHED-TTL:PT1H
BEGIN:VTIMEZONE
TZID:Europe/Berlin
BEGIN:DAYLIGHT
TZOFFSETFROM:+0100
TZOFFSETTO:+0200
TZNAME:CEST
DTSTART:20240331T010000
END:DAYLIGHT
BEGIN:STANDARD
TZOFFSETFROM:+0200
TZOFFSETTO:+0100
TZNAME:CET
DTSTART:20241027T010000
END:STANDARD
BEGIN:DAYLIGHT
TZOFFSETFROM:+0100
TZOFFSETTO:+0200
TZNAME:CEST
DTSTART:20250330T010000
END:DAYLIGHT
BEGIN:STANDARD
TZOFFSETFROM:+0200
TZOFFSETTO:+0100
TZNAME:CET
DTSTART:20251026T010000
END:STANDARD
BEGIN:DAYLIGHT
TZOFFSETFROM:+0100
TZOFFSETTO:+0200
TZNAME:CEST
DTSTART:20260329T010000
END:DAYLIGHT
BEGIN:STANDARD
TZOFFSETFROM:+0200
TZOFFSETTO:+0100
TZNAME:CET
DTSTART:20261025T010000
END:STANDARD
END:VTIMEZONE
BEGIN:VEVENT
DTSTART;TZID=Europe/Berlin:20251206T110000
DTEND;TZID=Europe/Berlin:20251207T160000
DTSTAMP:20260419T195547
CREATED:20251203T170539Z
LAST-MODIFIED:20251203T170542Z
UID:6284-1765018800-1765123200@hobby-horsing-germany.de
SUMMARY:Hobby Horsing Advents Wochenende: Workshop mit Turnier (BW)
DESCRIPTION:Öffentliches Hobby Horsing Veranstaltung der  FT1844 \n\n\n\nVeranstalter:  FT1844 | E-Mail: tanjakwiatkista@yahoo.comAnsprechpartner: Tanja Kwiatkista | 0157/32006007Nennschluss: 12. Dezember 2025 \n\n\n\n \n\n\n\nWeitere Infos: \n\n\n\n\nSamstags Workshop: Freestyle Kür und Springtraining11-15 Uhr\n\n\n\nSonntags Turnier: Freestyle Kür und Partner Zeit Springen11-16.00Uhr\n\n\n\n\nAn diesem Hobby Horsing Adventswochenende haben wir tolle Gast Trainerinnen zu besuch und werden eine besondere Kür (choreo) zusammen stellen:Als Solo\, zu zweit im Pas De deux oder auch in Gruppen\, – ganz wie du möchtest. \n\n\n\nAnschließend trainiert ihr spannende Elemente aus dem Springreiten!Als Höhepunkt unseres Advents- Wochenendes könnt ihr mit eurer kreativ gestalteten Kür am Turnier teilnehmen. Ausserdem wird es noch ein rasantes Partner Zeit springen geben! \n\n\n\nBei diesem Adventstreffen unterstützen wir Kinder in der Ukraine und packen gemeinsam Weihnachtspakete!Hierfür gerne etwas neues oder gebraucht-gut erhaltenes mit bringen\, mit dem du jemanden eine Freude machen möchtest.Wir packen dann gemeinsam Pakete für Kleine Kinder und Teens\, – je nachdem \, was ihr alles Spendet. \n\n\n\nVorschläge für die Geschenke/Spenden:Bilderbücher\, Stifte\, Bastel – Sachen\, Kleidung\, Kuscheldecken und Kuscheltiere\, Spielzeug Süssigkeiten…..und dazu natürlich auch gerne gemalte Bilder und Grüße von euch! \n\n\n\nDie Geschenke werden einen Tag später mit der wunderbare Organisation „S´EinLädele“ aus Freiburg in die Ukraine gebracht. Die Verpackungen dazu bekommen wir an unserem Advents-Wochenende vom “ S ´EinLädele“. \n\n\n\nWir freuen uns auf kreative Küren\, auf spannende Hinderniss rennen und auf zahlreiche Spenden\, mit denen wir gemeinsam Kindern in der Ukraine eine Freude machen können!
URL:https://hobby-horsing-germany.de/event/hobby-horsing-advents-wochenende/
LOCATION:Act Now Halle\, Schwarzwaldstrasse 181\, Freiburg\, Baden-Württemberg\, 79117\, Germany
CATEGORIES:Baden-Württemberg,Events & Turniere,Hobby Horse Veranstaltung,Öffentliches Hobby Horse Turnier
END:VEVENT
END:VCALENDAR