BEGIN:VCALENDAR
VERSION:2.0
PRODID:-//Hobby Horsing Germany - ECPv6.15.20//NONSGML v1.0//EN
CALSCALE:GREGORIAN
METHOD:PUBLISH
X-ORIGINAL-URL:https://hobby-horsing-germany.de
X-WR-CALDESC:Veranstaltungen für Hobby Horsing Germany
REFRESH-INTERVAL;VALUE=DURATION:PT1H
X-Robots-Tag:noindex
X-PUBLISHED-TTL:PT1H
BEGIN:VTIMEZONE
TZID:Europe/Berlin
BEGIN:DAYLIGHT
TZOFFSETFROM:+0100
TZOFFSETTO:+0200
TZNAME:CEST
DTSTART:20240331T010000
END:DAYLIGHT
BEGIN:STANDARD
TZOFFSETFROM:+0200
TZOFFSETTO:+0100
TZNAME:CET
DTSTART:20241027T010000
END:STANDARD
BEGIN:DAYLIGHT
TZOFFSETFROM:+0100
TZOFFSETTO:+0200
TZNAME:CEST
DTSTART:20250330T010000
END:DAYLIGHT
BEGIN:STANDARD
TZOFFSETFROM:+0200
TZOFFSETTO:+0100
TZNAME:CET
DTSTART:20251026T010000
END:STANDARD
BEGIN:DAYLIGHT
TZOFFSETFROM:+0100
TZOFFSETTO:+0200
TZNAME:CEST
DTSTART:20260329T010000
END:DAYLIGHT
BEGIN:STANDARD
TZOFFSETFROM:+0200
TZOFFSETTO:+0100
TZNAME:CET
DTSTART:20261025T010000
END:STANDARD
END:VTIMEZONE
BEGIN:VEVENT
DTSTART;TZID=Europe/Berlin:20251031T090000
DTEND;TZID=Europe/Berlin:20251031T130000
DTSTAMP:20260419T170806
CREATED:20251009T111650Z
LAST-MODIFIED:20251029T212948Z
UID:5437-1761901200-1761915600@hobby-horsing-germany.de
SUMMARY:Halloween Hobby Horse Turnier (Niedersachsen)
DESCRIPTION:Hobby Horsing des VfL Stenum e. V. \n\n\n\nVeranstalter: VfL Stenum e. V. | E-Mail: yvonnekirchner@gmx.netAnsprechpartner: Yvonne Kirchner | Tel.: 01520/2973513Nennschluss: 18. Oktober 2025 \n\n\n\nNennungen per Nennformular an E-Mail an: yvonnekirchner@gmx.net \n\n\n\n\n\n\n\n\n\n\n\n\nAusschreibung & Nennformular\n\n\n\n\n\n\n\n\n\n\n\n\nWettbewerbe: \n\n\n\n\nZeitspringen 20/40/60 cm\n\n\n\nClear Round 20/40/60 cm\n\n\n\nPunktspringen 20/40/60 cm\n\n\n\nMinispringen mit Eltern 0-3 Jahre\,\n\n\n\n\n\n\n\n\n\n\n\n\n\n\n\n\n\n\n\n\n\n\n\n\n\n\n  \n    \n    \n    NEU!\n\n    \n    \n      ❄\n      ❅\n      ✼\n      ❄\n      ❅\n      ✼\n      ❄\n      ❅\n      ✼\n      ❄\n      ❅\n      ✼\n    \n  \n\n  \n    NEU in unserem Shop: Hobby Horse Adventskalender\n    24 sportliche Überraschungen für Hobby Horser – perfekt zum Verschenken oder selbst genießen. \n    Nur 90 €\n    \n      Jetzt sichern
URL:https://hobby-horsing-germany.de/event/halloween-hobby-horse-turnier/
LOCATION:VfL Stenum e. V.\, Zur Ollen 30\, Ganderkesee\, Niedersachsen\, 27777\, Germany
CATEGORIES:Events & Turniere,Hobby Horse Veranstaltung,Niedersachsen,Öffentliches Hobby Horse Turnier
END:VEVENT
BEGIN:VEVENT
DTSTART;TZID=Europe/Berlin:20251031T100000
DTEND;TZID=Europe/Berlin:20251101T150000
DTSTAMP:20260419T170806
CREATED:20251017T200807Z
LAST-MODIFIED:20251029T212505Z
UID:5598-1761904800-1762009200@hobby-horsing-germany.de
SUMMARY:Happy Halloween-Distanzritt auf dem Darß (Mecklenburg-Vorpommern)
DESCRIPTION:Hobby Horsing Distanzritt am Strand \n\n\n\nÖffentliches Hobby Horsing-Event des Veranstalter: PSZV Gut Darß e-V.  | E-Mail: paulacetto@web.deAnsprechpartner: Paula M. Cetto |  \n\n\n\nNennschluss 20.10.2025 \n\n\n\n\n\n\n\n\n\n\n\n\nAusschreibung \n\n\n\nNennformular\n\n\n\n\n\n\n\n\nHinweise: Halloween-Pferde-Distanzritt: \n\n\n\nKinder\, Jugendliche und Erwachsene sind herzlich willkommen\, sowie Pferde ab 5 J. unabhängig von Rasse und Reitweise.2 (Startzeit: 10 Uhr) und 3\,5 km (Startzeit 10:30 Uhr) sind die Hobby Horsing-Strecken und alle Strecken ab 15 bis 65 km sind mit Strandritt. Kostüme erwünscht\, aber nicht verpflichtend. \n\n\n\n\n\n\n\n\n\n\n\n\n\n\n\n\n\n\n\n\n\n\n\n\n\n  \n    \n    \n    NEU!\n\n    \n    \n      ❄\n      ❅\n      ✼\n      ❄\n      ❅\n      ✼\n      ❄\n      ❅\n      ✼\n      ❄\n      ❅\n      ✼\n    \n  \n\n  \n    NEU in unserem Shop: Hobby Horse Adventskalender\n    24 sportliche Überraschungen für Hobby Horser – perfekt zum Verschenken oder selbst genießen. \n    Nur 90 €\n    \n      Jetzt sichern
URL:https://hobby-horsing-germany.de/event/happy-halloween-distanzritt/
LOCATION:PSZV Gut Darß e-V.\, Am Wald 26\, Born\, Mecklenburg-Vorpommern\, 18375\, Germany
CATEGORIES:Events & Turniere,Hobby Horse Veranstaltung,Mecklenburg-Vorpommern
ATTACH;FMTTYPE=image/png:https://hobby-horsing-germany.de/wp-content/uploads/2025/10/Happy-Halloween-Distanzritt.png
END:VEVENT
END:VCALENDAR