BEGIN:VCALENDAR
VERSION:2.0
PRODID:-//Hobby Horsing Germany - ECPv6.15.20//NONSGML v1.0//EN
CALSCALE:GREGORIAN
METHOD:PUBLISH
X-ORIGINAL-URL:https://hobby-horsing-germany.de
X-WR-CALDESC:Veranstaltungen für Hobby Horsing Germany
REFRESH-INTERVAL;VALUE=DURATION:PT1H
X-Robots-Tag:noindex
X-PUBLISHED-TTL:PT1H
BEGIN:VTIMEZONE
TZID:America/Los_Angeles
BEGIN:DAYLIGHT
TZOFFSETFROM:-0800
TZOFFSETTO:-0700
TZNAME:PDT
DTSTART:20240310T100000
END:DAYLIGHT
BEGIN:STANDARD
TZOFFSETFROM:-0700
TZOFFSETTO:-0800
TZNAME:PST
DTSTART:20241103T090000
END:STANDARD
BEGIN:DAYLIGHT
TZOFFSETFROM:-0800
TZOFFSETTO:-0700
TZNAME:PDT
DTSTART:20250309T100000
END:DAYLIGHT
BEGIN:STANDARD
TZOFFSETFROM:-0700
TZOFFSETTO:-0800
TZNAME:PST
DTSTART:20251102T090000
END:STANDARD
BEGIN:DAYLIGHT
TZOFFSETFROM:-0800
TZOFFSETTO:-0700
TZNAME:PDT
DTSTART:20260308T100000
END:DAYLIGHT
BEGIN:STANDARD
TZOFFSETFROM:-0700
TZOFFSETTO:-0800
TZNAME:PST
DTSTART:20261101T090000
END:STANDARD
END:VTIMEZONE
BEGIN:VEVENT
DTSTART;TZID=America/Los_Angeles:20251030T173000
DTEND;TZID=America/Los_Angeles:20251030T200000
DTSTAMP:20260419T165819
CREATED:20250410T230040Z
LAST-MODIFIED:20251029T212957Z
UID:1983-1761845400-1761854400@hobby-horsing-germany.de
SUMMARY:Hobby Horse - Halloween Party - (Schleswig-Holstein)
DESCRIPTION:Hobby Horsing Wettbewerb beim Cocu der Kinderpferdeladen \n\n\n\nHobby Horsing- Wettbewerb für Teilnehmer zwischen 4-14 Jahren.Veranstalter: Cocu der Kinderpferdeladen | E-Mail : kontakt@cocu-der-kinderpferdeladen.deAnsprechpartner: Corinna Cuvalo | Tel.: 0179/3903122Anmeldeschluss:  23. Oktober 2025 \n\n\n\nAnmeldungen per E-Mail E-Mail : kontakt@cocu-der-kinderpferdeladen.de \n\n\n\n \n\n\n\n\n\n\n\nWettbewerbe \n\n\n\n\nZeitspringen\n\n\n\nPrämierung\n\n\n\nHalloween Hobby Horse Spiele\n\n\n\nDressur Kür\n\n\n\n\n\n\n\n\n\n\n\n\n\n\n\n\n\n\n\n\n\n\n  \n    \n    \n    NEU!\n\n    \n    \n      ❄\n      ❅\n      ✼\n      ❄\n      ❅\n      ✼\n      ❄\n      ❅\n      ✼\n      ❄\n      ❅\n      ✼\n    \n  \n\n  \n    NEU in unserem Shop: Hobby Horse Adventskalender\n    24 sportliche Überraschungen für Hobby Horser – perfekt zum Verschenken oder selbst genießen. \n    Nur 90 €\n    \n      Jetzt sichern
URL:https://hobby-horsing-germany.de/event/hobby-horse-halloween-party-schleswig-holstein/
LOCATION:Cocu der Kinderpferdeladen\, Hermann-Löns-Weg 3\, Rellingen\, Schleswig-Holstein\, 25462\, Germany
CATEGORIES:Deutschland,Hobby Horse Veranstaltung,Schleswig-Holstein
END:VEVENT
END:VCALENDAR