BEGIN:VCALENDAR
VERSION:2.0
PRODID:-//Hobby Horsing Germany - ECPv6.15.20//NONSGML v1.0//EN
CALSCALE:GREGORIAN
METHOD:PUBLISH
X-WR-CALNAME:Hobby Horsing Germany
X-ORIGINAL-URL:https://hobby-horsing-germany.de
X-WR-CALDESC:Veranstaltungen für Hobby Horsing Germany
REFRESH-INTERVAL;VALUE=DURATION:PT1H
X-Robots-Tag:noindex
X-PUBLISHED-TTL:PT1H
BEGIN:VTIMEZONE
TZID:Europe/Berlin
BEGIN:DAYLIGHT
TZOFFSETFROM:+0100
TZOFFSETTO:+0200
TZNAME:CEST
DTSTART:20240331T010000
END:DAYLIGHT
BEGIN:STANDARD
TZOFFSETFROM:+0200
TZOFFSETTO:+0100
TZNAME:CET
DTSTART:20241027T010000
END:STANDARD
BEGIN:DAYLIGHT
TZOFFSETFROM:+0100
TZOFFSETTO:+0200
TZNAME:CEST
DTSTART:20250330T010000
END:DAYLIGHT
BEGIN:STANDARD
TZOFFSETFROM:+0200
TZOFFSETTO:+0100
TZNAME:CET
DTSTART:20251026T010000
END:STANDARD
BEGIN:DAYLIGHT
TZOFFSETFROM:+0100
TZOFFSETTO:+0200
TZNAME:CEST
DTSTART:20260329T010000
END:DAYLIGHT
BEGIN:STANDARD
TZOFFSETFROM:+0200
TZOFFSETTO:+0100
TZNAME:CET
DTSTART:20261025T010000
END:STANDARD
END:VTIMEZONE
BEGIN:VEVENT
DTSTART;TZID=Europe/Berlin:20251016T100000
DTEND;TZID=Europe/Berlin:20251016T150000
DTSTAMP:20260419T165446
CREATED:20250925T132642Z
LAST-MODIFIED:20250925T132707Z
UID:4659-1760608800-1760626800@hobby-horsing-germany.de
SUMMARY:Hobby Horsing Ferienprogramm beim TSV Zornheim (Rheinland-Pfalz)
DESCRIPTION:🐴 Hobby Horsing Ferienprogramm beim TSV Zornheim \n\n\n\nVeranstalter:  TSV Zornheim 1985 e. V. Ansprechpartner: Tina Gardt | Tel.: 0170 – 35 098 75Nennschluss: 10.10.2025 \n\n\n\nFür alle begeisterten Hobby Horser ab 6 Jahren\, egal ob Anfänger oder Fortgeschrittene. \n\n\n\n-> Flyer herunterladen \n\n\n\n\n\n\n\nProgramm\n\n\n\n\nSpringen\n\n\n\nFun & Action: Western\, Mounted Games & Spiele\n\n\n\nKreatives Basteln\n\n\n\n\n\n\n\n\nBitte mitbringen\n\n\n\n\nEigenes Hobby Horse mit Zaumzeug & Zügeln\n\n\n\nSportkleidung und -schuhe\n\n\n\nWechselkleidung\n\n\n\nBlock & Stifte\n\n\n\nTeller & Besteck\n\n\n\nViel gute Laune ✨\n\n\n\n\n👉 Die Teilnehmerzahl ist auf 20 Kinder begrenzt! \n\n\n\n📱 Anmeldung & Fragen: WhatsApp an 0170 – 35 098 75
URL:https://hobby-horsing-germany.de/event/hobby-horsing-ferienprogramm-beim-tsv-zornheim/
LOCATION:TSV Zornheim\, Ob. Pfortenstraße 4 - Lindenplatzhalle\, Zornheim\, Rheinland-Pfalz\, 55270\, Germany
CATEGORIES:Hobby Horse Veranstaltung,Rheinland-Pfalz
ATTACH;FMTTYPE=image/png:https://hobby-horsing-germany.de/wp-content/uploads/2025/09/Ferienprogramm-Zornheim.png
END:VEVENT
END:VCALENDAR