BEGIN:VCALENDAR
VERSION:2.0
PRODID:-//Hobby Horsing Germany - ECPv6.15.20//NONSGML v1.0//EN
CALSCALE:GREGORIAN
METHOD:PUBLISH
X-ORIGINAL-URL:https://hobby-horsing-germany.de
X-WR-CALDESC:Veranstaltungen für Hobby Horsing Germany
REFRESH-INTERVAL;VALUE=DURATION:PT1H
X-Robots-Tag:noindex
X-PUBLISHED-TTL:PT1H
BEGIN:VTIMEZONE
TZID:Europe/Berlin
BEGIN:DAYLIGHT
TZOFFSETFROM:+0100
TZOFFSETTO:+0200
TZNAME:CEST
DTSTART:20240331T010000
END:DAYLIGHT
BEGIN:STANDARD
TZOFFSETFROM:+0200
TZOFFSETTO:+0100
TZNAME:CET
DTSTART:20241027T010000
END:STANDARD
BEGIN:DAYLIGHT
TZOFFSETFROM:+0100
TZOFFSETTO:+0200
TZNAME:CEST
DTSTART:20250330T010000
END:DAYLIGHT
BEGIN:STANDARD
TZOFFSETFROM:+0200
TZOFFSETTO:+0100
TZNAME:CET
DTSTART:20251026T010000
END:STANDARD
BEGIN:DAYLIGHT
TZOFFSETFROM:+0100
TZOFFSETTO:+0200
TZNAME:CEST
DTSTART:20260329T010000
END:DAYLIGHT
BEGIN:STANDARD
TZOFFSETFROM:+0200
TZOFFSETTO:+0100
TZNAME:CET
DTSTART:20261025T010000
END:STANDARD
END:VTIMEZONE
BEGIN:VEVENT
DTSTART;TZID=Europe/Berlin:20251011T083000
DTEND;TZID=Europe/Berlin:20251011T183000
DTSTAMP:20260419T182157
CREATED:20250816T220736Z
LAST-MODIFIED:20250819T111830Z
UID:4085-1760171400-1760207400@hobby-horsing-germany.de
SUMMARY:4. Hobby Horse Turnier Neuenkirchen-Vörden (Niedersachsen)
DESCRIPTION:Hobby Horsing Turnier der Hobby Horse Gruppe TuS Neuenkirchen-Vörden \n\n\n\nÖffentliches Hobby Horsing- Turnier für Teilnehmer zwischen 4-25 Jahren. \n\n\n\nVeranstalter:  Hobby Horse Gruppe TuS Neuenkirchen-Vörden | E-Mail: hobbyhorses-er@osnanet.deAnsprechpartner: Erwin Raupach \,K.Dirla\,H.Siemer | Tel.: 05491/557878Nennschluss: 20.09.2025 \n\n\n\n+++ Ausschreibung +++ \n\n\n\nNENNFORMULAR  \n\n\n\nNennung per E-Mail an: hobbyhorses-er@osnanet.de \n\n\n\n\n\n\n\nWettbewerbe: \n\n\n\n\nGeländestilspr.40/60 cm\n\n\n\nGeländezeitspr. 20/40/60 cm\n\n\n\nZeitspringen 20/40/60 cm\n\n\n\nClear-Round Spr. mit Kostüm 30/50 cm\n\n\n\nPunktejagd leicht und mittel\n\n\n\nGeschicklichkeitspacour\n\n\n\n\nPlatzierung 1.-5.Pl m EhrenpreisTeilnehmer Schleife für jeden
URL:https://hobby-horsing-germany.de/event/4-hobby-horse-turnier-neuenkirchen-voerden/
LOCATION:Hobby Horse Gruppe TuS Neuenkirchen-Vörden\, Holdorfer Str 7\, Neuenkirchen-Vörden\, Niedersachsen\, 49434\, Germany
CATEGORIES:Events & Turniere,Hobby Horse Veranstaltung,Niedersachsen,Öffentliches Hobby Horse Turnier
END:VEVENT
BEGIN:VEVENT
DTSTART;TZID=Europe/Berlin:20251011T140000
DTEND;TZID=Europe/Berlin:20251011T173000
DTSTAMP:20260419T182157
CREATED:20250923T202608Z
LAST-MODIFIED:20250923T202611Z
UID:4644-1760191200-1760203800@hobby-horsing-germany.de
SUMMARY:Hobby Horsing Turnier - Odenwald-Oberzent (Hessen)
DESCRIPTION:Öffentliches Hobby Horsing des TV Beerfelden und Reiterhof Michelshof (8-15 Jahre) \n\n\n\nVeranstalter: TV Beerfelden und Reiterhof Michelshof | E-Mail: tanjakwiatkista@yahoo.comAnsprechpartner: Tanja Kwiatkista | Tel.: 01573/2006007Nennschluss: 04.10.2025 \n\n\n\nNennungen per E-Mail an: tanjakwiatkista@yahoo.com \n\n\n\nFLYER Downloaden \n\n\n\n\n\n\n\nWettbewerbe \n\n\n\n\nDressur (M)\n\n\n\nZeitspringen (U9\, U12)\n\n\n\nReiterwettbewerb ab 4 Jahren\n\n\n\noffener Springparcours für alle Gäste\n\n\n\n\n\n\n\n\nDas Turnier ist Kostenfrei und wir organisieren gemeinsam ein kleines Buffet.Deshalb gerne etwas Vegetarisches / Fingerfood / Kuchen für die ReiterInnen und Familien mit bringen.
URL:https://hobby-horsing-germany.de/event/hobby-horsing-turnier-odenwald/
LOCATION:TV Beerfelden und Reiterhof Michelshof\, Hirschhornerstrasse 40\, Beerfelden\, Hessen\, 64760\, Germany
CATEGORIES:Events & Turniere,Hessen,Hobby Horse Veranstaltung,Öffentliches Hobby Horse Turnier
END:VEVENT
END:VCALENDAR