BEGIN:VCALENDAR
VERSION:2.0
PRODID:-//Hobby Horsing Germany - ECPv6.15.20//NONSGML v1.0//EN
CALSCALE:GREGORIAN
METHOD:PUBLISH
X-ORIGINAL-URL:https://hobby-horsing-germany.de
X-WR-CALDESC:Veranstaltungen für Hobby Horsing Germany
REFRESH-INTERVAL;VALUE=DURATION:PT1H
X-Robots-Tag:noindex
X-PUBLISHED-TTL:PT1H
BEGIN:VTIMEZONE
TZID:Europe/Berlin
BEGIN:DAYLIGHT
TZOFFSETFROM:+0100
TZOFFSETTO:+0200
TZNAME:CEST
DTSTART:20240331T010000
END:DAYLIGHT
BEGIN:STANDARD
TZOFFSETFROM:+0200
TZOFFSETTO:+0100
TZNAME:CET
DTSTART:20241027T010000
END:STANDARD
BEGIN:DAYLIGHT
TZOFFSETFROM:+0100
TZOFFSETTO:+0200
TZNAME:CEST
DTSTART:20250330T010000
END:DAYLIGHT
BEGIN:STANDARD
TZOFFSETFROM:+0200
TZOFFSETTO:+0100
TZNAME:CET
DTSTART:20251026T010000
END:STANDARD
BEGIN:DAYLIGHT
TZOFFSETFROM:+0100
TZOFFSETTO:+0200
TZNAME:CEST
DTSTART:20260329T010000
END:DAYLIGHT
BEGIN:STANDARD
TZOFFSETFROM:+0200
TZOFFSETTO:+0100
TZNAME:CET
DTSTART:20261025T010000
END:STANDARD
END:VTIMEZONE
BEGIN:VEVENT
DTSTART;TZID=Europe/Berlin:20250928T090000
DTEND;TZID=Europe/Berlin:20250928T180000
DTSTAMP:20260419T182239
CREATED:20250611T225558Z
LAST-MODIFIED:20250611T225618Z
UID:3361-1759050000-1759082400@hobby-horsing-germany.de
SUMMARY:Magni-Cup 4.0 in Braunschweig (Niedersachsen)
DESCRIPTION:Hobby Horsing Turnier in Braunschweig – Privat organisiert *verifiziert* \n\n\n\nÖffentliches Hobby Horsing- Turnier für Teilnehmer ab 7 Jahren.Veranstalter: Constanze Richter | E-Mail : schatzkaestchen_hobbyhorsing@web.deAnsprechpartner: Constanze Richter | Tel.: 0173/8201360Nennschluss:  21.08.2025 \n\n\n\nNennungen per E-mail an: schatzkaestchen_hobbyhorsing@web.de \n\n\n\n>>> Ausschreibung <<< \n\n\n\n\n\n\n\nWettbewerbe: \n\n\n\n\n1) Biathlon\n\n\n\n2) Punktespringen\n\n\n\n3) Pole bending\n\n\n\n4) Glücksspringen\n\n\n\n\nAnmerkungen: \n\n\n\nDiese vier Wettkämpfe werden für alle Altersgruppen angeboten. Sie unterscheiden sich jeweils in der Hürdenhöhe. Je nach Altersklasse haben die Teilnehmer Hürden in einer Höhe von 40 cm\, 50 cm oder 60 cm zu überspringen. \n\n\n\nDa es sich um ein privates Turnier handelt\, müssen alle Teilnehmer aus versicherungsrechtlichen Gründen Mitglied  beim DtHHV oder in einem Turn-\, Reit- oder Sportverein sein.
URL:https://hobby-horsing-germany.de/event/magni-cup-4-0-braunschweig/
LOCATION:Magni-Cup – Constanze Richter\, Kurt-Schumacher-Str. 28\, Braunschweig\, Niedersachen\, 38102\, Germany
CATEGORIES:Events & Turniere,Niedersachsen,Öffentliches Hobby Horse Turnier
ORGANIZER;CN="Constanze Richter":MAILTO:schatzkaestchen_hobbyhorsing@web.de
END:VEVENT
END:VCALENDAR