BEGIN:VCALENDAR
VERSION:2.0
PRODID:-//Hobby Horsing Germany - ECPv6.15.20//NONSGML v1.0//EN
CALSCALE:GREGORIAN
METHOD:PUBLISH
X-WR-CALNAME:Hobby Horsing Germany
X-ORIGINAL-URL:https://hobby-horsing-germany.de
X-WR-CALDESC:Veranstaltungen für Hobby Horsing Germany
REFRESH-INTERVAL;VALUE=DURATION:PT1H
X-Robots-Tag:noindex
X-PUBLISHED-TTL:PT1H
BEGIN:VTIMEZONE
TZID:Europe/Berlin
BEGIN:DAYLIGHT
TZOFFSETFROM:+0100
TZOFFSETTO:+0200
TZNAME:CEST
DTSTART:20240331T010000
END:DAYLIGHT
BEGIN:STANDARD
TZOFFSETFROM:+0200
TZOFFSETTO:+0100
TZNAME:CET
DTSTART:20241027T010000
END:STANDARD
BEGIN:DAYLIGHT
TZOFFSETFROM:+0100
TZOFFSETTO:+0200
TZNAME:CEST
DTSTART:20250330T010000
END:DAYLIGHT
BEGIN:STANDARD
TZOFFSETFROM:+0200
TZOFFSETTO:+0100
TZNAME:CET
DTSTART:20251026T010000
END:STANDARD
BEGIN:DAYLIGHT
TZOFFSETFROM:+0100
TZOFFSETTO:+0200
TZNAME:CEST
DTSTART:20260329T010000
END:DAYLIGHT
BEGIN:STANDARD
TZOFFSETFROM:+0200
TZOFFSETTO:+0100
TZNAME:CET
DTSTART:20261025T010000
END:STANDARD
END:VTIMEZONE
BEGIN:VEVENT
DTSTART;TZID=Europe/Berlin:20250830T093000
DTEND;TZID=Europe/Berlin:20250830T180000
DTSTAMP:20260419T200548
CREATED:20250701T140133Z
LAST-MODIFIED:20250701T140133Z
UID:3498-1756546200-1756576800@hobby-horsing-germany.de
SUMMARY:2. Hobby Horsing- Turnier SKV 1920 Obbornhofen e.V. (Hessen)
DESCRIPTION:2. Hobby Horsing Turnier des SKV 1920 Obbornhofen e.V. \n\n\n\nÖffentliches Hobby Horsing- Turnier mit vielen verschiedenen Wettbewerben.Veranstalter: SKV 1920 Obbornhofen e.V. | E-Mail: skv-schneider@gmx.deAnsprechpartner: Jens Peter Schneider | Tel.: 0172-2050209Nennschluss: 25.07.2025 \n\n\n\n>>> Ausschreibung & Nennformular <<< \n\n\n\n\n\n\n\nWettbewerbe: \n\n\n\n\nStilspringen – einfach;30cm;U6/U9\n\n\n\nStilspringen – mittel;70cm;U12/U15/U21\n\n\n\nStilspringen – schwer;90cm;U15/U21\n\n\n\nZeitspringen – einfach;30cm;U6/U9\n\n\n\nZeitspringen – leicht;50cm;U12/U15/U21\n\n\n\nZeitspringen – mittel;70cm;U15/U21\n\n\n\nWestern – Barrel Race;U6;U9;U12;U15;U21\n\n\n\nWestern – Pole Bending;U6;U9;U12;U15;U21\n\n\n\nDressur Einzel – Leicht;U6/U9/U12\n\n\n\nDressur Einzel – schwer;U12/U15/U21\n\n\n\nPas de Deux – Kür;offen\n\n\n\nMächtigkeitsspringen
URL:https://hobby-horsing-germany.de/event/2-turnier-skv-1920-obbornhofen/
LOCATION:Sport- und Kulturverein „Fortuna“ 1920 Obbornhofen e.V.\, Unter den Linden 1\, Hungen - Obbornhofen\, Hesen\, 35410\, Germany
CATEGORIES:Events & Turniere,Hessen,Hobby Horse Veranstaltung,Öffentliches Hobby Horse Turnier
END:VEVENT
END:VCALENDAR