BEGIN:VCALENDAR
VERSION:2.0
PRODID:-//Hobby Horsing Germany - ECPv6.15.20//NONSGML v1.0//EN
CALSCALE:GREGORIAN
METHOD:PUBLISH
X-WR-CALNAME:Hobby Horsing Germany
X-ORIGINAL-URL:https://hobby-horsing-germany.de
X-WR-CALDESC:Veranstaltungen für Hobby Horsing Germany
REFRESH-INTERVAL;VALUE=DURATION:PT1H
X-Robots-Tag:noindex
X-PUBLISHED-TTL:PT1H
BEGIN:VTIMEZONE
TZID:Europe/Berlin
BEGIN:DAYLIGHT
TZOFFSETFROM:+0100
TZOFFSETTO:+0200
TZNAME:CEST
DTSTART:20240331T010000
END:DAYLIGHT
BEGIN:STANDARD
TZOFFSETFROM:+0200
TZOFFSETTO:+0100
TZNAME:CET
DTSTART:20241027T010000
END:STANDARD
BEGIN:DAYLIGHT
TZOFFSETFROM:+0100
TZOFFSETTO:+0200
TZNAME:CEST
DTSTART:20250330T010000
END:DAYLIGHT
BEGIN:STANDARD
TZOFFSETFROM:+0200
TZOFFSETTO:+0100
TZNAME:CET
DTSTART:20251026T010000
END:STANDARD
BEGIN:DAYLIGHT
TZOFFSETFROM:+0100
TZOFFSETTO:+0200
TZNAME:CEST
DTSTART:20260329T010000
END:DAYLIGHT
BEGIN:STANDARD
TZOFFSETFROM:+0200
TZOFFSETTO:+0100
TZNAME:CET
DTSTART:20261025T010000
END:STANDARD
END:VTIMEZONE
BEGIN:VEVENT
DTSTART;TZID=Europe/Berlin:20250823T100000
DTEND;TZID=Europe/Berlin:20250823T180000
DTSTAMP:20260419T200703
CREATED:20250816T210723Z
LAST-MODIFIED:20250819T111441Z
UID:4060-1755943200-1755972000@hobby-horsing-germany.de
SUMMARY:Hobby Horsing Turnier - Pferdefreunde Niederjossa e. V. (Hessen)
DESCRIPTION:Hobby Horsing Turnier beim Pferdefreunde Niederjossa e. V. \n\n\n\nÖffentliches Hobby Horsing- Turnier für Teilnehmer ab 2 Jahren. \n\n\n\nVeranstalter:  Pferdefreunde Niederjossa e. V. | E-Mail: patrick.schroeder@kreisreiterverband-uelzen.deAnsprechpartner: Nina Eichmann | Tel.: 0175/8880887Nennschluss:  \n\n\n\n+++ Ausschreibung +++ \n\n\n\nAnmeldung per E-Mail an:Perdefreunde.niederjossa@gmail.com \n\n\n\n\n\n\n\nWettbewerbe: \n\n\n\n1. Springreiter WB 20 cm (Zeitspringen Wertung nach Altersklassen)Kinder bis 5 Jahre dürfen teilnehmenParcours mit 5 HindernissenEinsatz 5 EuroBeginn ca: 10:30 Uhr \n\n\n\n2. Springreiter WB 50 cm (Zeitspringen Wertung nach Altersklassen)Kinder ab 5 Jahren dürfen teilnehmenParcours mit 7 HindernissenEinsatz 5 EuroBeginn ca: 11:30 Uhr \n\n\n\n3. Springreiter WB 70 cm (Zeitspringen Wertung nach Altersklassen)Kinder ab 5 Jahren dürfen teilnehmenParcours mit 7 Hindernissen inkl. WassergrabenEinsatz 5 EuroBeginn: 12:30 Uhr \n\n\n\n4. Dressur Hobby Horsing (DHH2)Kinder ab 7 Jahren dürfen teilnehmen (Aufgabe wird nach Anmeldungzugesandt)Einsatz 5 EuroBeginn: 13:30 Uhr \n\n\n\n5. Großer Hopfenschorlenpreis von Niederjossa WB 70 cm (Zeitspringen)Erwachsene ab 18 JahrenEinsatz 5 EuroBeginn 14:30 Uhr
URL:https://hobby-horsing-germany.de/event/hobby-horsing-turnier-pferdefreunde-niederjossa-e-v-hessen/
LOCATION:Pferdefreunde Niederjossa e. V.\, Am Bach 1\, Niederaula-Niederjossa\, Hessen\, 36272\, Germany
CATEGORIES:Events & Turniere,Hessen,Hobby Horse Veranstaltung,Öffentliches Hobby Horse Turnier
ATTACH;FMTTYPE=image/png:https://hobby-horsing-germany.de/wp-content/uploads/2025/08/Hobby-Horsing-Niederjossa.png
END:VEVENT
END:VCALENDAR