BEGIN:VCALENDAR
VERSION:2.0
PRODID:-//Hobby Horsing Germany - ECPv6.15.20//NONSGML v1.0//EN
CALSCALE:GREGORIAN
METHOD:PUBLISH
X-WR-CALNAME:Hobby Horsing Germany
X-ORIGINAL-URL:https://hobby-horsing-germany.de
X-WR-CALDESC:Veranstaltungen für Hobby Horsing Germany
REFRESH-INTERVAL;VALUE=DURATION:PT1H
X-Robots-Tag:noindex
X-PUBLISHED-TTL:PT1H
BEGIN:VTIMEZONE
TZID:Europe/Berlin
BEGIN:DAYLIGHT
TZOFFSETFROM:+0100
TZOFFSETTO:+0200
TZNAME:CEST
DTSTART:20240331T010000
END:DAYLIGHT
BEGIN:STANDARD
TZOFFSETFROM:+0200
TZOFFSETTO:+0100
TZNAME:CET
DTSTART:20241027T010000
END:STANDARD
BEGIN:DAYLIGHT
TZOFFSETFROM:+0100
TZOFFSETTO:+0200
TZNAME:CEST
DTSTART:20250330T010000
END:DAYLIGHT
BEGIN:STANDARD
TZOFFSETFROM:+0200
TZOFFSETTO:+0100
TZNAME:CET
DTSTART:20251026T010000
END:STANDARD
BEGIN:DAYLIGHT
TZOFFSETFROM:+0100
TZOFFSETTO:+0200
TZNAME:CEST
DTSTART:20260329T010000
END:DAYLIGHT
BEGIN:STANDARD
TZOFFSETFROM:+0200
TZOFFSETTO:+0100
TZNAME:CET
DTSTART:20261025T010000
END:STANDARD
END:VTIMEZONE
BEGIN:VEVENT
DTSTART;TZID=Europe/Berlin:20250821T110000
DTEND;TZID=Europe/Berlin:20250821T160000
DTSTAMP:20260419T200548
CREATED:20250806T051742Z
LAST-MODIFIED:20250806T051756Z
UID:3976-1755774000-1755792000@hobby-horsing-germany.de
SUMMARY:Hobby Horsing Lehrgang mit KHT Vapalo beim TSV Tarp (Schleswig-Holstein)
DESCRIPTION:Hobby Horsing Lehrgang mit KHT Vapalo beim TSV Tarp \n\n\n\nVeranstalter: Deutscher Hobby Horsing Verband e.V. | E-Mail: v.warncke@dthhv.deAnsprechpartner: Vanessa Warncke | Tel.: 0152/27 42 44 65Instagram: @deutscher_hobbyhorsing_verband/ \n\n\n\nAnmeldungen bis 15.08.2025 per E-Mail anViviane Reschke\, E-Mail: v.reschke@dthhv.de \n\n\n\nDer Lehrgang ist für alle Altersklassen und Erfahrungsstufen geeignet. \n\n\n\n>>> Ausschreibung & Anmeldeformular <<< \n\n\n\n\n\n\n\nLehrgangsinhalte: \n\n\n\n\nProfessionelles Training mit der finnischen Trainerin Päivi (KHT Vapalo)\n\n\n\nDressur- und Springeinheiten in kleinen Gruppen\n\n\n\n1\,5 Stunden Training pro Gruppe – intensiv und individuell\n\n\n\nDer Lehrgang findet auf Englisch statt\, ein Dolmetscher ist vor Ort\n\n\n\nFür wen ist der Lehrgang geeignet:\n\n\n\nDer Lehrgang ist für alle Altersklassen und Erfahrungsstufen geeignet.
URL:https://hobby-horsing-germany.de/event/lehrgang-mit-kht-vapalo/
LOCATION:TSV Tarp – Halle 3\, Schulstraße 7d\, Tarp\, Schleswig-Holstein\, 24963\, Germany
CATEGORIES:Events & Turniere,Hobby Horse Veranstaltung,Hobby Horsing Event DtHHV,Schleswig-Holstein,Workshops und Seminare
ATTACH;FMTTYPE=image/jpeg:https://hobby-horsing-germany.de/wp-content/uploads/2025/08/Hobby-Horsing-Lehrgang-mit-KHT-Vapalo-beim-TSV-Tarp.jpg
END:VEVENT
END:VCALENDAR