BEGIN:VCALENDAR
VERSION:2.0
PRODID:-//Hobby Horsing Germany - ECPv6.15.20//NONSGML v1.0//EN
CALSCALE:GREGORIAN
METHOD:PUBLISH
X-WR-CALNAME:Hobby Horsing Germany
X-ORIGINAL-URL:https://hobby-horsing-germany.de
X-WR-CALDESC:Veranstaltungen für Hobby Horsing Germany
REFRESH-INTERVAL;VALUE=DURATION:PT1H
X-Robots-Tag:noindex
X-PUBLISHED-TTL:PT1H
BEGIN:VTIMEZONE
TZID:Europe/Berlin
BEGIN:DAYLIGHT
TZOFFSETFROM:+0100
TZOFFSETTO:+0200
TZNAME:CEST
DTSTART:20240331T010000
END:DAYLIGHT
BEGIN:STANDARD
TZOFFSETFROM:+0200
TZOFFSETTO:+0100
TZNAME:CET
DTSTART:20241027T010000
END:STANDARD
BEGIN:DAYLIGHT
TZOFFSETFROM:+0100
TZOFFSETTO:+0200
TZNAME:CEST
DTSTART:20250330T010000
END:DAYLIGHT
BEGIN:STANDARD
TZOFFSETFROM:+0200
TZOFFSETTO:+0100
TZNAME:CET
DTSTART:20251026T010000
END:STANDARD
BEGIN:DAYLIGHT
TZOFFSETFROM:+0100
TZOFFSETTO:+0200
TZNAME:CEST
DTSTART:20260329T010000
END:DAYLIGHT
BEGIN:STANDARD
TZOFFSETFROM:+0200
TZOFFSETTO:+0100
TZNAME:CET
DTSTART:20261025T010000
END:STANDARD
END:VTIMEZONE
BEGIN:VEVENT
DTSTART;TZID=Europe/Berlin:20250809T090000
DTEND;TZID=Europe/Berlin:20250810T180000
DTSTAMP:20260419T200738
CREATED:20250517T071504Z
LAST-MODIFIED:20250719T070033Z
UID:2909-1754730000-1754848800@hobby-horsing-germany.de
SUMMARY:Hobby Horsing Turnier Holdorf (Niedersachsen)
DESCRIPTION:Öffentliches Hobby Horsing Turnier des Reit- und Fahrverein Holdorf e.V. für Teilnehmer zw. 4-16 Jahre. \n\n\n\nVeranstalter: Reit- und Fahrverein Holdorf e.V. | E-Mail: hobby-horse-ruf-holdorf@gmx.deAnsprechpartner: Marie Honkomp | Tel.: 0151/46380105Instagram: @hobby_horsing_holdorfNennschluss: 20.07.2025 \n\n\n\nAnmeldung: Telefon & E-Mail \n\n\n\n>>> Ausschreibung <<< \n\n\n\n\n\n\n\nWettbewerbe am Samstag\, den 09. August 2025 \n\n\n\nPlatz 1 \n\n\n\n\nZeitspringen 20-60 cm\n\n\n\nClear Round Springen 80 cm\n\n\n\nSpringen mit Idealzeit (20\,40\,60 cm)\n\n\n\n\nPlatz 2: \n\n\n\n\nDressur leicht\n\n\n\nDressur schwer\n\n\n\nCaprilli\n\n\n\nStil-Springen\n\n\n\n\nWettbewerbe am Sonntag\, den 10. August 2025 \n\n\n\nPlatz 1 \n\n\n\n\nZeitspringen 20-60 cm\n\n\n\nGlücksspringen\n\n\n\nPunktespringen\n\n\n\nMächtigkeitsspringen\n\n\n\n\nPlatz 2 \n\n\n\n\nStilspringen\n\n\n\nPas de Deux
URL:https://hobby-horsing-germany.de/event/hobby-horsing-turnier-holdorf-2025/
LOCATION:Reit- und Fahrverein Holdorf e.V.\, Heideweg 40\, Holdorf\, Niedersachsen\, 49451\, Germany
CATEGORIES:Deutschland,Events & Turniere,Hobby Horse Veranstaltung,Niedersachsen,Öffentliches Hobby Horse Turnier
END:VEVENT
END:VCALENDAR