BEGIN:VCALENDAR
VERSION:2.0
PRODID:-//Hobby Horsing Germany - ECPv6.15.20//NONSGML v1.0//EN
CALSCALE:GREGORIAN
METHOD:PUBLISH
X-ORIGINAL-URL:https://hobby-horsing-germany.de
X-WR-CALDESC:Veranstaltungen für Hobby Horsing Germany
REFRESH-INTERVAL;VALUE=DURATION:PT1H
X-Robots-Tag:noindex
X-PUBLISHED-TTL:PT1H
BEGIN:VTIMEZONE
TZID:Europe/Berlin
BEGIN:DAYLIGHT
TZOFFSETFROM:+0100
TZOFFSETTO:+0200
TZNAME:CEST
DTSTART:20240331T010000
END:DAYLIGHT
BEGIN:STANDARD
TZOFFSETFROM:+0200
TZOFFSETTO:+0100
TZNAME:CET
DTSTART:20241027T010000
END:STANDARD
BEGIN:DAYLIGHT
TZOFFSETFROM:+0100
TZOFFSETTO:+0200
TZNAME:CEST
DTSTART:20250330T010000
END:DAYLIGHT
BEGIN:STANDARD
TZOFFSETFROM:+0200
TZOFFSETTO:+0100
TZNAME:CET
DTSTART:20251026T010000
END:STANDARD
BEGIN:DAYLIGHT
TZOFFSETFROM:+0100
TZOFFSETTO:+0200
TZNAME:CEST
DTSTART:20260329T010000
END:DAYLIGHT
BEGIN:STANDARD
TZOFFSETFROM:+0200
TZOFFSETTO:+0100
TZNAME:CET
DTSTART:20261025T010000
END:STANDARD
END:VTIMEZONE
BEGIN:VEVENT
DTSTART;TZID=Europe/Berlin:20250802T150000
DTEND;TZID=Europe/Berlin:20250802T180000
DTSTAMP:20260419T200750
CREATED:20250728T121410Z
LAST-MODIFIED:20250728T121425Z
UID:3901-1754146800-1754157600@hobby-horsing-germany.de
SUMMARY:Reitturnier Effringen mit Hobby Horsing Springen (Baden-Württemberg)
DESCRIPTION:Öffentliches Hobby Horsing Turnier des RFV Effringen im Schwarzwald e.V. – ab 4 Jahren.  \n\n\n\nVeranstalter: RFV Effringen im Schwarzwald e.V. | E-Mail: breitensport_rveffringen@gmx.deAnsprechpartner: Sabine Braun | Tel.: 01511/1590878Instagram: @reitverein.effringenNennschluss: 26.07.2025 \n\n\n\nAnmeldung: Mit dem Nennformular per E-Mail an: kathrin.bauer85@gmx.de \n\n\n\nEs wurde Ausschreibung übermittelt.  \n\n\n\n>>> Nennformular \n\n\n\n\n\n\n\nWettbewerbe: \n\n\n\n\n24. Hobby Horsing Zeitspringen (E)\, Ü4\, Jahrg.2021+ält.;Ausr.: \, WB 915;Richtv: WB 915;Höhe 20-60 cm\, Anforderungen und Teilung nach Alter. Einsatz: 6\,50 €\n\n\n\n25. Hobby Horsing Zweikampfspringen (E)\, Ü4\, Jahrg.2021+ält.;Ausr.: WB 915;Richtv: WB 915;Es treten jeweils zwei/drei Teilnehmer/innen in zwei/drei identisch aufgestellten Sprungreihen zeitgleich an. Eine Runde weiter ist der/die schnellste Reiter/in mit den wenigstens Abwürfen\, Höhe 20-80 cm\, Anforderungen und Teilung nach Alter. Einsatz: 6\,50 €\n\n\n\n\n\n\n\n\nInformationen zur WBO-Breitensport findest du in unserem Hobby Horsing Magazin.
URL:https://hobby-horsing-germany.de/event/effringen-hobby-horsing-springen/
LOCATION:RFV Effringen im Schwarzwald e.V.\, Werre 40\, Wildberg-Effringen\, Baden-Württemberg\, 72218\, Germany
CATEGORIES:Baden-Württemberg,Deutschland,Events & Turniere,Hobby Horse Veranstaltung,Öffentliches Hobby Horse Turnier
END:VEVENT
END:VCALENDAR