BEGIN:VCALENDAR
VERSION:2.0
PRODID:-//Hobby Horsing Germany - ECPv6.15.20//NONSGML v1.0//EN
CALSCALE:GREGORIAN
METHOD:PUBLISH
X-ORIGINAL-URL:https://hobby-horsing-germany.de
X-WR-CALDESC:Veranstaltungen für Hobby Horsing Germany
REFRESH-INTERVAL;VALUE=DURATION:PT1H
X-Robots-Tag:noindex
X-PUBLISHED-TTL:PT1H
BEGIN:VTIMEZONE
TZID:America/Los_Angeles
BEGIN:DAYLIGHT
TZOFFSETFROM:-0800
TZOFFSETTO:-0700
TZNAME:PDT
DTSTART:20240310T100000
END:DAYLIGHT
BEGIN:STANDARD
TZOFFSETFROM:-0700
TZOFFSETTO:-0800
TZNAME:PST
DTSTART:20241103T090000
END:STANDARD
BEGIN:DAYLIGHT
TZOFFSETFROM:-0800
TZOFFSETTO:-0700
TZNAME:PDT
DTSTART:20250309T100000
END:DAYLIGHT
BEGIN:STANDARD
TZOFFSETFROM:-0700
TZOFFSETTO:-0800
TZNAME:PST
DTSTART:20251102T090000
END:STANDARD
BEGIN:DAYLIGHT
TZOFFSETFROM:-0800
TZOFFSETTO:-0700
TZNAME:PDT
DTSTART:20260308T100000
END:DAYLIGHT
BEGIN:STANDARD
TZOFFSETFROM:-0700
TZOFFSETTO:-0800
TZNAME:PST
DTSTART:20261101T090000
END:STANDARD
END:VTIMEZONE
BEGIN:VEVENT
DTSTART;TZID=America/Los_Angeles:20250719T110000
DTEND;TZID=America/Los_Angeles:20250720T190000
DTSTAMP:20260419T214838
CREATED:20250328T114826Z
LAST-MODIFIED:20250719T065534Z
UID:1744-1752922800-1753038000@hobby-horsing-germany.de
SUMMARY:5. FABLEHORSE HOBBY HORSE CUP
DESCRIPTION:Hobby Horsing Turnier von Fablehorse Hobby Horses München \n\n\n\nÖffentliches Hobby Horsing- Turnier für Teilnehmer zwischen ab 6 Jahren. \n\n\n\nVeranstalter: Fablehorse Hobby Horses München | E-Mail: info@fablehorse.comAnsprechpartner: Ria Koch | Tel.: 0160/5414415Nennschluss: 06.06.2025 \n\n\n\nNennungen per E-Mail an: info@fablehorse.com \n\n\n\n\n\n\n\nWettbewerbe: \n\n\n\n\nDressur\n\n\n\nZeitspringen\n\n\n\nStilspringen\n\n\n\nSynchronspringen\n\n\n\nHochsprung\n\n\n\n\n\n\n\n\n>>> Ausschreibung <<< \n\n\n\nRückfragen sind direkt an den Veranstalter zu stellen: Ria Koch | Tel.: 0160/5414415 | info@fablehorse.com
URL:https://hobby-horsing-germany.de/event/5-fablehorse-hobby-horse-cup/
LOCATION:Fablehorse Hobby Horses München\, Häberlstraße 11 b\, München\, Bayern\, 80337\, Germany
CATEGORIES:Bayern,Deutschland,Hobby Horse Veranstaltung,Öffentliches Hobby Horse Turnier
END:VEVENT
BEGIN:VEVENT
DTSTART;TZID=America/Los_Angeles:20250720T090000
DTEND;TZID=America/Los_Angeles:20250720T180000
DTSTAMP:20260419T214838
CREATED:20250312T175629Z
LAST-MODIFIED:20250719T065638Z
UID:1235-1753002000-1753034400@hobby-horsing-germany.de
SUMMARY:TSF Horse Cup (Baden-Württemberg)
DESCRIPTION:Hobby Horsing Turnier beim TSF Ditzingen 1893 e.V.  \n\n\n\nÖffentliches Hobby Horsing- Turnier für Teilnehmer ab 5 Jahren.Veranstalter: TSF Ditzingen 1893 e.V. | E-Mail: tsf-horse-cup@web.deAnsprechpartner: Tanja Turner | 0173/4146881Nennschluss: 31.05.2025 \n\n\n\nNennungen per E-Mail an: tsf-horse-cup@web.de \n\n\n\n\n\n\n\nWettbewerbe: \n\n\n\n\nDressur leicht\, mittel\, schwer \n\n\n\nReiterwettbewerb\n\n\n\nZeitspringen 30cm\, 50cm\, 80 cm\n\n\n\nMächtigkeitsspringen\n\n\n\nZeitspringen (20cm – 80 cm)\n\n\n\nWestern\n\n\n\nReiterspiele\n\n\n\n\n\n\n\n\n>>> Ausschreibung <<< \n\n\n\nRückfragen sind bitte an den Veranstalter zu richten:Ansprechpartner: Tanja Turner | E-Mail: tsf-horse-cup@web.de
URL:https://hobby-horsing-germany.de/event/tsf-horse-cup-baden-wuerttemberg/
LOCATION:TSF Ditzingen 1893 e.V.\, Weissacher Str. 44\, Ditzingen. Heimerdingen\, Baden-Württemberg\, 71254\, Germany
CATEGORIES:Baden-Württemberg,Deutschland,Hobby Horse Veranstaltung,Öffentliches Hobby Horse Turnier
ORGANIZER;CN="TSF Ditzingen 1893 e.V. Tanja Turner":MAILTO:tsf-horse-cup@web.de
END:VEVENT
END:VCALENDAR