BEGIN:VCALENDAR
VERSION:2.0
PRODID:-//Hobby Horsing Germany - ECPv6.15.20//NONSGML v1.0//EN
CALSCALE:GREGORIAN
METHOD:PUBLISH
X-ORIGINAL-URL:https://hobby-horsing-germany.de
X-WR-CALDESC:Veranstaltungen für Hobby Horsing Germany
REFRESH-INTERVAL;VALUE=DURATION:PT1H
X-Robots-Tag:noindex
X-PUBLISHED-TTL:PT1H
BEGIN:VTIMEZONE
TZID:Europe/Berlin
BEGIN:DAYLIGHT
TZOFFSETFROM:+0100
TZOFFSETTO:+0200
TZNAME:CEST
DTSTART:20240331T010000
END:DAYLIGHT
BEGIN:STANDARD
TZOFFSETFROM:+0200
TZOFFSETTO:+0100
TZNAME:CET
DTSTART:20241027T010000
END:STANDARD
BEGIN:DAYLIGHT
TZOFFSETFROM:+0100
TZOFFSETTO:+0200
TZNAME:CEST
DTSTART:20250330T010000
END:DAYLIGHT
BEGIN:STANDARD
TZOFFSETFROM:+0200
TZOFFSETTO:+0100
TZNAME:CET
DTSTART:20251026T010000
END:STANDARD
BEGIN:DAYLIGHT
TZOFFSETFROM:+0100
TZOFFSETTO:+0200
TZNAME:CEST
DTSTART:20260329T010000
END:DAYLIGHT
BEGIN:STANDARD
TZOFFSETFROM:+0200
TZOFFSETTO:+0100
TZNAME:CET
DTSTART:20261025T010000
END:STANDARD
END:VTIMEZONE
BEGIN:VTIMEZONE
TZID:America/Los_Angeles
BEGIN:DAYLIGHT
TZOFFSETFROM:-0800
TZOFFSETTO:-0700
TZNAME:PDT
DTSTART:20240310T100000
END:DAYLIGHT
BEGIN:STANDARD
TZOFFSETFROM:-0700
TZOFFSETTO:-0800
TZNAME:PST
DTSTART:20241103T090000
END:STANDARD
BEGIN:DAYLIGHT
TZOFFSETFROM:-0800
TZOFFSETTO:-0700
TZNAME:PDT
DTSTART:20250309T100000
END:DAYLIGHT
BEGIN:STANDARD
TZOFFSETFROM:-0700
TZOFFSETTO:-0800
TZNAME:PST
DTSTART:20251102T090000
END:STANDARD
BEGIN:DAYLIGHT
TZOFFSETFROM:-0800
TZOFFSETTO:-0700
TZNAME:PDT
DTSTART:20260308T100000
END:DAYLIGHT
BEGIN:STANDARD
TZOFFSETFROM:-0700
TZOFFSETTO:-0800
TZNAME:PST
DTSTART:20261101T090000
END:STANDARD
END:VTIMEZONE
BEGIN:VEVENT
DTSTART;TZID=Europe/Berlin:20250627T080000
DTEND;TZID=Europe/Berlin:20250629T180000
DTSTAMP:20260419T233712
CREATED:20250603T220011Z
LAST-MODIFIED:20250603T220820Z
UID:3238-1751011200-1751220000@hobby-horsing-germany.de
SUMMARY:Weyher Mittsommerturnier - Dressur (Niedersachsen)
DESCRIPTION:Hobby Horsing- Turnier für Teilnehmer zwischen 6-16 Jahren. \n\n\n\nÖffentliches Hobby Horsing- Turnier mit verschiedenen Wettbewerben.Veranstalter: Reitverein Sudweyhe e.V. | E-Mail: reitturnier.rvs@gmail.comAnsprechpartner: Friederike Kops | 0170/1456565Nennschluss:  16.06.2025Nennungen per E-Mail an reitturnier.rvs@gmail.com \n\n\n\n>>> Ausschreibung <<< \n\n\n\nDie Prüfung findet voraussichtlich am Samstag statt. \n\n\n\n\n\n\n\nWettbewerbe: \n\n\n\n\nHobby Horsing Dressur Stufe 2 | > Aufgabe DHH2\n\n\n\n\nWBO Turnier: Informationen zur WBO Breitensport findest du in unserem Hobby Horsing Magazin.
URL:https://hobby-horsing-germany.de/event/weyher-mittsommerturnier-dressur/
LOCATION:RV Sudweyhe e. V.\, Lahauser Str. 42a\, Weyhe-Lahausen\, Niedersachsen\, 28844\, Germany
CATEGORIES:Deutschland,Events & Turniere,Niedersachsen,Öffentliches Hobby Horse Turnier
END:VEVENT
BEGIN:VEVENT
DTSTART;TZID=Europe/Berlin:20250628T120000
DTEND;TZID=Europe/Berlin:20250629T153000
DTSTAMP:20260419T233712
CREATED:20250614T224215Z
LAST-MODIFIED:20250614T224321Z
UID:3440-1751112000-1751211000@hobby-horsing-germany.de
SUMMARY:Hobby Horsing Turnier in Thierhaupten – (Bayern)
DESCRIPTION:Hobby Horsing- Turnier für Teilnehmer zwischen 6-14 Jahren. \n\n\n\nÖffentliches Hobby Horsing- Turnier mit verschiedenen Wettbewerben.Veranstalter: Reitverein Thierhaupten/Ötz e.V. | E-Mail: hildegard-steiner@t-online.deAnsprechpartner: Hildegard Steiner | 0177-2130370Nennschluss:  27.06.2025Nennungen per E-Mail an hildegard-steiner@t-online.de \n\n\n\n>>> Ausschreibung <<< \n\n\n\n>>> Nennformular <<< \n\n\n\n\n\n\n\nWettbewerbe: \n\n\n\n\n28.06.2025 Hobby Horsing Dressur DHH1 (WBO)\n\n\n\n29.06.2025 Hobby Horsing Stilspringen 20-40 cm\n\n\n\n\nWBO Turnier: Informationen zur WBO Breitensport findest du in unserem Hobby Horsing Magazin.
URL:https://hobby-horsing-germany.de/event/hobby-horsing-turnier-in-thierhaupten/
LOCATION:Reitverein Thierhaupten//Ötz e.V.\, Thierhauptener Str. 6\, Thierhaupten\, Bayern\, 86672\, Germany
CATEGORIES:Bayern,Events & Turniere,Hobby Horse Veranstaltung,Öffentliches Hobby Horse Turnier
ATTACH;FMTTYPE=image/jpeg:https://hobby-horsing-germany.de/wp-content/uploads/2025/06/LOGO_neu1-1.jpg
END:VEVENT
BEGIN:VEVENT
DTSTART;TZID=Europe/Berlin:20250629T080000
DTEND;TZID=Europe/Berlin:20250629T180000
DTSTAMP:20260419T233712
CREATED:20250627T100450Z
LAST-MODIFIED:20250627T100545Z
UID:3458-1751184000-1751220000@hobby-horsing-germany.de
SUMMARY:Hobby Horsing Turnier des Reiterverein Iserlohn e.V.
DESCRIPTION:Hobby Horsing Turnier des Reiterverein Iserlohn e.V. \n\n\n\nÖffentliches Hobby Horsing- Turnier für Teilnehmer ab 6 Jahren.Veranstalter: Reiterverein Iserlohn e.V. | E-Mail: johanna-zibulla@gmx.deAnsprechpartner: Johanna Zibulla | Tel.: 0157/30992653Nennschluss: 21.06.2025 \n\n\n\nNennschluss \n\n\n\n>>> Ausschreibung <<< \n\n\n\nNennformular \n\n\n\n\n\n\n\nWettbewerbe \n\n\n\n\n1. Dressur Prüfung M (Mittel)\n\n\n\n2. Dressur Prüfung L (Leicht)\n\n\n\n3. Dressur Wettbewerb\n\n\n\n4. Barrel Racing\n\n\n\n5. Geschicklichkeits-Prüfung\n\n\n\n6. Pax de deux L (Leicht)\n\n\n\n7. Dressur Kür S (Schwer)\n\n\n\n8. Stil Springen S (Schwer) (90-100cm)\n\n\n\n9. Stil Springen M (Mittel) (70-80cm)\n\n\n\n10. Zeit Springen M (Mittel) (70-80cm)\n\n\n\n11. Stil Springen L (Leicht) (40-50cm)\n\n\n\n12. Zeit Springen L (Leicht) (40-50cm)\n\n\n\n13. Zeit Springen E (Einfach) (20-30cm)\n\n\n\n14. Mächtigkeitsspringen\n\n\n\n15. Hallen Gelände L (Leicht) (40-60cm)
URL:https://hobby-horsing-germany.de/event/ihhc-iserlohner-hobby-horse-cup-29-6-25/
LOCATION:Reiterverein Iserlohn e.V.\, Reiterweg 16\, Iserlohn\, Nordrhein-Westfalen\, 58636\, Germany
END:VEVENT
BEGIN:VEVENT
DTSTART;TZID=America/Los_Angeles:20250629T090000
DTEND;TZID=America/Los_Angeles:20250629T173000
DTSTAMP:20260419T233712
CREATED:20250502T120605Z
LAST-MODIFIED:20250625T224828Z
UID:2163-1751187600-1751218200@hobby-horsing-germany.de
SUMMARY:Hobby Horsing Turnier des FRZ Asbacher-Land e.V. (Rheinland-Pfalz)
DESCRIPTION:Hobby Horsing Turnier in 53567 Asbach – FRZ Asbacher-Land e.V. \n\n\n\nÖffentliches Hobby Horsing- Turnier ohne Altersbegrenzung. Veranstalter: FRZ Asbacher-Land e.V. | E-Mail : frzasbacherland@gmail.comAnsprechpartner: Markus Wertenbroich | Tel.: 01573/6785901Instagram: @FRZ_Asbacher_Land_eVNennschluss:  20.06.2025 \n\n\n\nAnmeldeoptionen: Nennschluss. \n\n\n\n\n\n\n\nWeitere Infos:Bitte alle Informationen der Ausschreibung entnehmen. \n\n\n\nDas Turnier findet in Verbindung mit unserem Kinder Spaß Tag statt. Daher genügend spannende und Interessante Dinge für Groß und Klein. Verpflegung vor Ort möglich.  \n\n\n\n\n\n\n\nWettbewerbe \n\n\n\n\nDressur – leicht (L)\n\n\n\nDressur – schwer (S)\n\n\n\nKostüm-pas de deux\n\n\n\nZeitspringen – leicht (E)\n\n\n\nZeitspringen – mittel (L)\n\n\n\nStilspringen – leicht (E)\n\n\n\nStilspringen-mittel (L)\n\n\n\nStilspringen-schwer (S)\n\n\n\nMächtigkeitsspringen\n\n\n\n\n\n\n\n\n>>> Ausschreibung  <<<
URL:https://hobby-horsing-germany.de/event/hobby-horsing-turnier-des-frz-asbacher-land-e-v-rheinland-pfalz/
LOCATION:FRZ Asbacher-Land e.V.\, Eitorferstraße 2\, Asbach\, Rheinland-Pfalz\, 53567\, Germany
CATEGORIES:Deutschland,Hobby Horse Veranstaltung,Öffentliches Hobby Horse Turnier,Rheinland-Pfalz
END:VEVENT
BEGIN:VEVENT
DTSTART;TZID=Europe/Berlin:20250629T100000
DTEND;TZID=Europe/Berlin:20250629T183000
DTSTAMP:20260419T233712
CREATED:20250612T001638Z
LAST-MODIFIED:20250612T001812Z
UID:3378-1751191200-1751221800@hobby-horsing-germany.de
SUMMARY:Iserlohner Hobby Horse Cup (IHHC) in Iserlohn (Nordrhein-Westfalen)
DESCRIPTION:Hobby Horsing Turnier für Teilnehmer ab 5 Jahren.  \n\n\n\nÖffentliches Hobby Horsing- Turnier mit verschiedenen Wettbewerben. Veranstalter: Reiterverein Iserlohn e.V. | E-Mail: hobby-horsing@reiterverein-iserlohn.deAnsprechpartner: Johanna Zibulla| Tel.: 0160-92118236Nennschluss: 21.06.2025 \n\n\n\nNennungen per E-Mail an: hobby-horsing@reiterverein-iserlohn.deNennformular \n\n\n\n>>> Ausschreibug <<< \n\n\n\n\n\n\n\nWettbewerbe: \n\n\n\n\nDressur Prüfung M (Mittel)\n\n\n\nStil Springen S (Schwer) (90-100cm)\n\n\n\nDressur Prüfung L (Leicht)\n\n\n\nStil Springen M (Mittel) (70-80cm)\n\n\n\nDressur Wettbewerb\n\n\n\nZeit Springen M (Mittel) (70-80cm)\n\n\n\nBarrel Racing\n\n\n\nStil Springen L (Leicht) (40-50cm)\n\n\n\nGeschicklichkeits-Prüfung\n\n\n\nZeit Springen L (Leicht) (40-50cm)\n\n\n\nPax de deux L (Leicht)\n\n\n\nZeit Springen E (Einfach) (20-30cm)\n\n\n\nDressur Kür S (Schwer)\n\n\n\nMächtigkeitsspringen\n\n\n\nHallen Gelände L (Leicht) (40-60cm)
URL:https://hobby-horsing-germany.de/event/iserlohner-hobby-horse-cup-2025/
LOCATION:Reiterverein Iserlohn e.V.\, Reiterweg 16\, Iserlohn\, 58636\, Germany
CATEGORIES:Events & Turniere,Hobby Horse Veranstaltung,Nordrhein-Westfalen,Öffentliches Hobby Horse Turnier
END:VEVENT
BEGIN:VEVENT
DTSTART;TZID=Europe/Berlin:20250629T110000
DTEND;TZID=Europe/Berlin:20250629T150000
DTSTAMP:20260419T233712
CREATED:20250611T220108Z
LAST-MODIFIED:20250611T220109Z
UID:3339-1751194800-1751209200@hobby-horsing-germany.de
SUMMARY:Hobby Horsing Workshop - Schwerpunkt Springen (Baden-Württemberg)
DESCRIPTION:Hobby Horsing Workshop beim FT1844 für Teilnehmer zwischen 9-16 Jahren. \n\n\n\nVeranstalter: FT1844 (Freiburger Turnerschaft)| tanjakwiatkista@yahoo.comAnsprechpartner: Tanja Kwiatkista | Tel.: 0157/32006007Anmeldung per E-Mail an: tanjakwiatkista@yahoo.com \n\n\n\n\n\n\n\nLern-Inhalte: \n\n\n\n\nGrundlagen Springen und je nach Wunsch: Stil\, Zeit\, Glücks springen\,\n\n\n\n25 Sekunden Springen\, Gallop Rennen…
URL:https://hobby-horsing-germany.de/event/hobby-horsing-workshop-schwerpunkt-springen-baden-wuerttemberg/
LOCATION:FT1844 (Freiburger Turnerschaft)\, Schwarzwaldstraße 181\, Freiburg im Breisgau\, Baden-Württemberg\, 79117\, Germany
CATEGORIES:Baden-Württemberg,Hobby Horse Veranstaltung,Workshops und Seminare
END:VEVENT
BEGIN:VEVENT
DTSTART;TZID=Europe/Berlin:20250629T110000
DTEND;TZID=Europe/Berlin:20250629T170000
DTSTAMP:20260419T233712
CREATED:20250522T081846Z
LAST-MODIFIED:20250522T081957Z
UID:3007-1751194800-1751216400@hobby-horsing-germany.de
SUMMARY:Hobby Horsing Turnier in Walshausen (Rheinland-Pfalz)
DESCRIPTION:Hobby Horsing Turnier des RSC Walshausen e.V. in Walshausen. \n\n\n\nÖffentliches Hobby Horsing- Turnier mit verschiedenen Wettbewerben.Veranstalter: RSC Walshausen e.V. | E-Mail: kerstinmueller11@gmx.deAnsprechpartner: Kerstin Müller-Schwender | Tel.: 01724368332Nennschluss: 26.06.2025 \n\n\n\nNennung: per E-Mail \n\n\n\n\n\n\n\nWettbewerbe \n\n\n\n\nDressur Stufe 1 (WBO)\n\n\n\nDressur Stufe 2 (WBO)\n\n\n\nDressur Stufe 3 (WBO)\n\n\n\nCaprillitest (WBO)\n\n\n\nStilspringwettbewerb (WBO)\n\n\n\nFreier Springwettbewerb (WBO)\n\n\n\n\nInformationen zu den Wettbewerben nach WBO findest du hier:Wettbewerbsordnung Breitensport (WBO 2024) \n\n\n\n\n\n\n\n>>> Ausschreibung <<<
URL:https://hobby-horsing-germany.de/event/hobby-horsing-turnier-walshausen/
LOCATION: RSC Walshausen e.V.\, Mühlstr.46\, Walshausen\, Rheinland-Pfalz\, 66484\, Germany
CATEGORIES:Deutschland,Events & Turniere,Öffentliches Hobby Horse Turnier,Rheinland-Pfalz
END:VEVENT
BEGIN:VEVENT
DTSTART;TZID=Europe/Berlin:20250629T130000
DTEND;TZID=Europe/Berlin:20250629T170000
DTSTAMP:20260419T233713
CREATED:20250611T221414Z
LAST-MODIFIED:20250611T221428Z
UID:3345-1751202000-1751216400@hobby-horsing-germany.de
SUMMARY:Hobby Horsing Mitmach-Parcours & Spiele in Bahlingen a. K. (Baden-Württemberg)
DESCRIPTION:Hobby Horsing Parcours & Hobby Horsing Spiele für Teilnehmer ab 5 Jahren.  \n\n\n\nVeranstalter: Hobby Horsing Club Kaiserstuhl | andreas@hobby-horsing-kaiserstuhl.deAnsprechpartner: Andreas Karasek | Tel.: 0175/4457444 \n\n\n\n\n\n\n\nAngebot: \n\n\n\nHobby Horsing Mitmach-Angebot beim Reitverein Bahlingen e. V. mit tollen Spielen und Musik.
URL:https://hobby-horsing-germany.de/event/hobby-horsing-bahlingen/
LOCATION:Reitverein Bahlingen e. V.\, Reetzestraße 17\, Bahlingen am Kaiserstuhl\, Baden-Württemberg\, 79353\, Germany
CATEGORIES:Baden-Württemberg,Events & Turniere,Hobby Horse Veranstaltung
END:VEVENT
END:VCALENDAR