BEGIN:VCALENDAR
VERSION:2.0
PRODID:-//Hobby Horsing Germany - ECPv6.15.20//NONSGML v1.0//EN
CALSCALE:GREGORIAN
METHOD:PUBLISH
X-WR-CALNAME:Hobby Horsing Germany
X-ORIGINAL-URL:https://hobby-horsing-germany.de
X-WR-CALDESC:Veranstaltungen für Hobby Horsing Germany
REFRESH-INTERVAL;VALUE=DURATION:PT1H
X-Robots-Tag:noindex
X-PUBLISHED-TTL:PT1H
BEGIN:VTIMEZONE
TZID:Europe/Berlin
BEGIN:DAYLIGHT
TZOFFSETFROM:+0100
TZOFFSETTO:+0200
TZNAME:CEST
DTSTART:20240331T010000
END:DAYLIGHT
BEGIN:STANDARD
TZOFFSETFROM:+0200
TZOFFSETTO:+0100
TZNAME:CET
DTSTART:20241027T010000
END:STANDARD
BEGIN:DAYLIGHT
TZOFFSETFROM:+0100
TZOFFSETTO:+0200
TZNAME:CEST
DTSTART:20250330T010000
END:DAYLIGHT
BEGIN:STANDARD
TZOFFSETFROM:+0200
TZOFFSETTO:+0100
TZNAME:CET
DTSTART:20251026T010000
END:STANDARD
BEGIN:DAYLIGHT
TZOFFSETFROM:+0100
TZOFFSETTO:+0200
TZNAME:CEST
DTSTART:20260329T010000
END:DAYLIGHT
BEGIN:STANDARD
TZOFFSETFROM:+0200
TZOFFSETTO:+0100
TZNAME:CET
DTSTART:20261025T010000
END:STANDARD
END:VTIMEZONE
BEGIN:VTIMEZONE
TZID:America/Los_Angeles
BEGIN:DAYLIGHT
TZOFFSETFROM:-0800
TZOFFSETTO:-0700
TZNAME:PDT
DTSTART:20240310T100000
END:DAYLIGHT
BEGIN:STANDARD
TZOFFSETFROM:-0700
TZOFFSETTO:-0800
TZNAME:PST
DTSTART:20241103T090000
END:STANDARD
BEGIN:DAYLIGHT
TZOFFSETFROM:-0800
TZOFFSETTO:-0700
TZNAME:PDT
DTSTART:20250309T100000
END:DAYLIGHT
BEGIN:STANDARD
TZOFFSETFROM:-0700
TZOFFSETTO:-0800
TZNAME:PST
DTSTART:20251102T090000
END:STANDARD
BEGIN:DAYLIGHT
TZOFFSETFROM:-0800
TZOFFSETTO:-0700
TZNAME:PDT
DTSTART:20260308T100000
END:DAYLIGHT
BEGIN:STANDARD
TZOFFSETFROM:-0700
TZOFFSETTO:-0800
TZNAME:PST
DTSTART:20261101T090000
END:STANDARD
END:VTIMEZONE
BEGIN:VTIMEZONE
TZID:UTC
BEGIN:STANDARD
TZOFFSETFROM:+0000
TZOFFSETTO:+0000
TZNAME:UTC
DTSTART:20240101T000000
END:STANDARD
END:VTIMEZONE
BEGIN:VEVENT
DTSTART;TZID=Europe/Berlin:20250627T080000
DTEND;TZID=Europe/Berlin:20250629T180000
DTSTAMP:20260419T233616
CREATED:20250603T220011Z
LAST-MODIFIED:20250603T220820Z
UID:3238-1751011200-1751220000@hobby-horsing-germany.de
SUMMARY:Weyher Mittsommerturnier - Dressur (Niedersachsen)
DESCRIPTION:Hobby Horsing- Turnier für Teilnehmer zwischen 6-16 Jahren. \n\n\n\nÖffentliches Hobby Horsing- Turnier mit verschiedenen Wettbewerben.Veranstalter: Reitverein Sudweyhe e.V. | E-Mail: reitturnier.rvs@gmail.comAnsprechpartner: Friederike Kops | 0170/1456565Nennschluss:  16.06.2025Nennungen per E-Mail an reitturnier.rvs@gmail.com \n\n\n\n>>> Ausschreibung <<< \n\n\n\nDie Prüfung findet voraussichtlich am Samstag statt. \n\n\n\n\n\n\n\nWettbewerbe: \n\n\n\n\nHobby Horsing Dressur Stufe 2 | > Aufgabe DHH2\n\n\n\n\nWBO Turnier: Informationen zur WBO Breitensport findest du in unserem Hobby Horsing Magazin.
URL:https://hobby-horsing-germany.de/event/weyher-mittsommerturnier-dressur/
LOCATION:RV Sudweyhe e. V.\, Lahauser Str. 42a\, Weyhe-Lahausen\, Niedersachsen\, 28844\, Germany
CATEGORIES:Deutschland,Events & Turniere,Niedersachsen,Öffentliches Hobby Horse Turnier
END:VEVENT
BEGIN:VEVENT
DTSTART;TZID=America/Los_Angeles:20250628T083000
DTEND;TZID=America/Los_Angeles:20250628T160000
DTSTAMP:20260419T233616
CREATED:20250410T235807Z
LAST-MODIFIED:20250502T140724Z
UID:1985-1751099400-1751126400@hobby-horsing-germany.de
SUMMARY:Fountain Cup 04 (Baden-Württemberg)
DESCRIPTION:Privat organisiertes Hobby Horsing Turnier \n\n\n\nHobby Horsing-Turnier für Teilnehmer zwischen 5-16 Jahren.Veranstalter: Lenya Mülherr | E-Mail : lenyamulherr@gmail.comAnsprechpartner: Lenya Mülherr | Tel.: 01744279945Anmeldeschluss:  02. Mai 2025 \n\n\n\nAnmeldungen per Online-Formular \n\n\n\nNENNSCHLUSS – keine Anmeldungen mehr möglich.  \n\n\n\n\n\n\n\nWettbewerbe \n\n\n\n\nE-Springen Stiel/Zeit\n\n\n\nA-Springen Stiel/Zeit\n\n\n\nL-springen Stiel/Zeit\n\n\n\nM-Springen Stiel/Zeit\n\n\n\nDressur-L\n\n\n\nGalloprennen\n\n\n\nTonnen-Rennen\n\n\n\n\nRückfragen bitte direkt an den Veranstalter stellen: Lenya Mülherr | E-Mail : lenyamulherr@gmail.com oder Tel.: 01744279945
URL:https://hobby-horsing-germany.de/event/fountain-cup-04-baden-wuerttemberg/
LOCATION:Fountain Cup 04 – Lenya Mülherr\, Brunnhausen 15\, Brunnhausen\, Baden-Württemberg\, 88630\, Germany
CATEGORIES:Baden-Württemberg,Deutschland,Hobby Horse Veranstaltung,Öffentliches Hobby Horse Turnier
END:VEVENT
BEGIN:VEVENT
DTSTART;TZID=UTC:20250628T110000
DTEND;TZID=UTC:20250628T170000
DTSTAMP:20260419T233616
CREATED:20250214T124048Z
LAST-MODIFIED:20250328T094927Z
UID:583-1751108400-1751130000@hobby-horsing-germany.de
SUMMARY:Cross Country Training (Bayern)
DESCRIPTION:Hobby Horsing Workshop – Cross Country Training von „The Munic Riders Crew“ – Katharina Rambold in Lochhausen | \n\n\n\nHobby Horsing-Workshop mit Katharina RamboldVeranstalter: The Munic Riders Crew | E-Mail: katharinarambold@gmail.comAnsprechpartner: Katharina Rambold | Tel.: 0171/8297313Nennschluss:  \n\n\n\n\n\n\n\nLern-Inhalte \n\n\n\n\nCross Country Springen\n\n\n\nVerschiedene Untergründe\n\n\n\nStufen Sprünge\n\n\n\nFeste Sprünge\n\n\n\n\n\n\n\n\nFür Versorgung muss selbst gesorgt werden. \n\n\n\nBei schlechtem Wetter entfällt das Training (auch wenn’s die Tage vorher geregnet hat) \n\n\n\nBitte richte Rückfragen direkt an den Veranstalter: Katharina Rambold\, E-Mail: katharinarambold@gmail.com\, Tel.: 0171/8297313
URL:https://hobby-horsing-germany.de/event/cross-country-training-bayern/
LOCATION:The Munic Riders Crew\, Ziegeleistraße 14\, Lochhausen\, Bayern\, 81249\, Germany
CATEGORIES:Bayern,Deutschland,Workshops und Seminare
ORGANIZER;CN="The Munic Riders Crew":MAILTO:katharinarambold@gmail.com
END:VEVENT
BEGIN:VEVENT
DTSTART;TZID=Europe/Berlin:20250628T120000
DTEND;TZID=Europe/Berlin:20250628T160000
DTSTAMP:20260419T233616
CREATED:20250611T232339Z
LAST-MODIFIED:20250612T000834Z
UID:3368-1751112000-1751126400@hobby-horsing-germany.de
SUMMARY:Sommerturnier in Hasslinghausen (Nordrhein-Westfalen)
DESCRIPTION:Hobby Horsing- Turnier für Teilnehmer zwischen 3-16 Jahren. \n\n\n\nÖffentliches Hobby Horsing- Turnier mit verschiedenen Wettbewerben.Veranstalter: Reiten NRW | E-Mail: info@reiten-nrw.deAnsprechpartner: Annika Piorreck | 0157/89258452Nennschluss:  18.06.2025 \n\n\n\n>>> Ausschreibung <<< \n\n\n\n\nOnline anmelden\n\n\n\n\n\n\n\n\nWettbewerbe: \n\n\n\n\nZeitspringen Kl. A – 40cm\n\n\n\nA Dressur (Stufe 2 nach WBO)\n\n\n\n\nWBO Turnier: Informationen zur WBO Breitensport findest du im Hobby Horsing Magazin.
URL:https://hobby-horsing-germany.de/event/sommerturnier-in-hasslinghausen/
LOCATION:reiten-nrw.de\, Friedhofstr. 3\, Hasslinghausen\, Nordrhein-Westfalen\, 45549\, Germany
CATEGORIES:Events & Turniere,Hobby Horse Veranstaltung,Nordrhein-Westfalen,Öffentliches Hobby Horse Turnier
END:VEVENT
BEGIN:VEVENT
DTSTART;TZID=Europe/Berlin:20250628T120000
DTEND;TZID=Europe/Berlin:20250629T153000
DTSTAMP:20260419T233616
CREATED:20250614T224215Z
LAST-MODIFIED:20250614T224321Z
UID:3440-1751112000-1751211000@hobby-horsing-germany.de
SUMMARY:Hobby Horsing Turnier in Thierhaupten – (Bayern)
DESCRIPTION:Hobby Horsing- Turnier für Teilnehmer zwischen 6-14 Jahren. \n\n\n\nÖffentliches Hobby Horsing- Turnier mit verschiedenen Wettbewerben.Veranstalter: Reitverein Thierhaupten/Ötz e.V. | E-Mail: hildegard-steiner@t-online.deAnsprechpartner: Hildegard Steiner | 0177-2130370Nennschluss:  27.06.2025Nennungen per E-Mail an hildegard-steiner@t-online.de \n\n\n\n>>> Ausschreibung <<< \n\n\n\n>>> Nennformular <<< \n\n\n\n\n\n\n\nWettbewerbe: \n\n\n\n\n28.06.2025 Hobby Horsing Dressur DHH1 (WBO)\n\n\n\n29.06.2025 Hobby Horsing Stilspringen 20-40 cm\n\n\n\n\nWBO Turnier: Informationen zur WBO Breitensport findest du in unserem Hobby Horsing Magazin.
URL:https://hobby-horsing-germany.de/event/hobby-horsing-turnier-in-thierhaupten/
LOCATION:Reitverein Thierhaupten//Ötz e.V.\, Thierhauptener Str. 6\, Thierhaupten\, Bayern\, 86672\, Germany
CATEGORIES:Bayern,Events & Turniere,Hobby Horse Veranstaltung,Öffentliches Hobby Horse Turnier
ATTACH;FMTTYPE=image/jpeg:https://hobby-horsing-germany.de/wp-content/uploads/2025/06/LOGO_neu1-1.jpg
END:VEVENT
BEGIN:VEVENT
DTSTART;TZID=America/Los_Angeles:20250628T130000
DTEND;TZID=America/Los_Angeles:20250628T173000
DTSTAMP:20260419T233616
CREATED:20250222T135614Z
LAST-MODIFIED:20250328T095011Z
UID:1031-1751115600-1751131800@hobby-horsing-germany.de
SUMMARY:1. Hobby Horse Turnier beim TV Ratingen 1865 e.V. (Nordrhein-Westfalen)
DESCRIPTION:Öffentliches Hobby Horsing- Turnier für Teilnehmer zw. 5-18 Jahren in 40878 Ratingen. \n\n\n\n\n\n\n\nVeranstalter:  TV Ratingen 1865 e.V. | E-Mail: info@tv-ratingen.de.Ansprechpartner: Sonja Reidenbach | Tel.: 02102-20960.Nennschluss: 15. Juni 2025. \n\n\n\nNennungen: Die Anmeldung erfolgt online über die Homepage oder die TV Ratingen App (Mitgliederportal). \n\n\n\n\n\n\n\nWettbewerbe: \n\n\n\n\nZeitspringen „mit Kostüm“ (5-7 Jahre) 20/30cm je nach Bodenbelag\n\n\n\nZeitspringen „mit Kostüm“ (7-18 Jahre) 40cm\n\n\n\nZeitspringen „mit Kostüm“ (8-18 Jahre) 50/60cm je nach Bodenbelag\n\n\n\nStilspringen (8-18 Jahre) 40cm\n\n\n\n\n\n\n\n\nAnmerkungen: Je nach Wetterbedingungen am Veranstaltungstag wird auf Sand (Beachhandballfeld) oder auf überdachtem Kunstrasen (Sparkassenarena) das Turnier ausgetragen.Alle Informationen zu den Bestimmungen und zu den Prüfungen stehen in der Ausschreibung (Download). \n\n\n\n\n\n\n\nRückfragen bitte direkt an den Veranstalter richten: Sonja Reidenbach | Tel.: 02102-20960 | E-Mail: info@tv-ratingen.de. \n\n\n\n>> Ausschreibung und Nennformular <<
URL:https://hobby-horsing-germany.de/event/1-hobby-horse-turnier-beim-tv-ratingen/
LOCATION:TV Ratingen 1865 e.V.\, Stadionring 5\, Ratingen\, Nordrhein-Westfalen\, 40878\, Germany
CATEGORIES:Deutschland,Nordrhein-Westfalen,Öffentliches Hobby Horse Turnier
ORGANIZER;CN="TV Ratingen 1865 e.V.":MAILTO:info@tv-ratingen.de
END:VEVENT
END:VCALENDAR