BEGIN:VCALENDAR
VERSION:2.0
PRODID:-//Hobby Horsing Germany - ECPv6.15.20//NONSGML v1.0//EN
CALSCALE:GREGORIAN
METHOD:PUBLISH
X-WR-CALNAME:Hobby Horsing Germany
X-ORIGINAL-URL:https://hobby-horsing-germany.de
X-WR-CALDESC:Veranstaltungen für Hobby Horsing Germany
REFRESH-INTERVAL;VALUE=DURATION:PT1H
X-Robots-Tag:noindex
X-PUBLISHED-TTL:PT1H
BEGIN:VTIMEZONE
TZID:America/Los_Angeles
BEGIN:DAYLIGHT
TZOFFSETFROM:-0800
TZOFFSETTO:-0700
TZNAME:PDT
DTSTART:20240310T100000
END:DAYLIGHT
BEGIN:STANDARD
TZOFFSETFROM:-0700
TZOFFSETTO:-0800
TZNAME:PST
DTSTART:20241103T090000
END:STANDARD
BEGIN:DAYLIGHT
TZOFFSETFROM:-0800
TZOFFSETTO:-0700
TZNAME:PDT
DTSTART:20250309T100000
END:DAYLIGHT
BEGIN:STANDARD
TZOFFSETFROM:-0700
TZOFFSETTO:-0800
TZNAME:PST
DTSTART:20251102T090000
END:STANDARD
BEGIN:DAYLIGHT
TZOFFSETFROM:-0800
TZOFFSETTO:-0700
TZNAME:PDT
DTSTART:20260308T100000
END:DAYLIGHT
BEGIN:STANDARD
TZOFFSETFROM:-0700
TZOFFSETTO:-0800
TZNAME:PST
DTSTART:20261101T090000
END:STANDARD
END:VTIMEZONE
BEGIN:VEVENT
DTSTART;TZID=America/Los_Angeles:20250615T100000
DTEND;TZID=America/Los_Angeles:20250615T170000
DTSTAMP:20260419T233715
CREATED:20250316T044523Z
LAST-MODIFIED:20250328T094448Z
UID:1282-1749981600-1750006800@hobby-horsing-germany.de
SUMMARY:Aktionstag für Kinder - Gartenschau 2025 - Baden-Württemberg
DESCRIPTION:Hobby Horsing Parcours zum Ausprobieren – für Kinder im Treffpunkt Baden-Württemberg. \n\n\n\nDer Deutsche Hobby Horsing Verband lädt bei der Landesgartenschau zu spannenden Aktionstagen ein! Kinder ab 6 Jahren können verschiedene Parcours testen\, während für die Jüngeren (ab 3 Jahren) ein eigener Bereich bereitsteht. Bring dein eigenes Hobby Horse mit oder leihe dir eines vor Ort aus – Spaß und Bewegung sind garantiert! \n\n\n\nWeitere Infos unter: www.tal-x.de/veranstaltungen
URL:https://hobby-horsing-germany.de/event/aktionstag-fuer-kinder-gartenschau-2025-baden-wuerttemberg/
LOCATION:Landesgartenschau Baden-Württemberg\, Freudenstadt und Baiersbronn\, Baden-Württemberg\, 72270\, Germany
CATEGORIES:Baden-Württemberg,Deutschland,Hobby Horse Veranstaltung
ATTACH;FMTTYPE=image/jpeg:https://hobby-horsing-germany.de/wp-content/uploads/2025/03/Hobby-Horsing-Aktionstage-mit-Andreas-Karasek.jpg
END:VEVENT
BEGIN:VEVENT
DTSTART;TZID=America/Los_Angeles:20250615T100000
DTEND;TZID=America/Los_Angeles:20250615T170000
DTSTAMP:20260419T233715
CREATED:20250403T011016Z
LAST-MODIFIED:20250603T170708Z
UID:1961-1749981600-1750006800@hobby-horsing-germany.de
SUMMARY:Hobby Horse Trainerschulung in Witten-Herbede  (Nordrhein-Westfalen)
DESCRIPTION:Hobby Horse Trainerschulung in Witten-Herbede – Anerkannt vom DtHHV. \n\n\n\nHobby Horse Trainerschulung des RV Herbede Ruhr – Dozentin: Mona DörpfeldVeranstalter: RFV Herbede-Ruhr e.V. | E-Mail : info@rv-herbederuhr.deAnsprechpartner: Yannic Buchner | Tel.: 01782841368Anmeldeschluss:  01.06.2025 \n\n\n\nNennschluss \n\n\n\n\n\n\n\n\n\n\n\nProgramm: \n\n\n\nHobby Horse TrainerschulungIn diesem Intensivkurs behandeln wir in Theorie und Praxis die Gestaltung des Hobby Horse Trainings. Die Veranstaltung wird von Mona Dörpfeld (Hobby Horse Gruppenleiterin) gehalten. Sie richtet sich an neue sowie bereits aktive Trainer. \n\n\n\nMittagessen: In der Pause können Essen und Getränke käuflich erworben werden. \n\n\n\nKosten:  \n\n\n\n\nTeilnehmer ab 18 Jahre: Kurs 10-17 Uhr – 100€\n\n\n\nTeilnehmer bis 17 Jahre: Kurs 10-17 Uhr – 80€
URL:https://hobby-horsing-germany.de/event/hobby-horse-trainerschulung-in-witten-herbede-nordrhein-westfalen/
LOCATION:Reit- und Fahrverein Herbede-Ruhr e.V.\, Krünerstraße 52\, Witten\, Nordrhein-Westfalen\, 58456\, Germany
CATEGORIES:Deutschland,Hobby Horse Veranstaltung,Hobby Horsing Event DtHHV,Nordrhein-Westfalen,Workshops und Seminare
ATTACH;FMTTYPE=image/jpeg:https://hobby-horsing-germany.de/wp-content/uploads/2025/04/Anerkannte-Schulung.jpeg
ORGANIZER;CN="Reit- und Fahrverein Herbede-Ruhr e.V.":MAILTO:info@rv-herbederuhr.de
END:VEVENT
END:VCALENDAR