BEGIN:VCALENDAR
VERSION:2.0
PRODID:-//Hobby Horsing Germany - ECPv6.15.20//NONSGML v1.0//EN
CALSCALE:GREGORIAN
METHOD:PUBLISH
X-WR-CALNAME:Hobby Horsing Germany
X-ORIGINAL-URL:https://hobby-horsing-germany.de
X-WR-CALDESC:Veranstaltungen für Hobby Horsing Germany
REFRESH-INTERVAL;VALUE=DURATION:PT1H
X-Robots-Tag:noindex
X-PUBLISHED-TTL:PT1H
BEGIN:VTIMEZONE
TZID:Europe/Berlin
BEGIN:DAYLIGHT
TZOFFSETFROM:+0100
TZOFFSETTO:+0200
TZNAME:CEST
DTSTART:20240331T010000
END:DAYLIGHT
BEGIN:STANDARD
TZOFFSETFROM:+0200
TZOFFSETTO:+0100
TZNAME:CET
DTSTART:20241027T010000
END:STANDARD
BEGIN:DAYLIGHT
TZOFFSETFROM:+0100
TZOFFSETTO:+0200
TZNAME:CEST
DTSTART:20250330T010000
END:DAYLIGHT
BEGIN:STANDARD
TZOFFSETFROM:+0200
TZOFFSETTO:+0100
TZNAME:CET
DTSTART:20251026T010000
END:STANDARD
BEGIN:DAYLIGHT
TZOFFSETFROM:+0100
TZOFFSETTO:+0200
TZNAME:CEST
DTSTART:20260329T010000
END:DAYLIGHT
BEGIN:STANDARD
TZOFFSETFROM:+0200
TZOFFSETTO:+0100
TZNAME:CET
DTSTART:20261025T010000
END:STANDARD
END:VTIMEZONE
BEGIN:VEVENT
DTSTART;TZID=Europe/Berlin:20250614T100000
DTEND;TZID=Europe/Berlin:20250614T160000
DTSTAMP:20260419T233709
CREATED:20250603T232737Z
LAST-MODIFIED:20250611T210716Z
UID:3253-1749895200-1749916800@hobby-horsing-germany.de
SUMMARY:Hobby Horsing Kurs zum Kennenlernen in Lingen (Niedersachsen)
DESCRIPTION:Seminar Anfänger & Fortgeschritten in zwei Altersgruppen: \n\n\n\n\n5-9 jährige: von 10:00 Uhr bis 12:30 Uhr.\n\n\n\n10-15 jährige von 13:30 Uhr bis 16:00 Uhr\n\n\n\n\nÖffentlicher Hobby Horsing Kurs für Teilnehmer zwischen 5-15 JahrenVeranstalter: HobbyHorsing Hümmling | E-Mail: hobbyhorsing.huemmling@gmail.comAnsprechpartner: Anke Werbach| Tel.: 0172/359 50 22Nennschluss:  \n\n\n\n\n\n\n\nℍ𝕠𝕓𝕓𝕪𝕙𝕠𝕣𝕤𝕚𝕟𝕘.𝕙𝕦𝕖𝕞𝕞𝕝𝕚𝕟𝕘Hey! Ich bin Anke – HobbyHorse-Trainerin mit ganz viel Herz!Ich komme aus dem schönen 🅢🅞🅔🅖🅔🅛 [49751] im Emsland und liebe es\, mit Kindern und Jugendlichen gemeinsam aktiv zu sein.Neben meinem wöchentlichen Training in einer Sporthalle in Sögel gebe ich auch tolle Hobbyhorse-Seminare in 🅛🅘🅝🅖🅔🅝 und🅟🅐🅟🅔🅝🅑🅤🅡🅖! 🐴🏃🏽‍♀️💪🏼 \n\n\n\n𝐄𝐢𝐧 𝐩𝐚𝐚𝐫 𝐓𝐞𝐫𝐦𝐢𝐧𝐞 𝐬𝐭𝐞𝐡𝐞𝐧 𝐬𝐜𝐡𝐨𝐧 𝐟𝐞𝐬𝐭 – und es sind noch Plätze frei!Also\, wenn du Lust hast auf Bewegung\, Spaß und ganz viele nette Menschen\, dann melde dich schnell an. \n\n\n\nIch freue mich riesig auf dich!Bis bald – sportliche Grüße Anke
URL:https://hobby-horsing-germany.de/event/hobby-horsing-kennenlernen-lingen/
LOCATION:HobbyHorsing Hümmling – Anke Werbach\, Turnhalle\, Elsterstr. 1\, Lingen\, Niedersachsen\, 49808\, Germany
CATEGORIES:Deutschland,Events & Turniere,Hobby Horse Veranstaltung,Niedersachsen
END:VEVENT
END:VCALENDAR