BEGIN:VCALENDAR
VERSION:2.0
PRODID:-//Hobby Horsing Germany - ECPv6.15.20//NONSGML v1.0//EN
CALSCALE:GREGORIAN
METHOD:PUBLISH
X-WR-CALNAME:Hobby Horsing Germany
X-ORIGINAL-URL:https://hobby-horsing-germany.de
X-WR-CALDESC:Veranstaltungen für Hobby Horsing Germany
REFRESH-INTERVAL;VALUE=DURATION:PT1H
X-Robots-Tag:noindex
X-PUBLISHED-TTL:PT1H
BEGIN:VTIMEZONE
TZID:UTC
BEGIN:STANDARD
TZOFFSETFROM:+0000
TZOFFSETTO:+0000
TZNAME:UTC
DTSTART:20240101T000000
END:STANDARD
END:VTIMEZONE
BEGIN:VTIMEZONE
TZID:America/Los_Angeles
BEGIN:DAYLIGHT
TZOFFSETFROM:-0800
TZOFFSETTO:-0700
TZNAME:PDT
DTSTART:20240310T100000
END:DAYLIGHT
BEGIN:STANDARD
TZOFFSETFROM:-0700
TZOFFSETTO:-0800
TZNAME:PST
DTSTART:20241103T090000
END:STANDARD
BEGIN:DAYLIGHT
TZOFFSETFROM:-0800
TZOFFSETTO:-0700
TZNAME:PDT
DTSTART:20250309T100000
END:DAYLIGHT
BEGIN:STANDARD
TZOFFSETFROM:-0700
TZOFFSETTO:-0800
TZNAME:PST
DTSTART:20251102T090000
END:STANDARD
BEGIN:DAYLIGHT
TZOFFSETFROM:-0800
TZOFFSETTO:-0700
TZNAME:PDT
DTSTART:20260308T100000
END:DAYLIGHT
BEGIN:STANDARD
TZOFFSETFROM:-0700
TZOFFSETTO:-0800
TZNAME:PST
DTSTART:20261101T090000
END:STANDARD
END:VTIMEZONE
BEGIN:VEVENT
DTSTART;TZID=UTC:20250607T080000
DTEND;TZID=UTC:20250608T180000
DTSTAMP:20260419T233546
CREATED:20250214T124611Z
LAST-MODIFIED:20250517T155719Z
UID:589-1749283200-1749405600@hobby-horsing-germany.de
SUMMARY:Hobby Horsing Turnier SC Mommenheim (Rheinland-Pfalz)
DESCRIPTION:Hobby Horsing Turnier des SC Mommenheim e. V. undQualifikationsprüfungen für die 2. Deutsche Meisterschaft 2026 (DtHHV) \n\n\n\nÖffentliches Hobby Horsing- Turnier mit verschiedenen Wettbewerben für Teilnehmer ab 6 Jahren. \n\n\n\nVeranstalter: SC Mommenheim e. V. | hobbyhorsing@sc-mommenheim.deAnsprechpartner: Tina Gardt | Tel.: 0170-3509875 | hobbyhorsing@sc-mommenheim.deNennschluss: 15.05.2025 \n\n\n\nNennschluss. Keine Anmeldungen mehr möglich. \n\n\n\n\n\n\n\n\n\n\n\n>>> Ausschreibung <<< \n\n\n\n\nQualifikationsprüfungen für die 2. Deutsche Meisterschaft 2026 – NENNSCHLUSS \n\n\n\nfür Hessen\, Rheinland-Pfalz und Saarland \n\n\n\n\nDressur schwer – U12\, U15\, U21\, U31\, U99\n\n\n\nStilspringen mittel\, schwer – U12\, U15\, U21\, U31\, U99\n\n\n\n Zeitspringen mittel\, schwer  U12\, U15\, U21\, U31\, U99\n\n\n\n\nInformationen zur Teilnahme an den Qualifikationsturnieren findest du hier: www.dthhv.de \n\n\n\n\n\n\n\n\nTurnier-Wettbewerbe – NENNSCHLUSS \n\n\n\nWettbewerbe für die Altersgruppen U15\, U21\, U31 finden am Samstag\, 07.06.2025 statt.Wettbewerbe für die Altersgruppen U6\, U9\, U12\, U31\, U99 finden am Sonntag\, 08.06.2025 statt. \n\n\n\n\nTurnier-Wettbewerbe SC Mommenheim \n\n\n\n\nDressur leicht – U9 und U12\n\n\n\nDressur mittel – U9\, U12\, U15\, U21\, U31\, U99\n\n\n\nDressur schwer – U12\, U15\, U21\n\n\n\nDressur schwer – U12\, U15\, U21\n\n\n\nStilspringen leicht (30 cm) U9\, U12\, U31\, U99\n\n\n\nStilspringen mittel (50 cm) U12\, U15\, U21\, U31\n\n\n\nStilspringen schwer (70 cm) U15\, U21\, U31\n\n\n\nZeitspringen leicht (30 cm) U9\, U12\, U15\, U21\, U31\, U99\n\n\n\nZeitspringen mittel (50 cm) U12\, U15\, U21\, U31\n\n\n\nZeitspringen schwer (70 cm) U15\, U21\, U31\n\n\n\n25-Sekunden-Springen (40 cm) U9\, U12\, U15\, U21\, U31\n\n\n\nMannschaftsspringen (50 cm) U9/U12\, U15/U21\n\n\n\nAllrounder U9\, U12\, U15\, U21\n\n\n\nMannschaftskür U9/U12\, U15/U21\n\n\n\nMannschaftsspringen U9/U12\, U15/U21\n\n\n\n\n\nNENNSCHLUSS \n\n\n\n\n\n\n\n\n\n\n\n\n\n\n\nRückfragen sind direkt an den Veranstalter zu richten: Tina Gardt | Tel.: 0170-3509875 | hobbyhorsing@sc-mommenheim.de.
URL:https://hobby-horsing-germany.de/event/hobby-horsing-turnier-sc-mommenheim/
LOCATION:SC Mommenheim e. V.\, Rossbergstr. 2\, Nierstein\, Rheinland-Pfalz\, 55283\, Germany
CATEGORIES:Deutschland,Öffentliches Hobby Horse Turnier,Rheinland-Pfalz
ATTACH;FMTTYPE=image/jpeg:https://hobby-horsing-germany.de/wp-content/uploads/2025/05/Qualifiktionsturnier-2025-2026.jpeg
END:VEVENT
BEGIN:VEVENT
DTSTART;TZID=America/Los_Angeles:20250607T090000
DTEND;TZID=America/Los_Angeles:20250608T180000
DTSTAMP:20260419T233546
CREATED:20250214T155008Z
LAST-MODIFIED:20250328T094205Z
UID:927-1749286800-1749405600@hobby-horsing-germany.de
SUMMARY:2. Hobby Horsing Cup (Nordrhein-Westfalen)
DESCRIPTION:Hobby Horsing Turnier des Reitverein Infinitus e.V. \n\n\n\n \n\n\n\nÖffentliches Hobby Horsing- Turnier für Teilnehmer ab 6 Jahren.Veranstalter: Reitverein Infinitus e.V. | E-Mail: turnier@stueterhof.deAnsprechpartner: Heike Seidel / Antonia Oster | Tel.: 0171/1133501Nennschluss: 24.05.2025 \n\n\n\nNennung per E-Mail an: turnier@stueterhof.de \n\n\n\n \n\n\n\nWettbewerbe: \n\n\n\nInsgesamt ca. 20 Prüfungen. Darunter \n\n\n\n\nZeitspringen\n\n\n\nStilspringen\n\n\n\nDressur\n\n\n\nPas de deux\n\n\n\nGalopprennen\n\n\n\n\nRückfragen bitte direkt an den Veranstalter richten: Heike Seidel / Antonia Oster | Tel.: 0171/1133501 | E-Mail: turnier@stueterhof.de \n\n\n\n \n\n\n\n>>Ausschreibung folgt<<
URL:https://hobby-horsing-germany.de/event/2-hobby-horsing-cup/
LOCATION:Reitverein Infinitus e.V.\, An der Egge 85\, Hattingen\, Nordrhein-Westfalen\, 45527\, Germany
CATEGORIES:Deutschland,Nordrhein-Westfalen,Öffentliches Hobby Horse Turnier
ORGANIZER;CN="Reitverein Infinitus e.V.":MAILTO:turnier@stueterhof.de
END:VEVENT
END:VCALENDAR