BEGIN:VCALENDAR
VERSION:2.0
PRODID:-//Hobby Horsing Germany - ECPv6.15.20//NONSGML v1.0//EN
CALSCALE:GREGORIAN
METHOD:PUBLISH
X-WR-CALNAME:Hobby Horsing Germany
X-ORIGINAL-URL:https://hobby-horsing-germany.de
X-WR-CALDESC:Veranstaltungen für Hobby Horsing Germany
REFRESH-INTERVAL;VALUE=DURATION:PT1H
X-Robots-Tag:noindex
X-PUBLISHED-TTL:PT1H
BEGIN:VTIMEZONE
TZID:UTC
BEGIN:STANDARD
TZOFFSETFROM:+0000
TZOFFSETTO:+0000
TZNAME:UTC
DTSTART:20240101T000000
END:STANDARD
END:VTIMEZONE
BEGIN:VTIMEZONE
TZID:Europe/Berlin
BEGIN:DAYLIGHT
TZOFFSETFROM:+0100
TZOFFSETTO:+0200
TZNAME:CEST
DTSTART:20240331T010000
END:DAYLIGHT
BEGIN:STANDARD
TZOFFSETFROM:+0200
TZOFFSETTO:+0100
TZNAME:CET
DTSTART:20241027T010000
END:STANDARD
BEGIN:DAYLIGHT
TZOFFSETFROM:+0100
TZOFFSETTO:+0200
TZNAME:CEST
DTSTART:20250330T010000
END:DAYLIGHT
BEGIN:STANDARD
TZOFFSETFROM:+0200
TZOFFSETTO:+0100
TZNAME:CET
DTSTART:20251026T010000
END:STANDARD
BEGIN:DAYLIGHT
TZOFFSETFROM:+0100
TZOFFSETTO:+0200
TZNAME:CEST
DTSTART:20260329T010000
END:DAYLIGHT
BEGIN:STANDARD
TZOFFSETFROM:+0200
TZOFFSETTO:+0100
TZNAME:CET
DTSTART:20261025T010000
END:STANDARD
END:VTIMEZONE
BEGIN:VEVENT
DTSTART;TZID=UTC:20250529T110000
DTEND;TZID=UTC:20250601T180000
DTSTAMP:20260419T232620
CREATED:20250214T125300Z
LAST-MODIFIED:20250528T231504Z
UID:593-1748516400-1748800800@hobby-horsing-germany.de
SUMMARY:Hobby Horsing beim Deutschen Turnerfest in Leipzig (Sachsen)
DESCRIPTION:🌟 Hobby Horsing beim Internationalen Deutschen Turnfest 2025 in Leipzig! 🌟 \n\n\n\nSei dabei! Beim Internationalen Deutschen Turnfest 2025 erwartet dich eine einzigartige Mischung aus Mitmachaktionen\, spannenden Parcours und wertvollen Informationen rund um den Sport. \n\n\n\n💥 Highlights:🐴 Hobby Horsing Parcours – Probiere es selbst aus und teste deine Geschicklichkeit!📚 Infostand – Erhalte spannende Einblicke in die Welt des Hobby Horsings. Von der Entstehung bis zu aktuellen Trends – wir informieren dich umfassend!🎓 Aus- und Weiterbildungsangebote – Erfahre alles über Trainingsmöglichkeiten\, Workshops und wie du Hobby Horsing Trainer*in werden kannst. \n\n\n\nOb Neuling oder erfahrener Hobby Horser – es ist für alle etwas dabei! Schnapp dir dein Hobby Horse und werde Teil dieses unvergesslichen Erlebnisses. \n\n\n\nKomm vorbei und galoppiere mit uns durch das Turnfest! \n\n\n\n\nStandort auf Google Maps öffnen
URL:https://hobby-horsing-germany.de/event/internationales-deutsches-turnerfest-in-leipzig-sachsen/
LOCATION:Das Turnerfest in Leipzig – Festwiese (Red Bull Station/Glockenturm)\, Am Sportforum 1\, Leipzig\, Sachsen\, 04105\, Germany
CATEGORIES:Deutschland,Hobby Horse Veranstaltung,Hobby Horsing Event DtHHV,Sachsen
END:VEVENT
BEGIN:VEVENT
DTSTART;TZID=Europe/Berlin:20250531T130000
DTEND;TZID=Europe/Berlin:20250601T143000
DTSTAMP:20260419T232620
CREATED:20250515T225807Z
LAST-MODIFIED:20250515T230256Z
UID:2889-1748696400-1748788200@hobby-horsing-germany.de
SUMMARY:Hobby Horse Vorführung auf der PferdInternational (Bayern)
DESCRIPTION:Hobby Horsing Vorführung bei der der Messe PferdInternational München auf dem Olympia Reitgelände in München-Riem. \n\n\n\nAkteure: Hobby Horse Kids von Fablehorse Hobby Horses München Ansprechpartner: Ria Koch | Tel.: 0160/5414415
URL:https://hobby-horsing-germany.de/event/pferdinternational-2025-mit-fablehorse/
LOCATION:Pferd International 2025\, Olympia Reitgelände\, München-Riem\, Bayern\, 81735\, Germany
CATEGORIES:Bayern,Deutschland,Events & Turniere,Hobby Horse Veranstaltung
END:VEVENT
END:VCALENDAR