BEGIN:VCALENDAR
VERSION:2.0
PRODID:-//Hobby Horsing Germany - ECPv6.15.20//NONSGML v1.0//EN
CALSCALE:GREGORIAN
METHOD:PUBLISH
X-WR-CALNAME:Hobby Horsing Germany
X-ORIGINAL-URL:https://hobby-horsing-germany.de
X-WR-CALDESC:Veranstaltungen für Hobby Horsing Germany
REFRESH-INTERVAL;VALUE=DURATION:PT1H
X-Robots-Tag:noindex
X-PUBLISHED-TTL:PT1H
BEGIN:VTIMEZONE
TZID:America/Los_Angeles
BEGIN:DAYLIGHT
TZOFFSETFROM:-0800
TZOFFSETTO:-0700
TZNAME:PDT
DTSTART:20240310T100000
END:DAYLIGHT
BEGIN:STANDARD
TZOFFSETFROM:-0700
TZOFFSETTO:-0800
TZNAME:PST
DTSTART:20241103T090000
END:STANDARD
BEGIN:DAYLIGHT
TZOFFSETFROM:-0800
TZOFFSETTO:-0700
TZNAME:PDT
DTSTART:20250309T100000
END:DAYLIGHT
BEGIN:STANDARD
TZOFFSETFROM:-0700
TZOFFSETTO:-0800
TZNAME:PST
DTSTART:20251102T090000
END:STANDARD
BEGIN:DAYLIGHT
TZOFFSETFROM:-0800
TZOFFSETTO:-0700
TZNAME:PDT
DTSTART:20260308T100000
END:DAYLIGHT
BEGIN:STANDARD
TZOFFSETFROM:-0700
TZOFFSETTO:-0800
TZNAME:PST
DTSTART:20261101T090000
END:STANDARD
END:VTIMEZONE
BEGIN:VEVENT
DTSTART;TZID=America/Los_Angeles:20250525T090000
DTEND;TZID=America/Los_Angeles:20250525T180000
DTSTAMP:20260420T023351
CREATED:20250321T040642Z
LAST-MODIFIED:20250328T050047Z
UID:1532-1748163600-1748196000@hobby-horsing-germany.de
SUMMARY:Hobby Horsing Turnier auf dem Ludwigsburger Pferdemarkt (Baden-Württemberg)
DESCRIPTION:Ludwigsburger Hobby Horse Turnier – Bärenwiese West \n\n\n\nÖffentliches Hobby Horsing- Turnier für Teilnehmer ab 5 Jahren.Veranstalter: Tourismus & Events Ludwigsburg & DtHHV | E-Mail: nennung@dthhv.deAnsprechpartner: Vanessa Warncke | 015227424465Nennschluss: 15.04.2025 \n\n\n\nNennungen per E-Mail mit dem Nennformular \n\n\n\n\n\n\n\nWettbewerbe \n\n\n\n\nGlücksspringen leicht 30cm\n\n\n\nGlücksspringen schwer 60cm\n\n\n\nSynchronspringen\n\n\n\n25- Sekunden-Springen 40 cm\n\n\n\n\nWeitere Wettbewerbe – bereits ausgebucht – \n\n\n\n\nDressur Mittel\n\n\n\nDressur Schwer\n\n\n\n\n\n\n\n\n>>> Ausschreibung & Nennformular <<< \n\n\n\nRückfragen sind bitte an Vanessa Warncke (DtHHV) per E-Mail an nennung@dthhv.de zu richten.
URL:https://hobby-horsing-germany.de/event/hobby-horsing-turnier-auf-dem-ludwigsburger-pferdemarkt-baden-wuerttemberg/
LOCATION:Bärenwiese in Ludwigsburg\, Ludwigsburg\, Baden-Württemberg\, Germany
CATEGORIES:Baden-Württemberg,Deutschland,Hobby Horse Veranstaltung,Hobby Horsing Event DtHHV,Öffentliches Hobby Horse Turnier
ATTACH;FMTTYPE=image/webp:https://hobby-horsing-germany.de/wp-content/uploads/2025/02/DtHHV_Logo_RGB_300dpi.webp
END:VEVENT
BEGIN:VEVENT
DTSTART;TZID=America/Los_Angeles:20250525T100000
DTEND;TZID=America/Los_Angeles:20250525T140000
DTSTAMP:20260420T023351
CREATED:20250214T162552Z
LAST-MODIFIED:20250427T133953Z
UID:933-1748167200-1748181600@hobby-horsing-germany.de
SUMMARY:Hobby Horsing Turnier beim RFV Durmersheim e.V. (Baden-Württemberg)
DESCRIPTION:Hobby Horsing Turnier beim Reit- und Fahrverein Durmersheim e.V mit Familienfest. \n\n\n\n \n\n\n\nÖffentliches Hobby Horsing- Turnier für Teilnehmer ab 6 Jahren.Veranstalter: Kerstin Johannsen | E-Mail: SteckenpferdEttlingen@web.deAnsprechpartner: Freya JohannsenVerpflegung wird vom Reit- und Fahrverein Durmersheim e.V angeboten. Nennschluss: 27.04.2025 \n\n\n\nNennungen: NENNSCHLUSS – keine Anmeldungen mehr möglich. \n\n\n\n \n\n\n\nWettbewerbe: \n\n\n\n\nReiter-Wettbewerb (U6)\n\n\n\nDressur Leicht\n\n\n\nDressur Mittel\n\n\n\nDressur Schwer\n\n\n\nZeitspringen (20cm – 80 cm)\n\n\n\nStilspringen (30cm – 80cm)\n\n\n\nWahl-Springen (60cm – 80 cm)\n\n\n\n\nDie Anzahl der Starter ist begrenzt. \n\n\n\nRückfragen sind bitte an den Veranstalter zu richten: Ansprechpartner: Freya Johannsen | E-Mail: SteckenpferdEttlingen@web.de \n\n\n\n \n\n\n\n>>Ausschreibung>> \n\n\n\n\n\n>>  NENNSCHLUSS <<
URL:https://hobby-horsing-germany.de/event/hobby-horsing-turnier-beim-rfv-durmersheim-e-v-baden-wuerttemberg/
LOCATION:Reit- und Fahrverein Durmersheim e.V.\, Im hinteren Dahn 1\, Durmersheim\, Baden-Württemberg\, 76448\, Germany
CATEGORIES:Baden-Württemberg,Deutschland,Öffentliches Hobby Horse Turnier
ORGANIZER;CN="Kerstin Johannsen":MAILTO:SteckenpferdEttlingen@web.de
END:VEVENT
BEGIN:VEVENT
DTSTART;TZID=America/Los_Angeles:20250525T120000
DTEND;TZID=America/Los_Angeles:20250525T160000
DTSTAMP:20260420T023351
CREATED:20250502T124122Z
LAST-MODIFIED:20250502T124210Z
UID:2175-1748174400-1748188800@hobby-horsing-germany.de
SUMMARY:1. Hobby Horse Turnier des RFV Aach-Linz (Baden-Württemberg)
DESCRIPTION:Hobby Horsing Turnier in 53567 Asbach – FRZ Asbacher-Land e.V. \n\n\n\nÖffentliches Hobby Horsing- Turnier für Teilnehmer ab 4 Jahren.Veranstalter: RFV Aach-Linz e.V. | E-Mail : steffisnaehzimmer@web.deAnsprechpartner: Stephanie Schraudolf | Tel.: 0171/9002101Webseite: www.reitverein-aach-linz.deNennschluss:  21.05.2025 \n\n\n\nAnmeldeoptionen: Mit dem Nennformular per E-Mail \n\n\n\n\n\n\n\nWettbewerbe \n\n\n\n\nReiterwettbewerb 4-8 Jahren\n\n\n\nDressur leicht Kl. E\n\n\n\nDressur mittel Kl. M\n\n\n\nStilspring-Wettbewerb (20 -30 cm) 4-6 Jahren\n\n\n\nStilspringen Klasse A (40-60) ab 6 Jahren\n\n\n\nStilspringen Klasse M (80 – 100 cm) ab 8 Jahren\n\n\n\nZeitspringen Klasse A (40 – 60 cm) ab 6 Jahren\n\n\n\nZeitspringen Klasse M (60 – 80 cm) ab 8 Jahren\n\n\n\nMächtigkeitsspringen\n\n\n\nProsecco-Springen ab 18 Jahren\n\n\n\n\n\n\n\n\n>>> Ausschreibung <<<
URL:https://hobby-horsing-germany.de/event/1-hobby-horse-turnier-des-rfv-aach-linz-baden-wuerttemberg/
LOCATION:RFV Aach-Linz e. V.\, Sahlenbacherstr. - Reitplatz\, Pfullendorf OT Aach-Linz\, Baden-Württemberg\, 88630\, Germany
CATEGORIES:Baden-Württemberg,Deutschland,Hobby Horse Veranstaltung,Öffentliches Hobby Horse Turnier
END:VEVENT
BEGIN:VEVENT
DTSTART;TZID=America/Los_Angeles:20250525T130000
DTEND;TZID=America/Los_Angeles:20250525T170000
DTSTAMP:20260420T023351
CREATED:20250424T114135Z
LAST-MODIFIED:20250424T114146Z
UID:2055-1748178000-1748192400@hobby-horsing-germany.de
SUMMARY:WBO Turnier des PSV Wolnzach (Bayern)
DESCRIPTION:WBO Turnier des PSV Wolnzach mit Hobby Horsing Prüfungen \n\n\n\nÖffentliches Hobby Horsing- Turnier mit verschiedenen Wettbewerben ab 5 Jahren.Veranstalter: Pferdesportverein Wolnzach e.V. | E-Mail: philipp_hayer@web.deAnsprechpartner: Philipp Hayer | Tel.: 0176/60018445Instagram: @psv_wolnzachNennschluss: 05.05.2025 \n\n\n\nNennungen: Nennung über WBO Formular an Grabmayer Turnierservice – E-Mail: sylvia@grabmayer.de \n\n\n\n\n\n\n\nWettbewerbe: \n\n\n\n\nHobby Horsing Barriere Springen-WB 916\n\n\n\nHobby Horsing Dressur Stufe 2 WB 911\n\n\n\nHobby Horsing Pas de Deux-WB 918\n\n\n\n\n\n\n\n\n>>> Ausschreibung <<< \n\n\n\n>>> WBO Nennungsformular >>> \n\n\n\nInformationen zur WBO findest du im Hobby Horsing Magazin unter folgendem Link: WBO 2024 – Hobby Horsing
URL:https://hobby-horsing-germany.de/event/wbo-turnier-des-psv-wolnzach-bayern/
LOCATION:Pferdesportverein Wolnzach e.V\, Am Bahndamm 1\, Wolnzach\, Bayern\, 85283\, Germany
CATEGORIES:Bayern,Deutschland,Hobby Horse Veranstaltung,Öffentliches Hobby Horse Turnier
END:VEVENT
END:VCALENDAR