BEGIN:VCALENDAR
VERSION:2.0
PRODID:-//Hobby Horsing Germany - ECPv6.15.20//NONSGML v1.0//EN
CALSCALE:GREGORIAN
METHOD:PUBLISH
X-WR-CALNAME:Hobby Horsing Germany
X-ORIGINAL-URL:https://hobby-horsing-germany.de
X-WR-CALDESC:Veranstaltungen für Hobby Horsing Germany
REFRESH-INTERVAL;VALUE=DURATION:PT1H
X-Robots-Tag:noindex
X-PUBLISHED-TTL:PT1H
BEGIN:VTIMEZONE
TZID:America/Los_Angeles
BEGIN:DAYLIGHT
TZOFFSETFROM:-0800
TZOFFSETTO:-0700
TZNAME:PDT
DTSTART:20240310T100000
END:DAYLIGHT
BEGIN:STANDARD
TZOFFSETFROM:-0700
TZOFFSETTO:-0800
TZNAME:PST
DTSTART:20241103T090000
END:STANDARD
BEGIN:DAYLIGHT
TZOFFSETFROM:-0800
TZOFFSETTO:-0700
TZNAME:PDT
DTSTART:20250309T100000
END:DAYLIGHT
BEGIN:STANDARD
TZOFFSETFROM:-0700
TZOFFSETTO:-0800
TZNAME:PST
DTSTART:20251102T090000
END:STANDARD
BEGIN:DAYLIGHT
TZOFFSETFROM:-0800
TZOFFSETTO:-0700
TZNAME:PDT
DTSTART:20260308T100000
END:DAYLIGHT
BEGIN:STANDARD
TZOFFSETFROM:-0700
TZOFFSETTO:-0800
TZNAME:PST
DTSTART:20261101T090000
END:STANDARD
END:VTIMEZONE
BEGIN:VEVENT
DTSTART;TZID=America/Los_Angeles:20250523T173000
DTEND;TZID=America/Los_Angeles:20250523T190000
DTSTAMP:20260420T010953
CREATED:20250428T115713Z
LAST-MODIFIED:20250428T115822Z
UID:2107-1748021400-1748026800@hobby-horsing-germany.de
SUMMARY:Hobby Horse Training & Turniervorbereitung (Nordrhein-Westfalen)
DESCRIPTION:Hobby Horse Training mit der Möglichkeit zur Turniervorbereitung für den 24.05.2025 zum Hobby Horse Sommer Cup. Interessierte\, die nicht am Turnier teilnehmen\, sind ebenfalls herzlich eingeladen. Keine Altersbeschränkung.  \n\n\n\nVeranstalter: Reit- und Fahrverein Herbede-Ruhr e.V. | E-Mail: info@rv-herbederuhr.deAnsprechpartner: Yannic Buchner | Tel.: 0178/2841368Instagram: @reitverein_herbede_ruhrWebseite: https://rv-herbederuhr.de/unterricht/Nennschluss: 14.05.2025 \n\n\n\n\n\n\n\nTrainingsangebote \n\n\n\n\n17:00 – 18:00 Uhr Springen + Geschicklichkeit\n\n\n\n17:00 – 18:00 Uhr Dressur \n\n\n\n18:00 – 19:00 Uhr Springen + Geschicklichkeit \n\n\n\n\n\n\n\n\nDer Unterricht wird von erfahrenen Hobby Horse Trainern und Richtern gehalten.Teilnehmeranzahl: Springen & Geschicklichkeit jeweils max. 30\, Dressur max. 10 \n\n\n\n\nOnline anmelden\n\n\n\n\n\n\n\n\n>>> Ausschreibung <<<
URL:https://hobby-horsing-germany.de/event/hobby-horse-training-turniervorbereitung-nordrhein-westfalen/
LOCATION:Reit- und Fahrverein Herbede-Ruhr e.V.\, Krünerstraße 52\, Witten\, Nordrhein-Westfalen\, 58456\, Germany
CATEGORIES:Deutschland,Hobby Horse Veranstaltung,Nordrhein-Westfalen
ORGANIZER;CN="Reit- und Fahrverein Herbede-Ruhr e.V.":MAILTO:info@rv-herbederuhr.de
END:VEVENT
END:VCALENDAR