BEGIN:VCALENDAR
VERSION:2.0
PRODID:-//Hobby Horsing Germany - ECPv6.15.20//NONSGML v1.0//EN
CALSCALE:GREGORIAN
METHOD:PUBLISH
X-ORIGINAL-URL:https://hobby-horsing-germany.de
X-WR-CALDESC:Veranstaltungen für Hobby Horsing Germany
REFRESH-INTERVAL;VALUE=DURATION:PT1H
X-Robots-Tag:noindex
X-PUBLISHED-TTL:PT1H
BEGIN:VTIMEZONE
TZID:Europe/Berlin
BEGIN:DAYLIGHT
TZOFFSETFROM:+0100
TZOFFSETTO:+0200
TZNAME:CEST
DTSTART:20240331T010000
END:DAYLIGHT
BEGIN:STANDARD
TZOFFSETFROM:+0200
TZOFFSETTO:+0100
TZNAME:CET
DTSTART:20241027T010000
END:STANDARD
BEGIN:DAYLIGHT
TZOFFSETFROM:+0100
TZOFFSETTO:+0200
TZNAME:CEST
DTSTART:20250330T010000
END:DAYLIGHT
BEGIN:STANDARD
TZOFFSETFROM:+0200
TZOFFSETTO:+0100
TZNAME:CET
DTSTART:20251026T010000
END:STANDARD
BEGIN:DAYLIGHT
TZOFFSETFROM:+0100
TZOFFSETTO:+0200
TZNAME:CEST
DTSTART:20260329T010000
END:DAYLIGHT
BEGIN:STANDARD
TZOFFSETFROM:+0200
TZOFFSETTO:+0100
TZNAME:CET
DTSTART:20261025T010000
END:STANDARD
END:VTIMEZONE
BEGIN:VTIMEZONE
TZID:America/Los_Angeles
BEGIN:DAYLIGHT
TZOFFSETFROM:-0800
TZOFFSETTO:-0700
TZNAME:PDT
DTSTART:20240310T100000
END:DAYLIGHT
BEGIN:STANDARD
TZOFFSETFROM:-0700
TZOFFSETTO:-0800
TZNAME:PST
DTSTART:20241103T090000
END:STANDARD
BEGIN:DAYLIGHT
TZOFFSETFROM:-0800
TZOFFSETTO:-0700
TZNAME:PDT
DTSTART:20250309T100000
END:DAYLIGHT
BEGIN:STANDARD
TZOFFSETFROM:-0700
TZOFFSETTO:-0800
TZNAME:PST
DTSTART:20251102T090000
END:STANDARD
BEGIN:DAYLIGHT
TZOFFSETFROM:-0800
TZOFFSETTO:-0700
TZNAME:PDT
DTSTART:20260308T100000
END:DAYLIGHT
BEGIN:STANDARD
TZOFFSETFROM:-0700
TZOFFSETTO:-0800
TZNAME:PST
DTSTART:20261101T090000
END:STANDARD
END:VTIMEZONE
BEGIN:VEVENT
DTSTART;TZID=Europe/Berlin:20250517T090000
DTEND;TZID=Europe/Berlin:20250518T180000
DTSTAMP:20260420T011122
CREATED:20250513T115835Z
LAST-MODIFIED:20250513T115930Z
UID:2745-1747472400-1747591200@hobby-horsing-germany.de
SUMMARY:Hobby Horsing Mitmach-Tag in Hochheim am Main (Hessen)
DESCRIPTION:Veranstalter: Deutscher Hobby Horsing Verband e. V. | Ansprechpartner: Andreas Karasek | a.karasek@dthhv.deNennschluss: 16.05.2025Infos: Werde Teil der Hobby Horsing Zukunft – Kostenlose Teilnahme an Praxislehrgängen! \n\n\n\nDer Deutsche Hobby Horsing Verband (DtHHV) lädt dich herzlich zum Mitmach-Tag in Hochheim am Main ein!Im Rahmen der aktuellen Ausbildung von rund 50 neuen Hobby Horsing Trainerinnen und Trainern finden bundesweit Praxislehrtage statt – und du kannst live dabei sein! \n\n\n\nAn diesem besonderen Tag haben alle interessierten Hobby Horser ab 8 Jahren die Möglichkeit\, kostenlos an spannenden Übungsstunden und abwechslungsreichen Lehrproben teilzunehmen. Die zukünftigen Trainerinnen und Trainer gestalten unter professioneller Begleitung vielfältige Trainingseinheiten – vom spielerischen Einstieg bis hin zu anspruchsvolleren Lektionen. \n\n\n\nWas dich erwartet:✅ Lehrreiche Einblicke in das Hobby Horsing Training✅ Mitmach-Aktionen für verschiedene Altersgruppen und Erfahrungsstufen✅ Gelegenheit\, neue Bewegungsformen auszuprobieren✅ Austausch mit engagierten Trainerinnen und Trainern✅ Einblicke in die Arbeit des DtHHV und die Zukunft des Sports \n\n\n\n \n\n\n\n\nKostenlos anmelden und dabei sein!
URL:https://hobby-horsing-germany.de/event/hh-mitmachtag_dthhv/
LOCATION:Sport- und Kulturhalle Massenheim\, Sportanlage in Hochheim am Main\, Untergasse 19\, Hochheim am Main\, Hessen\, 65239\, Germany
ATTACH;FMTTYPE=image/jpeg:https://hobby-horsing-germany.de/wp-content/uploads/2023/09/Deutscher-Hobby-Horsing-Verband-e.-V-scaled.jpeg
END:VEVENT
BEGIN:VEVENT
DTSTART;TZID=America/Los_Angeles:20250517T103000
DTEND;TZID=America/Los_Angeles:20250518T150000
DTSTAMP:20260420T011123
CREATED:20250312T163704Z
LAST-MODIFIED:20250328T051224Z
UID:1201-1747477800-1747580400@hobby-horsing-germany.de
SUMMARY:Vorbereitung für Turniere (Baden-Württemberg)
DESCRIPTION:Hobby Horsing Workshop beim FT1844 für Teilnehmer zwischen 9-16 Jahren. \n\n\n\nVeranstalter: Ft1844 | tanjakwiatkista@yahoo.comAnsprechpartner: Tanja Kwiatkista | Tel.: 0157/32006007Anmeldeschluss:  \n\n\n\n \n\n\n\n\nOnline anmelden\n\n\n\n\n\n\n\n\nLerninhalte: \n\n\n\nWir bereiten uns gemeinsam für anstehende Turniere vor undÜben eine Kür\, sowie Springreiten und alle Elemente. \n\n\n\nAnmerkungen: Keine
URL:https://hobby-horsing-germany.de/event/vorbereitung-fuer-turniere-baden-wuerttemberg/
LOCATION:Ft1844\, Schwarzwaldstrasse 181\, Freiburg\, Baden-Württemberg\, 79117\, Germany
ORGANIZER;CN="Tanja Kwiatkista":MAILTO:tanjakwiatkista@yahoo.com
END:VEVENT
BEGIN:VEVENT
DTSTART;TZID=America/Los_Angeles:20250518T090000
DTEND;TZID=America/Los_Angeles:20250518T160000
DTSTAMP:20260420T011123
CREATED:20250401T042159Z
LAST-MODIFIED:20250502T140631Z
UID:1856-1747558800-1747584000@hobby-horsing-germany.de
SUMMARY:Hobby Horsing Turnier - RV Windhof e.V. (Bayern)
DESCRIPTION:Hobby Horsing Turnier des Reitverein Windhof e.V. \n\n\n\nÖffentliches Hobby Horsing- Turnier für Teilnehmer zwischen 5-16 Jahren.Veranstalter: Reitverein Windhof e.V. | E-Mail: mandy.weck@gmx.netAnsprechpartner: Mandy Adlberger | Tel.: 0172/8572767Nennschluss: 02.05.2025 \n\n\n\nNennungen: NENNSCHLUSS – keine Anmeldungen mehr möglich \n\n\n\n\n\n\n\n\n\n\n\nWettbewerbe \n\n\n\n\n1. Dressur Hobby Horsing Stufe 1 (WB 910)\n\n\n\n2. Dressur Hobby Horsing Stufe 2 (WB 911)\n\n\n\n3. Dressur Hobby Horsing Stufe 3 (WB 912)\n\n\n\n4. Stilspringwettbewerb (30-40cm) (WB 914)\n\n\n\n5. Stilspringwettbewerb (40-50 cm) (WB 914)\n\n\n\n6. Zeitspringwettbewerb (50-60 cm) (WB 915)\n\n\n\n7. Hobby Horsing – Mächtigkeitsspringen (WB 916)\n\n\n\n\nWBO-Turnier – Infos zur WBO findest du hier: Hobby Horsing Magazin  \n\n\n\n\n\n\n\n>>> Ausschreibung <<<
URL:https://hobby-horsing-germany.de/event/hobby-horsing-turnier-rv-windhof-e-v-bayern/
LOCATION:Reitverein Windhof e.V.\, Wind 3\, Forstinning\, Bayern\, 85661\, Germany
END:VEVENT
BEGIN:VEVENT
DTSTART;TZID=America/Los_Angeles:20250518T090000
DTEND;TZID=America/Los_Angeles:20250518T180000
DTSTAMP:20260420T011123
CREATED:20250320T144441Z
LAST-MODIFIED:20250328T051303Z
UID:1517-1747558800-1747591200@hobby-horsing-germany.de
SUMMARY:Hobby Horsing Turnier - beim RFV Dudweiler Sulzbachtal (Saarland)
DESCRIPTION:Hobby Horsing Turnier vom Reit-und Fahrverein Dudweiler Sulzbachtal e.V. \n\n\n\nÖffentliches Hobby Horsing- Turnier für Teilnehmer ab 6 Jahren.Veranstalter: Reit- und Fahrverein Dudweiler Sulzbachtal e.V.  | E-Mail: christianespeicher@gmail.comAnsprechpartner: Christiane Speicher | Tel.: 0178/7866556Nennschluss: 14.05.2025 \n\n\n\nNennungen per E-Mail an christianespeicher@gmail.com \n\n\n\n\n\n\n\nWettbewerbe \n\n\n\n\nWB 910. ab 6 bis 12 Jahre\n\n\n\nWB 911 ab 12 Jahre\n\n\n\nWB 913 ab 6  Jahre \n\n\n\nWB 914 ab 6 Jahre\n\n\n\nWB 915 ab 6 Jahre\n\n\n\n\n\n\n\n\nWBO-Turnier: Informationen zur Wettbewerbsordnung der FN findest du im Hobby Horsing Magazin.  \n\n\n\n>>> Ausschreibung <<<
URL:https://hobby-horsing-germany.de/event/hobby-horsing-turnier-beim-rfv-dudweiler-sulzbachtal-saarland/
LOCATION:Reit- und Fahrverein Dudweiler Sulzbachtal e.V.\, In den Rodhecken 2\, Dudweiler\, Saarland\, 66125\, Germany
CATEGORIES:Deutschland,Hobby Horse Veranstaltung,Öffentliches Hobby Horse Turnier,Saarland
END:VEVENT
BEGIN:VEVENT
DTSTART;TZID=America/Los_Angeles:20250518T100000
DTEND;TZID=America/Los_Angeles:20250518T180000
DTSTAMP:20260420T011123
CREATED:20250328T110623Z
LAST-MODIFIED:20250506T213852Z
UID:1729-1747562400-1747591200@hobby-horsing-germany.de
SUMMARY:Bubbly Cup 3 (Brandenburg)
DESCRIPTION:Privat organisiertes Hobby Horsing Turnier mit verschiedenen Wettbewerben. \n\n\n\nVeranstalter: Lotte Mokry | E-Mail: lotte.mokry@gmx.deAnsprechpartner: Lotte Mokry | Tel.: 0637/512359Nennschluss: 04.05.2025 \n\n\n\nNennungen: Nennschluss \n\n\n\n\n\n\n\n\n\n\n\nWettbewerbe \n\n\n\n\nS Dressur – alle Altersklassen – Pflichtelemnte vorgegeben – Freestyle – min. 3 Minuten\n\n\n\n\n\nL Stilspringen – alle Altersklassen – 60cm – 6 Hindernisse\n\n\n\nM Stilspringen – ab 10 Jahren – 80cm – 7 Hindernisse\n\n\n\nS Stilspringen – ab 10 Jahren – 100cm – 8 Hindernisse\n\n\n\n\n\nE Zeitspringen – alle Altersklassen – 30cm – 6 Hindernisse\n\n\n\nA Zeitspringen – alle Altersklassen – 40cm – 6 Hindernisse\n\n\n\nL Zeitspringen – alle Altersklassen – 60cm – 6 Hindernisse\n\n\n\nM Zeitspringen – alle Altersklassen – 80cm – 7 Hindernisse\n\n\n\nS Zeitspringen – ab 10 Jahre – 100cm – 8 Hindernisse\n\n\n\n\n\nBarrel Racing (Tonnenrennen) – keine Altersbegenzung\n\n\n\nMächtigkeitspringen – keine Altersbegrenzung – 10cm-…cm\n\n\n\n\n\n\n\n\nAnmerkungen: \n\n\n\nHochwertige Preise in Form von Schleifen\, Pokale\, Medaillen.Essen und Trinken vor Ort (bereits im Startgeld enthalten).3-4 Richter.Es wird nach dem offiziellen Regelwerk gerichtet.Abholung vom Bahnhof in Herzberg oder Falkenberg möglich.
URL:https://hobby-horsing-germany.de/event/bubbly-cup-3-brandenburg/
LOCATION:Bubbly Cup 3\, Dorfstr. 4\, Großrössen\, Brandenburg\, 04895\, Germany
CATEGORIES:Brandenburg,Deutschland,Hobby Horse Veranstaltung
ORGANIZER;CN="Lotte Mokry":MAILTO:lotte.mokry@gmx.de
END:VEVENT
BEGIN:VEVENT
DTSTART;TZID=America/Los_Angeles:20250518T110000
DTEND;TZID=America/Los_Angeles:20250518T130000
DTSTAMP:20260420T011123
CREATED:20250418T112544Z
LAST-MODIFIED:20250512T073650Z
UID:2008-1747566000-1747573200@hobby-horsing-germany.de
SUMMARY:Hobby Horsing Turnier beim RFV Ihringen e.V. (Baden-Württemberg)
DESCRIPTION:Hobby Horsing Turnier beim Reit- und Fahrverein Ihringen e.V  \n\n\n\nÖffentliches Hobby Horsing- Turnier für Teilnehmer ab 4 Jahren.Veranstalter: Reit- und Fahrsportverein Ihringen e.V. | E-Mail: Marie-Therese.Seefelder@web.deAnsprechpartner: Marie-Therese MeierNennschluss: 10.05.2025 \n\n\n\nNennungen: NENNSCHLUSS \n\n\n\n\n\n\n\n\n\n\n\nWettbewerbe: \n\n\n\n\nReiter-Wettbewerb\n\n\n\nDressur Leicht\n\n\n\nZeitspringen (20cm – 60 cm)\n\n\n\nStilspringen (30cm – 50cm)\n\n\n\n\n\n\n\n\n>>Ausschreibung<<
URL:https://hobby-horsing-germany.de/event/hobby-horsing-turnier-beim-rfv-ihringen-e-v/
LOCATION:Reit- und Fahrsportverein Ihringen e.V.\, Tunibergstraße\, Ihringen\, Baden-Württemberg\, 79241\, Germany
CATEGORIES:Baden-Württemberg,Deutschland,Hobby Horse Veranstaltung,Öffentliches Hobby Horse Turnier
END:VEVENT
BEGIN:VEVENT
DTSTART;TZID=America/Los_Angeles:20250518T110000
DTEND;TZID=America/Los_Angeles:20250518T160000
DTSTAMP:20260420T011123
CREATED:20250410T225351Z
LAST-MODIFIED:20250410T230231Z
UID:1976-1747566000-1747584000@hobby-horsing-germany.de
SUMMARY:Mädchen gegen Jungs - Hobby Horse vs. Monstertrucks (Schleswig-Holstein)
DESCRIPTION:Hobby Horsing Wettbewerb beim Cocu der Kinderpferdeladen \n\n\n\nHobby Horsing- Wettbewerb für Teilnehmer zwischen 4-14 Jahren.Veranstalter: Cocu der Kinderpferdeladen | E-Mail : kontakt@cocu-der-kinderpferdeladen.deAnsprechpartner: Corinna Cuvalo | Tel.: 0179/3903122Anmeldeschluss:  11. Mai 2025 \n\n\n\nAnmeldungen per E-Mail E-Mail : kontakt@cocu-der-kinderpferdeladen.de \n\n\n\n\n\n\n\nWettbewerbe \n\n\n\n\nZeitspringen Hindernisse\n\n\n\nZeitspringen Geschicklichkeitsparcours\n\n\n\n\n\n\n\n\nWeitere Infos des Veranstalters: Neben dem Wettbewerb und dem Hobby Horse Parcours gibt es auch ein großes Spieleland für ferngesteuerte Autos.
URL:https://hobby-horsing-germany.de/event/maedchen-gegen-jungs-hobby-horse-vs-monstertrucks-schleswig-holstein/
LOCATION:Cocu der Kinderpferdeladen\, Hermann-Löns-Weg 3\, Rellingen\, Schleswig-Holstein\, 25462\, Germany
CATEGORIES:Deutschland,Hobby Horse Veranstaltung,Schleswig-Holstein
END:VEVENT
END:VCALENDAR