BEGIN:VCALENDAR
VERSION:2.0
PRODID:-//Hobby Horsing Germany - ECPv6.15.20//NONSGML v1.0//EN
CALSCALE:GREGORIAN
METHOD:PUBLISH
X-WR-CALNAME:Hobby Horsing Germany
X-ORIGINAL-URL:https://hobby-horsing-germany.de
X-WR-CALDESC:Veranstaltungen für Hobby Horsing Germany
REFRESH-INTERVAL;VALUE=DURATION:PT1H
X-Robots-Tag:noindex
X-PUBLISHED-TTL:PT1H
BEGIN:VTIMEZONE
TZID:Europe/Berlin
BEGIN:DAYLIGHT
TZOFFSETFROM:+0100
TZOFFSETTO:+0200
TZNAME:CEST
DTSTART:20240331T010000
END:DAYLIGHT
BEGIN:STANDARD
TZOFFSETFROM:+0200
TZOFFSETTO:+0100
TZNAME:CET
DTSTART:20241027T010000
END:STANDARD
BEGIN:DAYLIGHT
TZOFFSETFROM:+0100
TZOFFSETTO:+0200
TZNAME:CEST
DTSTART:20250330T010000
END:DAYLIGHT
BEGIN:STANDARD
TZOFFSETFROM:+0200
TZOFFSETTO:+0100
TZNAME:CET
DTSTART:20251026T010000
END:STANDARD
BEGIN:DAYLIGHT
TZOFFSETFROM:+0100
TZOFFSETTO:+0200
TZNAME:CEST
DTSTART:20260329T010000
END:DAYLIGHT
BEGIN:STANDARD
TZOFFSETFROM:+0200
TZOFFSETTO:+0100
TZNAME:CET
DTSTART:20261025T010000
END:STANDARD
END:VTIMEZONE
BEGIN:VTIMEZONE
TZID:America/Los_Angeles
BEGIN:DAYLIGHT
TZOFFSETFROM:-0800
TZOFFSETTO:-0700
TZNAME:PDT
DTSTART:20240310T100000
END:DAYLIGHT
BEGIN:STANDARD
TZOFFSETFROM:-0700
TZOFFSETTO:-0800
TZNAME:PST
DTSTART:20241103T090000
END:STANDARD
BEGIN:DAYLIGHT
TZOFFSETFROM:-0800
TZOFFSETTO:-0700
TZNAME:PDT
DTSTART:20250309T100000
END:DAYLIGHT
BEGIN:STANDARD
TZOFFSETFROM:-0700
TZOFFSETTO:-0800
TZNAME:PST
DTSTART:20251102T090000
END:STANDARD
BEGIN:DAYLIGHT
TZOFFSETFROM:-0800
TZOFFSETTO:-0700
TZNAME:PDT
DTSTART:20260308T100000
END:DAYLIGHT
BEGIN:STANDARD
TZOFFSETFROM:-0700
TZOFFSETTO:-0800
TZNAME:PST
DTSTART:20261101T090000
END:STANDARD
END:VTIMEZONE
BEGIN:VEVENT
DTSTART;TZID=Europe/Berlin:20250517T090000
DTEND;TZID=Europe/Berlin:20250518T180000
DTSTAMP:20260420T010834
CREATED:20250513T115835Z
LAST-MODIFIED:20250513T115930Z
UID:2745-1747472400-1747591200@hobby-horsing-germany.de
SUMMARY:Hobby Horsing Mitmach-Tag in Hochheim am Main (Hessen)
DESCRIPTION:Veranstalter: Deutscher Hobby Horsing Verband e. V. | Ansprechpartner: Andreas Karasek | a.karasek@dthhv.deNennschluss: 16.05.2025Infos: Werde Teil der Hobby Horsing Zukunft – Kostenlose Teilnahme an Praxislehrgängen! \n\n\n\nDer Deutsche Hobby Horsing Verband (DtHHV) lädt dich herzlich zum Mitmach-Tag in Hochheim am Main ein!Im Rahmen der aktuellen Ausbildung von rund 50 neuen Hobby Horsing Trainerinnen und Trainern finden bundesweit Praxislehrtage statt – und du kannst live dabei sein! \n\n\n\nAn diesem besonderen Tag haben alle interessierten Hobby Horser ab 8 Jahren die Möglichkeit\, kostenlos an spannenden Übungsstunden und abwechslungsreichen Lehrproben teilzunehmen. Die zukünftigen Trainerinnen und Trainer gestalten unter professioneller Begleitung vielfältige Trainingseinheiten – vom spielerischen Einstieg bis hin zu anspruchsvolleren Lektionen. \n\n\n\nWas dich erwartet:✅ Lehrreiche Einblicke in das Hobby Horsing Training✅ Mitmach-Aktionen für verschiedene Altersgruppen und Erfahrungsstufen✅ Gelegenheit\, neue Bewegungsformen auszuprobieren✅ Austausch mit engagierten Trainerinnen und Trainern✅ Einblicke in die Arbeit des DtHHV und die Zukunft des Sports \n\n\n\n \n\n\n\n\nKostenlos anmelden und dabei sein!
URL:https://hobby-horsing-germany.de/event/hh-mitmachtag_dthhv/
LOCATION:Sport- und Kulturhalle Massenheim\, Sportanlage in Hochheim am Main\, Untergasse 19\, Hochheim am Main\, Hessen\, 65239\, Germany
ATTACH;FMTTYPE=image/jpeg:https://hobby-horsing-germany.de/wp-content/uploads/2023/09/Deutscher-Hobby-Horsing-Verband-e.-V-scaled.jpeg
END:VEVENT
BEGIN:VEVENT
DTSTART;TZID=America/Los_Angeles:20250517T093000
DTEND;TZID=America/Los_Angeles:20250517T200000
DTSTAMP:20260420T010834
CREATED:20250216T053911Z
LAST-MODIFIED:20250427T134731Z
UID:989-1747474200-1747512000@hobby-horsing-germany.de
SUMMARY:Hobby Horsing Turnier Destedt (Niedersachsen)
DESCRIPTION:Öffentliches Hobby Horsing Turnier des TSV Destedt & Fahrverein Cremlingen mit 7 Wettbewerben für Teilnehmer zw. 4-17 Jahre | \n\n\n\nVeranstalter: TSV Destedt & Reit und Fahrverein Cremlingen | E-Mail: hobby-horsing@tsv-destedt.deAnsprechpartner: Nicole Palmucci | Tel.: 0151/46655680Nennschluss: 17.04.2025 \n\n\n\nLeider gibt es keine freien Startplätze mehr. Weitere Infos unter www.tsv-destedt.de \n\n\n\n>>> Ausschreibung <<< \n\n\n\n>>> Kopfnummern <<< \n\n\n\n\n\n\n\nWettbewerbe \n\n\n\n\nDressur Kür leicht 4-9 Jahre\n\n\n\nDressur Kür schwer 9-17 Jahre\n\n\n\nMannschaftskür 4-17 Jahre\n\n\n\nStilspringen 30 cm 4-8 Jahre\n\n\n\nStilspringen 40cm 6- 17 Jahre\n\n\n\nStilspringen 60 cm 9-17 Jahre\n\n\n\nGlücksspringen 4-17 Jahre\n\n\n\n\n\n\n\n\n \n\n\n\n\n\n\n\nwww.tsv-destedt.de \n\n\n\nBitte richte Rückfragen direkt an den Veranstalter: Nicole Palmucci | Tel.: 0151/46655680 oder per Mail: hobby-horsing@tsv-destedt.de
URL:https://hobby-horsing-germany.de/event/hobby-horsing-turnier-destedt-2/
LOCATION:TSV Destedt & Reit und Fahrverein Cremlingen\, Ohestraße\, Destedt\, Niedersachsen\, 38162\, Germany
CATEGORIES:Deutschland,Niedersachsen,Öffentliches Hobby Horse Turnier
ORGANIZER;CN="TSV Destedt & Reit und Fahrverein Cremlingen":MAILTO:hobby-horsing@tsv-destedt.de
END:VEVENT
BEGIN:VEVENT
DTSTART;TZID=America/Los_Angeles:20250517T103000
DTEND;TZID=America/Los_Angeles:20250518T150000
DTSTAMP:20260420T010834
CREATED:20250312T163704Z
LAST-MODIFIED:20250328T051224Z
UID:1201-1747477800-1747580400@hobby-horsing-germany.de
SUMMARY:Vorbereitung für Turniere (Baden-Württemberg)
DESCRIPTION:Hobby Horsing Workshop beim FT1844 für Teilnehmer zwischen 9-16 Jahren. \n\n\n\nVeranstalter: Ft1844 | tanjakwiatkista@yahoo.comAnsprechpartner: Tanja Kwiatkista | Tel.: 0157/32006007Anmeldeschluss:  \n\n\n\n \n\n\n\n\nOnline anmelden\n\n\n\n\n\n\n\n\nLerninhalte: \n\n\n\nWir bereiten uns gemeinsam für anstehende Turniere vor undÜben eine Kür\, sowie Springreiten und alle Elemente. \n\n\n\nAnmerkungen: Keine
URL:https://hobby-horsing-germany.de/event/vorbereitung-fuer-turniere-baden-wuerttemberg/
LOCATION:Ft1844\, Schwarzwaldstrasse 181\, Freiburg\, Baden-Württemberg\, 79117\, Germany
ORGANIZER;CN="Tanja Kwiatkista":MAILTO:tanjakwiatkista@yahoo.com
END:VEVENT
END:VCALENDAR