BEGIN:VCALENDAR
VERSION:2.0
PRODID:-//Hobby Horsing Germany - ECPv6.15.20//NONSGML v1.0//EN
CALSCALE:GREGORIAN
METHOD:PUBLISH
X-WR-CALNAME:Hobby Horsing Germany
X-ORIGINAL-URL:https://hobby-horsing-germany.de
X-WR-CALDESC:Veranstaltungen für Hobby Horsing Germany
REFRESH-INTERVAL;VALUE=DURATION:PT1H
X-Robots-Tag:noindex
X-PUBLISHED-TTL:PT1H
BEGIN:VTIMEZONE
TZID:Europe/Berlin
BEGIN:DAYLIGHT
TZOFFSETFROM:+0100
TZOFFSETTO:+0200
TZNAME:CEST
DTSTART:20240331T010000
END:DAYLIGHT
BEGIN:STANDARD
TZOFFSETFROM:+0200
TZOFFSETTO:+0100
TZNAME:CET
DTSTART:20241027T010000
END:STANDARD
BEGIN:DAYLIGHT
TZOFFSETFROM:+0100
TZOFFSETTO:+0200
TZNAME:CEST
DTSTART:20250330T010000
END:DAYLIGHT
BEGIN:STANDARD
TZOFFSETFROM:+0200
TZOFFSETTO:+0100
TZNAME:CET
DTSTART:20251026T010000
END:STANDARD
BEGIN:DAYLIGHT
TZOFFSETFROM:+0100
TZOFFSETTO:+0200
TZNAME:CEST
DTSTART:20260329T010000
END:DAYLIGHT
BEGIN:STANDARD
TZOFFSETFROM:+0200
TZOFFSETTO:+0100
TZNAME:CET
DTSTART:20261025T010000
END:STANDARD
END:VTIMEZONE
BEGIN:VEVENT
DTSTART;TZID=Europe/Berlin:20250513T180000
DTEND;TZID=Europe/Berlin:20250513T200000
DTSTAMP:20260420T010958
CREATED:20250511T085352Z
LAST-MODIFIED:20250513T161120Z
UID:2722-1747159200-1747166400@hobby-horsing-germany.de
SUMMARY:2. Jugend-Meeting DtHHV – Google-Meet (Online)
DESCRIPTION:2. Jugend-Meeting – Google-Meet (Online) des Deutschen Hobby Horsing Verband e. V. \n\n\n\nGemeinsam gestalten wir den Verband und sprechen über die 2. Deutsche Meisterschaft im Hobby Horsing\, das offizielle Regelwerk und Co. Sei dabei und beteilige dich an der Zukunft des Hobby Horsing! \n\n\n\nFür alle Jugendlichen und jungen Erwachsende.Dozentin: Vanessa Warncke (GF Jugend)>>> Den Link zum Meeting erhältst du nach deiner Anmeldung per E-Mail. \n\n\n\n\n\n\n\nLink zum Meeting:https://meet.google.com/ycr-jyke-btn
URL:https://hobby-horsing-germany.de/event/2-jugend-meeting-google-meet-online-2/
LOCATION:Online Meeting-Raum des DtHHV\, Online-Meeting\, Internet\, Germany
CATEGORIES:Deutschland,Hobby Horse Veranstaltung,Hobby Horsing Event DtHHV
END:VEVENT
END:VCALENDAR