BEGIN:VCALENDAR
VERSION:2.0
PRODID:-//Hobby Horsing Germany - ECPv6.15.20//NONSGML v1.0//EN
CALSCALE:GREGORIAN
METHOD:PUBLISH
X-WR-CALNAME:Hobby Horsing Germany
X-ORIGINAL-URL:https://hobby-horsing-germany.de
X-WR-CALDESC:Veranstaltungen für Hobby Horsing Germany
REFRESH-INTERVAL;VALUE=DURATION:PT1H
X-Robots-Tag:noindex
X-PUBLISHED-TTL:PT1H
BEGIN:VTIMEZONE
TZID:UTC
BEGIN:STANDARD
TZOFFSETFROM:+0000
TZOFFSETTO:+0000
TZNAME:UTC
DTSTART:20240101T000000
END:STANDARD
END:VTIMEZONE
BEGIN:VTIMEZONE
TZID:America/Los_Angeles
BEGIN:DAYLIGHT
TZOFFSETFROM:-0800
TZOFFSETTO:-0700
TZNAME:PDT
DTSTART:20240310T100000
END:DAYLIGHT
BEGIN:STANDARD
TZOFFSETFROM:-0700
TZOFFSETTO:-0800
TZNAME:PST
DTSTART:20241103T090000
END:STANDARD
BEGIN:DAYLIGHT
TZOFFSETFROM:-0800
TZOFFSETTO:-0700
TZNAME:PDT
DTSTART:20250309T100000
END:DAYLIGHT
BEGIN:STANDARD
TZOFFSETFROM:-0700
TZOFFSETTO:-0800
TZNAME:PST
DTSTART:20251102T090000
END:STANDARD
BEGIN:DAYLIGHT
TZOFFSETFROM:-0800
TZOFFSETTO:-0700
TZNAME:PDT
DTSTART:20260308T100000
END:DAYLIGHT
BEGIN:STANDARD
TZOFFSETFROM:-0700
TZOFFSETTO:-0800
TZNAME:PST
DTSTART:20261101T090000
END:STANDARD
END:VTIMEZONE
BEGIN:VEVENT
DTSTART;TZID=UTC:20250510T080000
DTEND;TZID=UTC:20250510T180000
DTSTAMP:20260420T010914
CREATED:20250214T132131Z
LAST-MODIFIED:20260123T074112Z
UID:620-1746864000-1746900000@hobby-horsing-germany.de
SUMMARY:Hobby Horse Turnier Wattenscheid (Nordrhein-Westfalen)
DESCRIPTION:Hobby Horsing Turnier beim Ländlicher Reit- und Fahrverein Wattenscheid und Umgegend e.V. \n\n\n\nÖffentliches Hobby Horsing- Turnier mit vielen verschiedenen WettbewerbenVeranstalter: Ländlicher Reit- und Fahrverein Wattenscheid und Umgegend e.V. | E-Mail: turnier@reitverein-wattenscheid.deAnsprechpartner: Cari Godoy | Tel.: 0232/771045Nennschluss: 01.05.2025 \n\n\n\nNennung: NENNSCHLUSS – keine Anmeldung mehr möglich \n\n\n\n\n\n\n\nWettbewerbe \n\n\n\n\nDressur leicht\, mittel & schwer\n\n\n\nDressurreiterwettbewerb – Jahrgang 2015 und jünger\n\n\n\nStilspringen leicht\, mittel & schwer\n\n\n\nSpringprüfung leicht\, mittel & schwer\n\n\n\nSpringprüfung mittel mit Stechen\n\n\n\nSpringprüfung Schwer ✯\n\n\n\nSpringreiterwettbewerb – Jahrgang 2015 und jünger\n\n\n\nMächtigkeitsspringen\n\n\n\nGeschicklichkeitsprüfung\n\n\n\nGalopprennen\n\n\n\nGalopprennen mit Hindernissen\n\n\n\n\n\n\n\n\nAnmerkungen:Großes Hobby Horse Turnier mit vielen verschiedenen Prüfungen. Für das leibliche Wohl ist bestens gesorgt. Das Turnier findet in der Reithalle statt. \n\n\n\nKooperationsprüfung mit dem Reit- und Fahrverein Herbede-Ruhr am 24.05.2025. \n\n\n\nBitte wende dich bei Rückfragen an den Veranstalter: Cari Godoy | Tel.: 0232/771045 | turnier@reitverein-wattenscheid.de \n\n\n\n\n\n\n\n>>Ausschreibung<< \n\n\n\nNENNSCHLUSS – keine Anmeldung mehr möglich
URL:https://hobby-horsing-germany.de/event/hobby-horse-turnier-wattenscheid/
LOCATION:Ländlicher Reit- und Fahrverein Wattenscheid und Umgegend e.V.\, Reiterweg 22\, Bochum\, Nordrhein-Westfalen\, 44869\, Germany
CATEGORIES:Deutschland,Nordrhein-Westfalen,Öffentliches Hobby Horse Turnier
ORGANIZER;CN="L%C3%A4ndlicher Reit- und Fahrverein Wattenscheid und Umgegend e.V.":MAILTO:turnier@reitverein-wattenscheid.de
END:VEVENT
BEGIN:VEVENT
DTSTART;TZID=UTC:20250510T090000
DTEND;TZID=UTC:20250510T183000
DTSTAMP:20260420T010914
CREATED:20250214T131502Z
LAST-MODIFIED:20250328T051042Z
UID:613-1746867600-1746901800@hobby-horsing-germany.de
SUMMARY:Firecup 4.0 - Walddorfhäslach (Baden-Württemberg)
DESCRIPTION:Firecup 4.0 – Hobby Horsing Turnier des SV Walddorf | \n\n\n\nÖffentliches Hobby Horsing Turnier in Walddorfhäslach mit 9 Wettbewerben für Teilnehmer aller Altersklassen | Veranstalter: SV Walddorf | E-Mail: kerstin.fischer@svwalddorf.deAnsprechpartner: Kerstin Fischer | Tel.: 0152/52718180Nennschluss: 26.04.2025 \n\n\n\nLeider keine Nennungen mehr möglich. Alle Startplätze sind ausgebucht! \n\n\n\n\n\n\n\nWettbewerbe \n\n\n\n\nLeichte Dressur (U12) eigene Kür\n\n\n\nSchwere Dressur eigene Kür\n\n\n\nZeitspringen 40-60 cm\n\n\n\nStilspringen 40-100 cm\n\n\n\nMächtigkeitsspringen\n\n\n\nPas de Deux (Paardressur) mit Kostüm\n\n\n\n\n\n\n\n\nRückfragen sind an den Veranstalter zu richten: Kerstin Fischer | E-Mail: kerstin.fischer@svwalddorf.de \n\n\n\n\n\n\n\n>>Ausschreibung<<
URL:https://hobby-horsing-germany.de/event/firecup-4-0-walddorfhaslach/
LOCATION:Ballspielhalle Walddorfhäslach\, Weiherwiesen 2/2\, Walddorfhäslach\, Baden-Württemberg\, 72141\, Germany
CATEGORIES:Baden-Württemberg,Deutschland,Öffentliches Hobby Horse Turnier
ORGANIZER;CN="SV Waldorf (Walddorfh%C3%A4slach)":MAILTO:kerstin.fischer@svwalddorf.de
END:VEVENT
BEGIN:VEVENT
DTSTART;TZID=America/Los_Angeles:20250510T140000
DTEND;TZID=America/Los_Angeles:20250510T190000
DTSTAMP:20260420T010914
CREATED:20250401T052449Z
LAST-MODIFIED:20250430T145620Z
UID:1870-1746885600-1746903600@hobby-horsing-germany.de
SUMMARY:2. Hobby Horsing Turnier - RFV Gildehaus-Bentheim e.V. (Niedersachsen)
DESCRIPTION:2. Hobby Horsing Turnier des Reit- und Fahrverein Gildehaus-Bentheim e.V. \n\n\n\nÖffentliches Hobby Horsing- Turnier für Teilnehmer zwischen 4-18 Jahren.Veranstalter: Reit- und Fahrverein Gildehaus-Bentheim e.V. | vorstand@ruf-gildehaus-bentheim.deAnsprechpartner: Leonie Tangenberg | Tel.: 0173/7402807Nennschluss: 24.04.2025 \n\n\n\nNennungen per E-Mail an: vorstand@ruf-gildehaus-bentheim.de \n\n\n\n\n\n\n\nWettbewerbe \n\n\n\n\nStilspringen – 30 – 80cm – ab 6 Jahren\n\n\n\nReiterwettbewerb – max. 1\,5 min wird vorgelesen – ab 4 Jahren\n\n\n\nDressur Kl. E – max. 1\,5 min wird vorgelesen – ab 6 Jahren\n\n\n\nDressur Kl. L – max. 2 min wird vorgelesen – ab 8 Jahren\n\n\n\n\n\n\n\n\nAnmeldungen bitte über die Internetseite vom Reit- und Fahrverein Gildehaus-Bentheim. Dort ist ein Anmeldeformular zu finden. \n\n\n\n>>> Ausschreibung <<<
URL:https://hobby-horsing-germany.de/event/2-hobby-horsing-turnier-rfv-gildehaus-bentheim-e-v-niedersachsen/
LOCATION:Reit- und Fahrverein Gildehaus-Bentheim e.V.\, An der Reithalle 1\, Bad Bentheim\, Niedersachsen\, 48455\, Germany
CATEGORIES:Deutschland,Hobby Horse Veranstaltung,Niedersachsen,Öffentliches Hobby Horse Turnier
END:VEVENT
END:VCALENDAR