BEGIN:VCALENDAR
VERSION:2.0
PRODID:-//Hobby Horsing Germany - ECPv6.15.20//NONSGML v1.0//EN
CALSCALE:GREGORIAN
METHOD:PUBLISH
X-WR-CALNAME:Hobby Horsing Germany
X-ORIGINAL-URL:https://hobby-horsing-germany.de
X-WR-CALDESC:Veranstaltungen für Hobby Horsing Germany
REFRESH-INTERVAL;VALUE=DURATION:PT1H
X-Robots-Tag:noindex
X-PUBLISHED-TTL:PT1H
BEGIN:VTIMEZONE
TZID:Europe/Berlin
BEGIN:DAYLIGHT
TZOFFSETFROM:+0100
TZOFFSETTO:+0200
TZNAME:CEST
DTSTART:20240331T010000
END:DAYLIGHT
BEGIN:STANDARD
TZOFFSETFROM:+0200
TZOFFSETTO:+0100
TZNAME:CET
DTSTART:20241027T010000
END:STANDARD
BEGIN:DAYLIGHT
TZOFFSETFROM:+0100
TZOFFSETTO:+0200
TZNAME:CEST
DTSTART:20250330T010000
END:DAYLIGHT
BEGIN:STANDARD
TZOFFSETFROM:+0200
TZOFFSETTO:+0100
TZNAME:CET
DTSTART:20251026T010000
END:STANDARD
BEGIN:DAYLIGHT
TZOFFSETFROM:+0100
TZOFFSETTO:+0200
TZNAME:CEST
DTSTART:20260329T010000
END:DAYLIGHT
BEGIN:STANDARD
TZOFFSETFROM:+0200
TZOFFSETTO:+0100
TZNAME:CET
DTSTART:20261025T010000
END:STANDARD
END:VTIMEZONE
BEGIN:VEVENT
DTSTART;TZID=Europe/Berlin:20250503T110000
DTEND;TZID=Europe/Berlin:20250503T150000
DTSTAMP:20260420T010959
CREATED:20250506T223314Z
LAST-MODIFIED:20250506T223325Z
UID:2650-1746270000-1746284400@hobby-horsing-germany.de
SUMMARY:Hobby Horsing Workshop:
DESCRIPTION:Hobby Horsing Workshop beim FT1844 für Teilnehmer zwischen 9-16 Jahren. \n\n\n\nVeranstalter: Ft1844 | tanjakwiatkista@yahoo.comAnsprechpartner: Tanja Kwiatkista | Tel.: 0157/32006007Anmeldung per E-Mail an: tanjakwiatkista@yahoo.com \n\n\n\n\n\n\n\nLern-Inhalte: \n\n\n\n\nErarbeitung einer Kür\,\n\n\n\nWestern reiten\,\n\n\n\nSynchron springen.
URL:https://hobby-horsing-germany.de/event/hobby-horsing-workshop/
LOCATION:Ft1844\, Schwarzwaldstrasse 181\, Freiburg\, Baden-Württemberg\, 79117\, Germany
ORGANIZER;CN="Tanja Kwiatkista":MAILTO:tanjakwiatkista@yahoo.com
END:VEVENT
END:VCALENDAR