BEGIN:VCALENDAR
VERSION:2.0
PRODID:-//Hobby Horsing Germany - ECPv6.15.20//NONSGML v1.0//EN
CALSCALE:GREGORIAN
METHOD:PUBLISH
X-ORIGINAL-URL:https://hobby-horsing-germany.de
X-WR-CALDESC:Veranstaltungen für Hobby Horsing Germany
REFRESH-INTERVAL;VALUE=DURATION:PT1H
X-Robots-Tag:noindex
X-PUBLISHED-TTL:PT1H
BEGIN:VTIMEZONE
TZID:America/Los_Angeles
BEGIN:DAYLIGHT
TZOFFSETFROM:-0800
TZOFFSETTO:-0700
TZNAME:PDT
DTSTART:20240310T100000
END:DAYLIGHT
BEGIN:STANDARD
TZOFFSETFROM:-0700
TZOFFSETTO:-0800
TZNAME:PST
DTSTART:20241103T090000
END:STANDARD
BEGIN:DAYLIGHT
TZOFFSETFROM:-0800
TZOFFSETTO:-0700
TZNAME:PDT
DTSTART:20250309T100000
END:DAYLIGHT
BEGIN:STANDARD
TZOFFSETFROM:-0700
TZOFFSETTO:-0800
TZNAME:PST
DTSTART:20251102T090000
END:STANDARD
BEGIN:DAYLIGHT
TZOFFSETFROM:-0800
TZOFFSETTO:-0700
TZNAME:PDT
DTSTART:20260308T100000
END:DAYLIGHT
BEGIN:STANDARD
TZOFFSETFROM:-0700
TZOFFSETTO:-0800
TZNAME:PST
DTSTART:20261101T090000
END:STANDARD
END:VTIMEZONE
BEGIN:VEVENT
DTSTART;TZID=America/Los_Angeles:20250501T123000
DTEND;TZID=America/Los_Angeles:20250501T150000
DTSTAMP:20260420T022053
CREATED:20250318T141536Z
LAST-MODIFIED:20250430T122726Z
UID:1500-1746102600-1746111600@hobby-horsing-germany.de
SUMMARY:Hobby Horsing Turnier des RFV Neuenburg (Baden-Württemberg)
DESCRIPTION:Hobby Horsing Turnier beim Reit- und Fahrsportverein Neuenburg e.V. \n\n\n\nÖffentliches Hobby Horsing- Turnier für Teilnehmer ab 3 Jahren.Veranstalter: RuF Neuenburg e.V. | E-Mail: hobbyhorsing.neuenburg@gmail.comAnsprechpartner: Rebecca Hainz | Tel.: 01577/3071033Nennschluss: 22.04.2025 \n\n\n\nNennungen: NENNSCHLUSS \n\n\n\nZeiteinteilung: \n\n\n\n\n12:30 Uhr – Hobby Horsing Dressur\n\n\n\n13:30 Uhr – Hobby Horsing Zeitspringen\n\n\n\n\n>>Zeiteinteilung herunterladen>>Teilnehmerliste & Kopfnummern \n\n\n\n\n\n\n\nWettbewerbe: \n\n\n\n\nZeitspringen bis 20 cm – Unter 6 Jahre\n\n\n\nZeitspringen 30-40 cm – 7-9 Jahre\n\n\n\nZeitspringen 40-60 cm – 10-12 Jahre\n\n\n\nZeitspringen 60-80 cm – Ab 13 Jahre\n\n\n\nDressur leicht – Alle Altersklassen\n\n\n\n\n\n\n\n\nRückfragen sind bitte an den Veranstalter zu richten:Ansprechpartner: Rebecca Hainz | E-Mail: hobbyhorsing.neuenburg@gmail.com \n\n\n\n>>> Ausschreibung <<< \n\n\n\nNENNSCHLUSS – Es sind Leider keine Anmeldungen mehr möglich
URL:https://hobby-horsing-germany.de/event/hobby-horsing-turnier-des-rfv-neuenburg-baden-wuerttemberg/
LOCATION:Reit- und Fahrsportverein Neuenburg\, Rheinhafenstr. 1\, Neuenburg am Rhein\, Baden-Württemberg\, 79395\, Germany
CATEGORIES:Baden-Württemberg,Deutschland,Hobby Horse Veranstaltung,Öffentliches Hobby Horse Turnier
ATTACH;FMTTYPE=image/jpeg:https://hobby-horsing-germany.de/wp-content/uploads/2025/03/NB2024-RT-00061.jpg
END:VEVENT
END:VCALENDAR